{"text_format":"3","workbook":"xlsx","n_sheets":6,"sheets":["Labor & Overhead Input","Estimation Input","Materials Catalog Input","Chart 1 Estimate","Chart 2 Materials","Chart 3 Overhead"],"not_rendered":{"charts":12,"defined_names":10},"unopened":[{"sheet":"Chart 1 Estimate","index":3,"reason":"not_a_worksheet"},{"sheet":"Chart 2 Materials","index":4,"reason":"not_a_worksheet"},{"sheet":"Chart 3 Overhead","index":5,"reason":"not_a_worksheet"}],"read":"whole","date_system":"1900"}

{"sheet":"Labor & Overhead Input","index":0,"n_rows":18,"n_cols":9,"rows_kept":18,"merged":[[4,9,4,10],[5,9,5,10],[6,9,6,10],[9,9,9,10],[10,9,10,10],[11,9,11,10],[12,9,12,10],[13,9,13,10],[16,9,16,10],[20,4,20,5]]}
[null,"Labor & Overhead",{"$nulls":6},"\"Do-It-Yourself\" Estimation Worksheet"]
[{"$nulls":8},"a free estimation template for MS Excel from Thomas Insulation Corporation"]
[null,"Insulator Labor (per Hour)"]
[null,"Base Labor Rate","Additional Benefits","Other Benefits","Corporate Tax","Insurance","Overhead","Total Labor Rate"]
[null,{"v":15,"d":"$15.00"},{"v":5,"d":"$5.00"},{"v":2,"d":"$2.00"},{"$f":"$B$5*B13","v":{"v":1.7999999999999998,"d":"$1.80"}},{"$f":"$B$5*C13","v":{"v":1.9500000000000002,"d":"$1.95"}},{"$f":"$B$5*I9","v":{"v":3.42,"d":"$3.42"}},{"$f":"SUM(B5:G5)","v":{"v":29.17,"d":"$29.17"}}]
[]
[null,"Overhead (per Month)"]
[null,"Annual Sales","Non Labor Expenses","Clerical Salaries","Officer Salaries","Corporate Tax","Insurance","Overhead","Overhead Percent"]
[null,{"v":500000,"d":"$500,000"},{"v":2000,"d":"$2,000"},{"v":1200,"d":"$1,200"},{"v":4800,"d":"$4,800"},{"$f":"SUM(D9:E9)*B13","v":{"v":720,"d":"$720"}},{"$f":"SUM(D9:E9)*C13","v":{"v":780,"d":"$780"}},{"$f":"SUM(C9:G9)","v":{"v":9500,"d":"$9,500"}},{"$f":"IF(AND(H9>0, B9>0),PRODUCT((H9*12)/B9),0)","v":{"v":0.228,"d":"22.80%"}}]
[]
[null,"Financial Rates"]
[null,"Corporate Tax Rate","Insurance Rate"]
[null,{"v":0.12,"d":"12.00%"},{"v":0.13,"d":"13.00%"}]
[]
[null,"Optimized for Screen Resolution 2560 x 1440"]
[null,"Free Estimation Template for Excel"]
[null,"Copyright 2000-2011 Thomas Insulation Corporation"]
[null,"All Rights Reserved"]

{"sheet":"Estimation Input","index":1,"n_rows":84,"n_cols":24,"rows_kept":84,"merged":[[57,1,57,3],[58,1,58,3],[59,1,59,3],[60,1,60,3],[61,1,61,3],[62,1,62,3],[63,1,63,3],[64,1,64,3],[65,1,65,3],[72,13,72,17],[73,1,73,3],[74,13,74,17],[76,13,76,17]]}
[null,"Estimate",{"$nulls":21},"\"Do-It-Yourself\" Estimation Worksheet"]
[{"$nulls":23},"a free estimation template for MS Excel from Thomas Insulation Corporation"]
[null,"Pipe Covering",{"$nulls":8},"Fitting Covers"]
[null,"ID","Qty","Unit Price","Product","Unit Subtotal","Unit Labor","Total Labor","Total Price",null,"ID","Qty","Unit Price","Product","Unit Subtotal","Unit Labor","Total Labor","Total Price"]
[null,100,50,{"$f":"IF(ISBLANK(B5),0,VLOOKUP(B5,'Materials Catalog Input'!$B$5:$I$904,4,FALSE))","v":{"v":1.284,"d":"$1.28"}},{"$f":"IF(ISBLANK(B5),0,VLOOKUP(B5,'Materials Catalog Input'!$B$5:$I$904,2,FALSE))","v":" 1/2 x 1/2"},{"$f":"C5*D5","v":{"v":64.2,"d":"$64.20"}},{"$f":"IF(ISBLANK(B5),0,VLOOKUP(B5,'Materials Catalog Input'!$B$5:$I$904,6,FALSE))","v":{"v":1.1668,"d":"$1.17"}},{"$f":"G5*C5","v":{"v":58.34,"d":"$58.34"}},{"$f":"SUM(F5,H5)","v":{"v":122.54,"d":"$122.54"}},null,600,35,{"$f":"IF(ISBLANK(K5),0,VLOOKUP(K5,'Materials Catalog Input'!$B$5:$I$904,4,FALSE))","v":{"v":0.6336,"d":"$0.63"}},{"$f":"IF(ISBLANK(K5),0,VLOOKUP(K5,'Materials Catalog Input'!$B$5:$I$904,2,FALSE))","v":"Nr 2 45s PVC  "},{"$f":"L5*M5","v":{"v":22.176000000000002,"d":"$22.18"}},{"$f":"IF(ISBLANK(K5),0,VLOOKUP(K5,'Materials Catalog Input'!$B$5:$I$904,6,FALSE))","v":{"v":3.64625,"d":"$3.65"}},{"$f":"P5*L5","v":{"v":127.61875,"d":"$127.62"}},{"$f":"SUM(O5,Q5)","v":{"v":149.79475000000002,"d":"$149.79"}}]
[null,101,22,{"$f":"IF(ISBLANK(B6),0,VLOOKUP(B6,'Materials Catalog Input'!$B$5:$I$904,4,FALSE))","v":{"v":1.3248,"d":"$1.32"}},{"$f":"IF(ISBLANK(B6),0,VLOOKUP(B6,'Materials Catalog Input'!$B$5:$I$904,2,FALSE))","v":" 1/2 x 1"},{"v":29.145599999999998,"d":"$29.15"},{"$f":"IF(ISBLANK(B6),0,VLOOKUP(B6,'Materials Catalog Input'!$B$5:$I$904,6,FALSE))","v":{"v":0.8334285714285715,"d":"$0.83"}},{"$f":"G6*C6","v":{"v":18.335428571428572,"d":"$18.34"}},{"$f":"SUM(F6,H6)","v":{"v":47.48102857142857,"d":"$47.48"}},{"$nulls":3},{"$f":"IF(ISBLANK(K6),0,VLOOKUP(K6,'Materials Catalog Input'!$B$5:$I$904,4,FALSE))","v":{"v":0,"d":"$0.00"}},{"$f":"IF(ISBLANK(K6),0,VLOOKUP(K6,'Materials Catalog Input'!$B$5:$I$904,2,FALSE))","v":0},{"v":0,"d":"$0.00"},{"$f":"IF(ISBLANK(K6),0,VLOOKUP(K6,'Materials Catalog Input'!$B$5:$I$904,6,FALSE))","v":{"v":0,"d":"$0.00"}},{"$f":"P6*L6","v":{"v":0,"d":"$0.00"}},{"$f":"SUM(O6,Q6)","v":{"v":0,"d":"$0.00"}}]
[{"$nulls":3},{"$f":"IF(ISBLANK(B7),0,VLOOKUP(B7,'Materials Catalog Input'!$B$5:$I$904,4,FALSE))","v":{"v":0,"d":"$0.00"}},{"$f":"IF(ISBLANK(B7),0,VLOOKUP(B7,'Materials Catalog Input'!$B$5:$I$904,2,FALSE))","v":0},{"v":0,"d":"$0.00"},{"$f":"IF(ISBLANK(B7),0,VLOOKUP(B7,'Materials Catalog Input'!$B$5:$I$904,6,FALSE))","v":{"v":0,"d":"$0.00"}},{"v":0,"d":"$0.00"},{"v":0,"d":"$0.00"},{"$nulls":3},{"$f":"IF(ISBLANK(K7),0,VLOOKUP(K7,'Materials Catalog Input'!$B$5:$I$904,4,FALSE))","v":{"v":0,"d":"$0.00"}},{"$f":"IF(ISBLANK(K7),0,VLOOKUP(K7,'Materials Catalog Input'!$B$5:$I$904,2,FALSE))","v":0},{"v":0,"d":"$0.00"},{"$f":"IF(ISBLANK(K7),0,VLOOKUP(K7,'Materials Catalog Input'!$B$5:$I$904,6,FALSE))","v":{"v":0,"d":"$0.00"}},{"v":0,"d":"$0.00"},{"v":0,"d":"$0.00"}]
[{"$nulls":3},{"$f":"IF(ISBLANK(B8),0,VLOOKUP(B8,'Materials Catalog Input'!$B$5:$I$904,4,FALSE))","v":{"v":0,"d":"$0.00"}},{"$f":"IF(ISBLANK(B8),0,VLOOKUP(B8,'Materials Catalog Input'!$B$5:$I$904,2,FALSE))","v":0},{"v":0,"d":"$0.00"},{"$f":"IF(ISBLANK(B8),0,VLOOKUP(B8,'Materials Catalog Input'!$B$5:$I$904,6,FALSE))","v":{"v":0,"d":"$0.00"}},{"v":0,"d":"$0.00"},{"v":0,"d":"$0.00"},{"$nulls":3},{"$f":"IF(ISBLANK(K8),0,VLOOKUP(K8,'Materials Catalog Input'!$B$5:$I$904,4,FALSE))","v":{"v":0,"d":"$0.00"}},{"$f":"IF(ISBLANK(K8),0,VLOOKUP(K8,'Materials Catalog Input'!$B$5:$I$904,2,FALSE))","v":0},{"v":0,"d":"$0.00"},{"$f":"IF(ISBLANK(K8),0,VLOOKUP(K8,'Materials Catalog Input'!$B$5:$I$904,6,FALSE))","v":{"v":0,"d":"$0.00"}},{"v":0,"d":"$0.00"},{"v":0,"d":"$0.00"}]
[{"$nulls":3},{"$f":"IF(ISBLANK(B9),0,VLOOKUP(B9,'Materials Catalog Input'!$B$5:$I$904,4,FALSE))","v":{"v":0,"d":"$0.00"}},{"$f":"IF(ISBLANK(B9),0,VLOOKUP(B9,'Materials Catalog Input'!$B$5:$I$904,2,FALSE))","v":0},{"v":0,"d":"$0.00"},{"$f":"IF(ISBLANK(B9),0,VLOOKUP(B9,'Materials Catalog Input'!$B$5:$I$904,6,FALSE))","v":{"v":0,"d":"$0.00"}},{"v":0,"d":"$0.00"},{"v":0,"d":"$0.00"},{"$nulls":3},{"$f":"IF(ISBLANK(K9),0,VLOOKUP(K9,'Materials Catalog Input'!$B$5:$I$904,4,FALSE))","v":{"v":0,"d":"$0.00"}},{"$f":"IF(ISBLANK(K9),0,VLOOKUP(K9,'Materials Catalog Input'!$B$5:$I$904,2,FALSE))","v":0},{"v":0,"d":"$0.00"},{"$f":"IF(ISBLANK(K9),0,VLOOKUP(K9,'Materials Catalog Input'!$B$5:$I$904,6,FALSE))","v":{"v":0,"d":"$0.00"}},{"v":0,"d":"$0.00"},{"v":0,"d":"$0.00"}]
[{"$nulls":3},{"$f":"IF(ISBLANK(B10),0,VLOOKUP(B10,'Materials Catalog Input'!$B$5:$I$904,4,FALSE))","v":{"v":0,"d":"$0.00"}},{"$f":"IF(ISBLANK(B10),0,VLOOKUP(B10,'Materials Catalog Input'!$B$5:$I$904,2,FALSE))","v":0},{"v":0,"d":"$0.00"},{"$f":"IF(ISBLANK(B10),0,VLOOKUP(B10,'Materials Catalog Input'!$B$5:$I$904,6,FALSE))","v":{"v":0,"d":"$0.00"}},{"v":0,"d":"$0.00"},{"v":0,"d":"$0.00"},{"$nulls":3},{"$f":"IF(ISBLANK(K10),0,VLOOKUP(K10,'Materials Catalog Input'!$B$5:$I$904,4,FALSE))","v":{"v":0,"d":"$0.00"}},{"$f":"IF(ISBLANK(K10),0,VLOOKUP(K10,'Materials Catalog Input'!$B$5:$I$904,2,FALSE))","v":0},{"v":0,"d":"$0.00"},{"$f":"IF(ISBLANK(K10),0,VLOOKUP(K10,'Materials Catalog Input'!$B$5:$I$904,6,FALSE))","v":{"v":0,"d":"$0.00"}},{"v":0,"d":"$0.00"},{"v":0,"d":"$0.00"}]
[{"$nulls":3},{"$f":"IF(ISBLANK(B11),0,VLOOKUP(B11,'Materials Catalog Input'!$B$5:$I$904,4,FALSE))","v":{"v":0,"d":"$0.00"}},{"$f":"IF(ISBLANK(B11),0,VLOOKUP(B11,'Materials Catalog Input'!$B$5:$I$904,2,FALSE))","v":0},{"v":0,"d":"$0.00"},{"$f":"IF(ISBLANK(B11),0,VLOOKUP(B11,'Materials Catalog Input'!$B$5:$I$904,6,FALSE))","v":{"v":0,"d":"$0.00"}},{"v":0,"d":"$0.00"},{"v":0,"d":"$0.00"},{"$nulls":3},{"$f":"IF(ISBLANK(K11),0,VLOOKUP(K11,'Materials Catalog Input'!$B$5:$I$904,4,FALSE))","v":{"v":0,"d":"$0.00"}},{"$f":"IF(ISBLANK(K11),0,VLOOKUP(K11,'Materials Catalog Input'!$B$5:$I$904,2,FALSE))","v":0},{"v":0,"d":"$0.00"},{"$f":"IF(ISBLANK(K11),0,VLOOKUP(K11,'Materials Catalog Input'!$B$5:$I$904,6,FALSE))","v":{"v":0,"d":"$0.00"}},{"v":0,"d":"$0.00"},{"v":0,"d":"$0.00"}]
[{"$nulls":3},{"$f":"IF(ISBLANK(B12),0,VLOOKUP(B12,'Materials Catalog Input'!$B$5:$I$904,4,FALSE))","v":{"v":0,"d":"$0.00"}},{"$f":"IF(ISBLANK(B12),0,VLOOKUP(B12,'Materials Catalog Input'!$B$5:$I$904,2,FALSE))","v":0},{"v":0,"d":"$0.00"},{"$f":"IF(ISBLANK(B12),0,VLOOKUP(B12,'Materials Catalog Input'!$B$5:$I$904,6,FALSE))","v":{"v":0,"d":"$0.00"}},{"v":0,"d":"$0.00"},{"v":0,"d":"$0.00"},{"$nulls":3},{"$f":"IF(ISBLANK(K12),0,VLOOKUP(K12,'Materials Catalog Input'!$B$5:$I$904,4,FALSE))","v":{"v":0,"d":"$0.00"}},{"$f":"IF(ISBLANK(K12),0,VLOOKUP(K12,'Materials Catalog Input'!$B$5:$I$904,2,FALSE))","v":0},{"v":0,"d":"$0.00"},{"$f":"IF(ISBLANK(K12),0,VLOOKUP(K12,'Materials Catalog Input'!$B$5:$I$904,6,FALSE))","v":{"v":0,"d":"$0.00"}},{"v":0,"d":"$0.00"},{"v":0,"d":"$0.00"}]
[{"$nulls":3},{"$f":"IF(ISBLANK(B13),0,VLOOKUP(B13,'Materials Catalog Input'!$B$5:$I$904,4,FALSE))","v":{"v":0,"d":"$0.00"}},{"$f":"IF(ISBLANK(B13),0,VLOOKUP(B13,'Materials Catalog Input'!$B$5:$I$904,2,FALSE))","v":0},{"$f":"C13*D13","v":{"v":0,"d":"$0.00"}},{"$f":"IF(ISBLANK(B13),0,VLOOKUP(B13,'Materials Catalog Input'!$B$5:$I$904,6,FALSE))","v":{"v":0,"d":"$0.00"}},{"$f":"G13*C13","v":{"v":0,"d":"$0.00"}},{"$f":"SUM(F13,H13)","v":{"v":0,"d":"$0.00"}},{"$nulls":3},{"$f":"IF(ISBLANK(K13),0,VLOOKUP(K13,'Materials Catalog Input'!$B$5:$I$904,4,FALSE))","v":{"v":0,"d":"$0.00"}},{"$f":"IF(ISBLANK(K13),0,VLOOKUP(K13,'Materials Catalog Input'!$B$5:$I$904,2,FALSE))","v":0},{"$f":"L13*M13","v":{"v":0,"d":"$0.00"}},{"$f":"IF(ISBLANK(K13),0,VLOOKUP(K13,'Materials Catalog Input'!$B$5:$I$904,6,FALSE))","v":{"v":0,"d":"$0.00"}},{"$f":"P13*L13","v":{"v":0,"d":"$0.00"}},{"$f":"SUM(O13,Q13)","v":{"v":0,"d":"$0.00"}}]
[{"$nulls":3},{"$f":"IF(ISBLANK(B14),0,VLOOKUP(B14,'Materials Catalog Input'!$B$5:$I$904,4,FALSE))","v":{"v":0,"d":"$0.00"}},{"$f":"IF(ISBLANK(B14),0,VLOOKUP(B14,'Materials Catalog Input'!$B$5:$I$904,2,FALSE))","v":0},{"v":0,"d":"$0.00"},{"$f":"IF(ISBLANK(B14),0,VLOOKUP(B14,'Materials Catalog Input'!$B$5:$I$904,6,FALSE))","v":{"v":0,"d":"$0.00"}},{"v":0,"d":"$0.00"},{"v":0,"d":"$0.00"},{"$nulls":3},{"$f":"IF(ISBLANK(K14),0,VLOOKUP(K14,'Materials Catalog Input'!$B$5:$I$904,4,FALSE))","v":{"v":0,"d":"$0.00"}},{"$f":"IF(ISBLANK(K14),0,VLOOKUP(K14,'Materials Catalog Input'!$B$5:$I$904,2,FALSE))","v":0},{"v":0,"d":"$0.00"},{"$f":"IF(ISBLANK(K14),0,VLOOKUP(K14,'Materials Catalog Input'!$B$5:$I$904,6,FALSE))","v":{"v":0,"d":"$0.00"}},{"v":0,"d":"$0.00"},{"v":0,"d":"$0.00"}]
[{"$nulls":3},{"$f":"IF(ISBLANK(B15),0,VLOOKUP(B15,'Materials Catalog Input'!$B$5:$I$904,4,FALSE))","v":{"v":0,"d":"$0.00"}},{"$f":"IF(ISBLANK(B15),0,VLOOKUP(B15,'Materials Catalog Input'!$B$5:$I$904,2,FALSE))","v":0},{"v":0,"d":"$0.00"},{"$f":"IF(ISBLANK(B15),0,VLOOKUP(B15,'Materials Catalog Input'!$B$5:$I$904,6,FALSE))","v":{"v":0,"d":"$0.00"}},{"v":0,"d":"$0.00"},{"v":0,"d":"$0.00"},{"$nulls":3},{"$f":"IF(ISBLANK(K15),0,VLOOKUP(K15,'Materials Catalog Input'!$B$5:$I$904,4,FALSE))","v":{"v":0,"d":"$0.00"}},{"$f":"IF(ISBLANK(K15),0,VLOOKUP(K15,'Materials Catalog Input'!$B$5:$I$904,2,FALSE))","v":0},{"v":0,"d":"$0.00"},{"$f":"IF(ISBLANK(K15),0,VLOOKUP(K15,'Materials Catalog Input'!$B$5:$I$904,6,FALSE))","v":{"v":0,"d":"$0.00"}},{"v":0,"d":"$0.00"},{"v":0,"d":"$0.00"}]
[{"$nulls":3},{"$f":"IF(ISBLANK(B16),0,VLOOKUP(B16,'Materials Catalog Input'!$B$5:$I$904,4,FALSE))","v":{"v":0,"d":"$0.00"}},{"$f":"IF(ISBLANK(B16),0,VLOOKUP(B16,'Materials Catalog Input'!$B$5:$I$904,2,FALSE))","v":0},{"v":0,"d":"$0.00"},{"$f":"IF(ISBLANK(B16),0,VLOOKUP(B16,'Materials Catalog Input'!$B$5:$I$904,6,FALSE))","v":{"v":0,"d":"$0.00"}},{"v":0,"d":"$0.00"},{"v":0,"d":"$0.00"},{"$nulls":3},{"$f":"IF(ISBLANK(K16),0,VLOOKUP(K16,'Materials Catalog Input'!$B$5:$I$904,4,FALSE))","v":{"v":0,"d":"$0.00"}},{"$f":"IF(ISBLANK(K16),0,VLOOKUP(K16,'Materials Catalog Input'!$B$5:$I$904,2,FALSE))","v":0},{"v":0,"d":"$0.00"},{"$f":"IF(ISBLANK(K16),0,VLOOKUP(K16,'Materials Catalog Input'!$B$5:$I$904,6,FALSE))","v":{"v":0,"d":"$0.00"}},{"v":0,"d":"$0.00"},{"v":0,"d":"$0.00"}]
[{"$nulls":3},{"$f":"IF(ISBLANK(B17),0,VLOOKUP(B17,'Materials Catalog Input'!$B$5:$I$904,4,FALSE))","v":{"v":0,"d":"$0.00"}},{"$f":"IF(ISBLANK(B17),0,VLOOKUP(B17,'Materials Catalog Input'!$B$5:$I$904,2,FALSE))","v":0},{"v":0,"d":"$0.00"},{"$f":"IF(ISBLANK(B17),0,VLOOKUP(B17,'Materials Catalog Input'!$B$5:$I$904,6,FALSE))","v":{"v":0,"d":"$0.00"}},{"v":0,"d":"$0.00"},{"v":0,"d":"$0.00"},{"$nulls":3},{"$f":"IF(ISBLANK(K17),0,VLOOKUP(K17,'Materials Catalog Input'!$B$5:$I$904,4,FALSE))","v":{"v":0,"d":"$0.00"}},{"$f":"IF(ISBLANK(K17),0,VLOOKUP(K17,'Materials Catalog Input'!$B$5:$I$904,2,FALSE))","v":0},{"v":0,"d":"$0.00"},{"$f":"IF(ISBLANK(K17),0,VLOOKUP(K17,'Materials Catalog Input'!$B$5:$I$904,6,FALSE))","v":{"v":0,"d":"$0.00"}},{"v":0,"d":"$0.00"},{"v":0,"d":"$0.00"}]
[{"$nulls":3},{"$f":"IF(ISBLANK(B18),0,VLOOKUP(B18,'Materials Catalog Input'!$B$5:$I$904,4,FALSE))","v":{"v":0,"d":"$0.00"}},{"$f":"IF(ISBLANK(B18),0,VLOOKUP(B18,'Materials Catalog Input'!$B$5:$I$904,2,FALSE))","v":0},{"v":0,"d":"$0.00"},{"$f":"IF(ISBLANK(B18),0,VLOOKUP(B18,'Materials Catalog Input'!$B$5:$I$904,6,FALSE))","v":{"v":0,"d":"$0.00"}},{"v":0,"d":"$0.00"},{"v":0,"d":"$0.00"},{"$nulls":3},{"$f":"IF(ISBLANK(K18),0,VLOOKUP(K18,'Materials Catalog Input'!$B$5:$I$904,4,FALSE))","v":{"v":0,"d":"$0.00"}},{"$f":"IF(ISBLANK(K18),0,VLOOKUP(K18,'Materials Catalog Input'!$B$5:$I$904,2,FALSE))","v":0},{"v":0,"d":"$0.00"},{"$f":"IF(ISBLANK(K18),0,VLOOKUP(K18,'Materials Catalog Input'!$B$5:$I$904,6,FALSE))","v":{"v":0,"d":"$0.00"}},{"v":0,"d":"$0.00"},{"v":0,"d":"$0.00"}]
[{"$nulls":3},{"$f":"IF(ISBLANK(B19),0,VLOOKUP(B19,'Materials Catalog Input'!$B$5:$I$904,4,FALSE))","v":{"v":0,"d":"$0.00"}},{"$f":"IF(ISBLANK(B19),0,VLOOKUP(B19,'Materials Catalog Input'!$B$5:$I$904,2,FALSE))","v":0},{"v":0,"d":"$0.00"},{"$f":"IF(ISBLANK(B19),0,VLOOKUP(B19,'Materials Catalog Input'!$B$5:$I$904,6,FALSE))","v":{"v":0,"d":"$0.00"}},{"v":0,"d":"$0.00"},{"v":0,"d":"$0.00"},{"$nulls":3},{"$f":"IF(ISBLANK(K19),0,VLOOKUP(K19,'Materials Catalog Input'!$B$5:$I$904,4,FALSE))","v":{"v":0,"d":"$0.00"}},{"$f":"IF(ISBLANK(K19),0,VLOOKUP(K19,'Materials Catalog Input'!$B$5:$I$904,2,FALSE))","v":0},{"v":0,"d":"$0.00"},{"$f":"IF(ISBLANK(K19),0,VLOOKUP(K19,'Materials Catalog Input'!$B$5:$I$904,6,FALSE))","v":{"v":0,"d":"$0.00"}},{"v":0,"d":"$0.00"},{"v":0,"d":"$0.00"}]
[{"$nulls":3},{"$f":"IF(ISBLANK(B20),0,VLOOKUP(B20,'Materials Catalog Input'!$B$5:$I$904,4,FALSE))","v":{"v":0,"d":"$0.00"}},{"$f":"IF(ISBLANK(B20),0,VLOOKUP(B20,'Materials Catalog Input'!$B$5:$I$904,2,FALSE))","v":0},{"v":0,"d":"$0.00"},{"$f":"IF(ISBLANK(B20),0,VLOOKUP(B20,'Materials Catalog Input'!$B$5:$I$904,6,FALSE))","v":{"v":0,"d":"$0.00"}},{"v":0,"d":"$0.00"},{"v":0,"d":"$0.00"},{"$nulls":3},{"$f":"IF(ISBLANK(K20),0,VLOOKUP(K20,'Materials Catalog Input'!$B$5:$I$904,4,FALSE))","v":{"v":0,"d":"$0.00"}},{"$f":"IF(ISBLANK(K20),0,VLOOKUP(K20,'Materials Catalog Input'!$B$5:$I$904,2,FALSE))","v":0},{"v":0,"d":"$0.00"},{"$f":"IF(ISBLANK(K20),0,VLOOKUP(K20,'Materials Catalog Input'!$B$5:$I$904,6,FALSE))","v":{"v":0,"d":"$0.00"}},{"v":0,"d":"$0.00"},{"v":0,"d":"$0.00"}]
[{"$nulls":3},{"$f":"IF(ISBLANK(B21),0,VLOOKUP(B21,'Materials Catalog Input'!$B$5:$I$904,4,FALSE))","v":{"v":0,"d":"$0.00"}},{"$f":"IF(ISBLANK(B21),0,VLOOKUP(B21,'Materials Catalog Input'!$B$5:$I$904,2,FALSE))","v":0},{"v":0,"d":"$0.00"},{"$f":"IF(ISBLANK(B21),0,VLOOKUP(B21,'Materials Catalog Input'!$B$5:$I$904,6,FALSE))","v":{"v":0,"d":"$0.00"}},{"v":0,"d":"$0.00"},{"v":0,"d":"$0.00"},{"$nulls":3},{"$f":"IF(ISBLANK(K21),0,VLOOKUP(K21,'Materials Catalog Input'!$B$5:$I$904,4,FALSE))","v":{"v":0,"d":"$0.00"}},{"$f":"IF(ISBLANK(K21),0,VLOOKUP(K21,'Materials Catalog Input'!$B$5:$I$904,2,FALSE))","v":0},{"v":0,"d":"$0.00"},{"$f":"IF(ISBLANK(K21),0,VLOOKUP(K21,'Materials Catalog Input'!$B$5:$I$904,6,FALSE))","v":{"v":0,"d":"$0.00"}},{"v":0,"d":"$0.00"},{"v":0,"d":"$0.00"}]
[{"$nulls":3},{"$f":"IF(ISBLANK(B22),0,VLOOKUP(B22,'Materials Catalog Input'!$B$5:$I$904,4,FALSE))","v":{"v":0,"d":"$0.00"}},{"$f":"IF(ISBLANK(B22),0,VLOOKUP(B22,'Materials Catalog Input'!$B$5:$I$904,2,FALSE))","v":0},{"v":0,"d":"$0.00"},{"$f":"IF(ISBLANK(B22),0,VLOOKUP(B22,'Materials Catalog Input'!$B$5:$I$904,6,FALSE))","v":{"v":0,"d":"$0.00"}},{"v":0,"d":"$0.00"},{"v":0,"d":"$0.00"},{"$nulls":3},{"$f":"IF(ISBLANK(K22),0,VLOOKUP(K22,'Materials Catalog Input'!$B$5:$I$904,4,FALSE))","v":{"v":0,"d":"$0.00"}},{"$f":"IF(ISBLANK(K22),0,VLOOKUP(K22,'Materials Catalog Input'!$B$5:$I$904,2,FALSE))","v":0},{"v":0,"d":"$0.00"},{"$f":"IF(ISBLANK(K22),0,VLOOKUP(K22,'Materials Catalog Input'!$B$5:$I$904,6,FALSE))","v":{"v":0,"d":"$0.00"}},{"v":0,"d":"$0.00"},{"v":0,"d":"$0.00"}]
[{"$nulls":3},{"$f":"IF(ISBLANK(B23),0,VLOOKUP(B23,'Materials Catalog Input'!$B$5:$I$904,4,FALSE))","v":{"v":0,"d":"$0.00"}},{"$f":"IF(ISBLANK(B23),0,VLOOKUP(B23,'Materials Catalog Input'!$B$5:$I$904,2,FALSE))","v":0},{"v":0,"d":"$0.00"},{"$f":"IF(ISBLANK(B23),0,VLOOKUP(B23,'Materials Catalog Input'!$B$5:$I$904,6,FALSE))","v":{"v":0,"d":"$0.00"}},{"v":0,"d":"$0.00"},{"v":0,"d":"$0.00"},{"$nulls":3},{"$f":"IF(ISBLANK(K23),0,VLOOKUP(K23,'Materials Catalog Input'!$B$5:$I$904,4,FALSE))","v":{"v":0,"d":"$0.00"}},{"$f":"IF(ISBLANK(K23),0,VLOOKUP(K23,'Materials Catalog Input'!$B$5:$I$904,2,FALSE))","v":0},{"v":0,"d":"$0.00"},{"$f":"IF(ISBLANK(K23),0,VLOOKUP(K23,'Materials Catalog Input'!$B$5:$I$904,6,FALSE))","v":{"v":0,"d":"$0.00"}},{"v":0,"d":"$0.00"},{"v":0,"d":"$0.00"}]
[{"$nulls":3},{"$f":"IF(ISBLANK(B24),0,VLOOKUP(B24,'Materials Catalog Input'!$B$5:$I$904,4,FALSE))","v":{"v":0,"d":"$0.00"}},{"$f":"IF(ISBLANK(B24),0,VLOOKUP(B24,'Materials Catalog Input'!$B$5:$I$904,2,FALSE))","v":0},{"v":0,"d":"$0.00"},{"$f":"IF(ISBLANK(B24),0,VLOOKUP(B24,'Materials Catalog Input'!$B$5:$I$904,6,FALSE))","v":{"v":0,"d":"$0.00"}},{"v":0,"d":"$0.00"},{"v":0,"d":"$0.00"},{"$nulls":3},{"$f":"IF(ISBLANK(K24),0,VLOOKUP(K24,'Materials Catalog Input'!$B$5:$I$904,4,FALSE))","v":{"v":0,"d":"$0.00"}},{"$f":"IF(ISBLANK(K24),0,VLOOKUP(K24,'Materials Catalog Input'!$B$5:$I$904,2,FALSE))","v":0},{"v":0,"d":"$0.00"},{"$f":"IF(ISBLANK(K24),0,VLOOKUP(K24,'Materials Catalog Input'!$B$5:$I$904,6,FALSE))","v":{"v":0,"d":"$0.00"}},{"v":0,"d":"$0.00"},{"v":0,"d":"$0.00"}]
[{"$nulls":3},{"$f":"IF(ISBLANK(B25),0,VLOOKUP(B25,'Materials Catalog Input'!$B$5:$I$904,4,FALSE))","v":{"v":0,"d":"$0.00"}},{"$f":"IF(ISBLANK(B25),0,VLOOKUP(B25,'Materials Catalog Input'!$B$5:$I$904,2,FALSE))","v":0},{"v":0,"d":"$0.00"},{"$f":"IF(ISBLANK(B25),0,VLOOKUP(B25,'Materials Catalog Input'!$B$5:$I$904,6,FALSE))","v":{"v":0,"d":"$0.00"}},{"v":0,"d":"$0.00"},{"v":0,"d":"$0.00"},{"$nulls":3},{"$f":"IF(ISBLANK(K25),0,VLOOKUP(K25,'Materials Catalog Input'!$B$5:$I$904,4,FALSE))","v":{"v":0,"d":"$0.00"}},{"$f":"IF(ISBLANK(K25),0,VLOOKUP(K25,'Materials Catalog Input'!$B$5:$I$904,2,FALSE))","v":0},{"v":0,"d":"$0.00"},{"$f":"IF(ISBLANK(K25),0,VLOOKUP(K25,'Materials Catalog Input'!$B$5:$I$904,6,FALSE))","v":{"v":0,"d":"$0.00"}},{"v":0,"d":"$0.00"},{"v":0,"d":"$0.00"}]
[{"$nulls":3},{"$f":"IF(ISBLANK(B26),0,VLOOKUP(B26,'Materials Catalog Input'!$B$5:$I$904,4,FALSE))","v":{"v":0,"d":"$0.00"}},{"$f":"IF(ISBLANK(B26),0,VLOOKUP(B26,'Materials Catalog Input'!$B$5:$I$904,2,FALSE))","v":0},{"v":0,"d":"$0.00"},{"$f":"IF(ISBLANK(B26),0,VLOOKUP(B26,'Materials Catalog Input'!$B$5:$I$904,6,FALSE))","v":{"v":0,"d":"$0.00"}},{"v":0,"d":"$0.00"},{"v":0,"d":"$0.00"},{"$nulls":3},{"$f":"IF(ISBLANK(K26),0,VLOOKUP(K26,'Materials Catalog Input'!$B$5:$I$904,4,FALSE))","v":{"v":0,"d":"$0.00"}},{"$f":"IF(ISBLANK(K26),0,VLOOKUP(K26,'Materials Catalog Input'!$B$5:$I$904,2,FALSE))","v":0},{"v":0,"d":"$0.00"},{"$f":"IF(ISBLANK(K26),0,VLOOKUP(K26,'Materials Catalog Input'!$B$5:$I$904,6,FALSE))","v":{"v":0,"d":"$0.00"}},{"v":0,"d":"$0.00"},{"v":0,"d":"$0.00"}]
[{"$nulls":3},{"$f":"IF(ISBLANK(B27),0,VLOOKUP(B27,'Materials Catalog Input'!$B$5:$I$904,4,FALSE))","v":{"v":0,"d":"$0.00"}},{"$f":"IF(ISBLANK(B27),0,VLOOKUP(B27,'Materials Catalog Input'!$B$5:$I$904,2,FALSE))","v":0},{"v":0,"d":"$0.00"},{"$f":"IF(ISBLANK(B27),0,VLOOKUP(B27,'Materials Catalog Input'!$B$5:$I$904,6,FALSE))","v":{"v":0,"d":"$0.00"}},{"v":0,"d":"$0.00"},{"v":0,"d":"$0.00"},{"$nulls":3},{"$f":"IF(ISBLANK(K27),0,VLOOKUP(K27,'Materials Catalog Input'!$B$5:$I$904,4,FALSE))","v":{"v":0,"d":"$0.00"}},{"$f":"IF(ISBLANK(K27),0,VLOOKUP(K27,'Materials Catalog Input'!$B$5:$I$904,2,FALSE))","v":0},{"v":0,"d":"$0.00"},{"$f":"IF(ISBLANK(K27),0,VLOOKUP(K27,'Materials Catalog Input'!$B$5:$I$904,6,FALSE))","v":{"v":0,"d":"$0.00"}},{"v":0,"d":"$0.00"},{"v":0,"d":"$0.00"}]
[{"$nulls":3},{"$f":"IF(ISBLANK(B28),0,VLOOKUP(B28,'Materials Catalog Input'!$B$5:$I$904,4,FALSE))","v":{"v":0,"d":"$0.00"}},{"$f":"IF(ISBLANK(B28),0,VLOOKUP(B28,'Materials Catalog Input'!$B$5:$I$904,2,FALSE))","v":0},{"v":0,"d":"$0.00"},{"$f":"IF(ISBLANK(B28),0,VLOOKUP(B28,'Materials Catalog Input'!$B$5:$I$904,6,FALSE))","v":{"v":0,"d":"$0.00"}},{"v":0,"d":"$0.00"},{"v":0,"d":"$0.00"},{"$nulls":3},{"$f":"IF(ISBLANK(K28),0,VLOOKUP(K28,'Materials Catalog Input'!$B$5:$I$904,4,FALSE))","v":{"v":0,"d":"$0.00"}},{"$f":"IF(ISBLANK(K28),0,VLOOKUP(K28,'Materials Catalog Input'!$B$5:$I$904,2,FALSE))","v":0},{"v":0,"d":"$0.00"},{"$f":"IF(ISBLANK(K28),0,VLOOKUP(K28,'Materials Catalog Input'!$B$5:$I$904,6,FALSE))","v":{"v":0,"d":"$0.00"}},{"v":0,"d":"$0.00"},{"v":0,"d":"$0.00"}]
[{"$nulls":3},{"$f":"IF(ISBLANK(B29),0,VLOOKUP(B29,'Materials Catalog Input'!$B$5:$I$904,4,FALSE))","v":{"v":0,"d":"$0.00"}},{"$f":"IF(ISBLANK(B29),0,VLOOKUP(B29,'Materials Catalog Input'!$B$5:$I$904,2,FALSE))","v":0},{"v":0,"d":"$0.00"},{"$f":"IF(ISBLANK(B29),0,VLOOKUP(B29,'Materials Catalog Input'!$B$5:$I$904,6,FALSE))","v":{"v":0,"d":"$0.00"}},{"v":0,"d":"$0.00"},{"v":0,"d":"$0.00"},{"$nulls":3},{"$f":"IF(ISBLANK(K29),0,VLOOKUP(K29,'Materials Catalog Input'!$B$5:$I$904,4,FALSE))","v":{"v":0,"d":"$0.00"}},{"$f":"IF(ISBLANK(K29),0,VLOOKUP(K29,'Materials Catalog Input'!$B$5:$I$904,2,FALSE))","v":0},{"v":0,"d":"$0.00"},{"$f":"IF(ISBLANK(K29),0,VLOOKUP(K29,'Materials Catalog Input'!$B$5:$I$904,6,FALSE))","v":{"v":0,"d":"$0.00"}},{"v":0,"d":"$0.00"},{"v":0,"d":"$0.00"}]
[{"$nulls":3},{"$f":"IF(ISBLANK(B30),0,VLOOKUP(B30,'Materials Catalog Input'!$B$5:$I$904,4,FALSE))","v":{"v":0,"d":"$0.00"}},{"$f":"IF(ISBLANK(B30),0,VLOOKUP(B30,'Materials Catalog Input'!$B$5:$I$904,2,FALSE))","v":0},{"v":0,"d":"$0.00"},{"$f":"IF(ISBLANK(B30),0,VLOOKUP(B30,'Materials Catalog Input'!$B$5:$I$904,6,FALSE))","v":{"v":0,"d":"$0.00"}},{"v":0,"d":"$0.00"},{"v":0,"d":"$0.00"},{"$nulls":3},{"$f":"IF(ISBLANK(K30),0,VLOOKUP(K30,'Materials Catalog Input'!$B$5:$I$904,4,FALSE))","v":{"v":0,"d":"$0.00"}},{"$f":"IF(ISBLANK(K30),0,VLOOKUP(K30,'Materials Catalog Input'!$B$5:$I$904,2,FALSE))","v":0},{"v":0,"d":"$0.00"},{"$f":"IF(ISBLANK(K30),0,VLOOKUP(K30,'Materials Catalog Input'!$B$5:$I$904,6,FALSE))","v":{"v":0,"d":"$0.00"}},{"v":0,"d":"$0.00"},{"v":0,"d":"$0.00"}]
[{"$nulls":3},{"$f":"IF(ISBLANK(B31),0,VLOOKUP(B31,'Materials Catalog Input'!$B$5:$I$904,4,FALSE))","v":{"v":0,"d":"$0.00"}},{"$f":"IF(ISBLANK(B31),0,VLOOKUP(B31,'Materials Catalog Input'!$B$5:$I$904,2,FALSE))","v":0},{"v":0,"d":"$0.00"},{"$f":"IF(ISBLANK(B31),0,VLOOKUP(B31,'Materials Catalog Input'!$B$5:$I$904,6,FALSE))","v":{"v":0,"d":"$0.00"}},{"v":0,"d":"$0.00"},{"v":0,"d":"$0.00"},{"$nulls":3},{"$f":"IF(ISBLANK(K31),0,VLOOKUP(K31,'Materials Catalog Input'!$B$5:$I$904,4,FALSE))","v":{"v":0,"d":"$0.00"}},{"$f":"IF(ISBLANK(K31),0,VLOOKUP(K31,'Materials Catalog Input'!$B$5:$I$904,2,FALSE))","v":0},{"v":0,"d":"$0.00"},{"$f":"IF(ISBLANK(K31),0,VLOOKUP(K31,'Materials Catalog Input'!$B$5:$I$904,6,FALSE))","v":{"v":0,"d":"$0.00"}},{"v":0,"d":"$0.00"},{"v":0,"d":"$0.00"}]
[{"$nulls":3},{"$f":"IF(ISBLANK(B32),0,VLOOKUP(B32,'Materials Catalog Input'!$B$5:$I$904,4,FALSE))","v":{"v":0,"d":"$0.00"}},{"$f":"IF(ISBLANK(B32),0,VLOOKUP(B32,'Materials Catalog Input'!$B$5:$I$904,2,FALSE))","v":0},{"v":0,"d":"$0.00"},{"$f":"IF(ISBLANK(B32),0,VLOOKUP(B32,'Materials Catalog Input'!$B$5:$I$904,6,FALSE))","v":{"v":0,"d":"$0.00"}},{"v":0,"d":"$0.00"},{"v":0,"d":"$0.00"},{"$nulls":3},{"$f":"IF(ISBLANK(K32),0,VLOOKUP(K32,'Materials Catalog Input'!$B$5:$I$904,4,FALSE))","v":{"v":0,"d":"$0.00"}},{"$f":"IF(ISBLANK(K32),0,VLOOKUP(K32,'Materials Catalog Input'!$B$5:$I$904,2,FALSE))","v":0},{"v":0,"d":"$0.00"},{"$f":"IF(ISBLANK(K32),0,VLOOKUP(K32,'Materials Catalog Input'!$B$5:$I$904,6,FALSE))","v":{"v":0,"d":"$0.00"}},{"v":0,"d":"$0.00"},{"v":0,"d":"$0.00"}]
[{"$nulls":4},"Pipe Covering Totals",{"$f":"SUM(F5:F32)","v":{"v":93.3456,"d":"$93.35"}},{"$f":"SUM(G5:G32)","v":{"v":2.0002285714285715,"d":"$2.00"}},{"$f":"SUM(H5:H32)","v":{"v":76.67542857142857,"d":"$76.68"}},{"$f":"SUM(I5:I32)","v":{"v":170.0210285714286,"d":"$170.02"}},{"$nulls":4},"Fitting Cover Totals",{"$f":"SUM(O5:O32)","v":{"v":22.176000000000002,"d":"$22.18"}},{"$f":"SUM(P5:P32)","v":{"v":3.64625,"d":"$3.65"}},{"$f":"SUM(Q5:Q32)","v":{"v":127.61875,"d":"$127.62"}},{"$f":"SUM(R5:R32)","v":{"v":149.79475000000002,"d":"$149.79"}}]
[]
[null,"Duct Wrap",{"$nulls":8},"Additional Materials & Equipment"]
[null,"ID","Qty","Unit Price","Product","Unit Subtotal","Unit Labor","Total Labor","Total Price",null,"ID","Qty","Unit Price","Product","Unit Subtotal","Unit Labor","Total Labor","Total Price"]
[null,268,200,{"$f":"IF(ISBLANK(B37),0,VLOOKUP(B37,'Materials Catalog Input'!$B$5:$I$904,4,FALSE))","v":{"v":0.24,"d":"$0.24"}},{"$f":"IF(ISBLANK(B37),0,VLOOKUP(B37,'Materials Catalog Input'!$B$5:$I$904,2,FALSE))","v":"Duct Wrap 1-1/2\""},{"$f":"C37*D37","v":{"v":48,"d":"$48.00"}},{"$f":"IF(ISBLANK(B37),0,VLOOKUP(B37,'Materials Catalog Input'!$B$5:$I$904,6,FALSE))","v":{"v":0.5834,"d":"$0.58"}},{"$f":"G37*C37","v":{"v":116.68,"d":"$116.68"}},{"$f":"SUM(F37,H37)","v":{"v":164.68,"d":"$164.68"}},null,500,200,{"$f":"IF(ISBLANK(K37),0,VLOOKUP(K37,'Materials Catalog Input'!$B$5:$I$904,4,FALSE))","v":{"v":0.8207999999999999,"d":"$0.82"}},{"$f":"IF(ISBLANK(K37),0,VLOOKUP(K37,'Materials Catalog Input'!$B$5:$I$904,2,FALSE))","v":"1.5 OD - 24 GA x 8 in "},{"$f":"L37*M37","v":{"v":164.15999999999997,"d":"$164.16"}},{"$f":"IF(ISBLANK(K37),0,VLOOKUP(K37,'Materials Catalog Input'!$B$5:$I$904,6,FALSE))","v":{"v":3.64625,"d":"$3.65"}},{"$f":"P37*L37","v":{"v":729.25,"d":"$729.25"}},{"$f":"SUM(O37,Q37)","v":{"v":893.41,"d":"$893.41"}}]
[null,269,10,{"$f":"IF(ISBLANK(B38),0,VLOOKUP(B38,'Materials Catalog Input'!$B$5:$I$904,4,FALSE))","v":{"v":0.3,"d":"$0.30"}},{"$f":"IF(ISBLANK(B38),0,VLOOKUP(B38,'Materials Catalog Input'!$B$5:$I$904,2,FALSE))","v":"Duct Wrap 2\""},{"$f":"C38*D38","v":{"v":3,"d":"$3.00"}},{"$f":"IF(ISBLANK(B38),0,VLOOKUP(B38,'Materials Catalog Input'!$B$5:$I$904,6,FALSE))","v":{"v":0.5834,"d":"$0.58"}},{"$f":"G38*C38","v":{"v":5.8340000000000005,"d":"$5.83"}},{"$f":"SUM(F38,H38)","v":{"v":8.834,"d":"$8.83"}},null,501,10,{"$f":"IF(ISBLANK(K38),0,VLOOKUP(K38,'Materials Catalog Input'!$B$5:$I$904,4,FALSE))","v":{"v":0.8207999999999999,"d":"$0.82"}},{"$f":"IF(ISBLANK(K38),0,VLOOKUP(K38,'Materials Catalog Input'!$B$5:$I$904,2,FALSE))","v":"2.0 OD - 22 GA x 8 in "},{"$f":"L38*M38","v":{"v":8.207999999999998,"d":"$8.21"}},{"$f":"IF(ISBLANK(K38),0,VLOOKUP(K38,'Materials Catalog Input'!$B$5:$I$904,6,FALSE))","v":{"v":3.64625,"d":"$3.65"}},{"$f":"P38*L38","v":{"v":36.462500000000006,"d":"$36.46"}},{"$f":"SUM(O38,Q38)","v":{"v":44.670500000000004,"d":"$44.67"}}]
[{"$nulls":3},{"$f":"IF(ISBLANK(B39),0,VLOOKUP(B39,'Materials Catalog Input'!$B$5:$I$904,4,FALSE))","v":{"v":0,"d":"$0.00"}},{"$f":"IF(ISBLANK(B39),0,VLOOKUP(B39,'Materials Catalog Input'!$B$5:$I$904,2,FALSE))","v":0},{"v":0,"d":"$0.00"},{"$f":"IF(ISBLANK(B39),0,VLOOKUP(B39,'Materials Catalog Input'!$B$5:$I$904,6,FALSE))","v":{"v":0,"d":"$0.00"}},{"v":0,"d":"$0.00"},{"v":0,"d":"$0.00"},{"$nulls":3},{"$f":"IF(ISBLANK(K39),0,VLOOKUP(K39,'Materials Catalog Input'!$B$5:$I$904,4,FALSE))","v":{"v":0,"d":"$0.00"}},{"$f":"IF(ISBLANK(K39),0,VLOOKUP(K39,'Materials Catalog Input'!$B$5:$I$904,2,FALSE))","v":0},{"v":0,"d":"$0.00"},{"$f":"IF(ISBLANK(K39),0,VLOOKUP(K39,'Materials Catalog Input'!$B$5:$I$904,6,FALSE))","v":{"v":0,"d":"$0.00"}},{"v":0,"d":"$0.00"},{"v":0,"d":"$0.00"}]
[{"$nulls":3},{"$f":"IF(ISBLANK(B40),0,VLOOKUP(B40,'Materials Catalog Input'!$B$5:$I$904,4,FALSE))","v":{"v":0,"d":"$0.00"}},{"$f":"IF(ISBLANK(B40),0,VLOOKUP(B40,'Materials Catalog Input'!$B$5:$I$904,2,FALSE))","v":0},{"v":0,"d":"$0.00"},{"$f":"IF(ISBLANK(B40),0,VLOOKUP(B40,'Materials Catalog Input'!$B$5:$I$904,6,FALSE))","v":{"v":0,"d":"$0.00"}},{"v":0,"d":"$0.00"},{"v":0,"d":"$0.00"},{"$nulls":3},{"$f":"IF(ISBLANK(K40),0,VLOOKUP(K40,'Materials Catalog Input'!$B$5:$I$904,4,FALSE))","v":{"v":0,"d":"$0.00"}},{"$f":"IF(ISBLANK(K40),0,VLOOKUP(K40,'Materials Catalog Input'!$B$5:$I$904,2,FALSE))","v":0},{"v":0,"d":"$0.00"},{"$f":"IF(ISBLANK(K40),0,VLOOKUP(K40,'Materials Catalog Input'!$B$5:$I$904,6,FALSE))","v":{"v":0,"d":"$0.00"}},{"v":0,"d":"$0.00"},{"v":0,"d":"$0.00"}]
[{"$nulls":3},{"$f":"IF(ISBLANK(B41),0,VLOOKUP(B41,'Materials Catalog Input'!$B$5:$I$904,4,FALSE))","v":{"v":0,"d":"$0.00"}},{"$f":"IF(ISBLANK(B41),0,VLOOKUP(B41,'Materials Catalog Input'!$B$5:$I$904,2,FALSE))","v":0},{"v":0,"d":"$0.00"},{"$f":"IF(ISBLANK(B41),0,VLOOKUP(B41,'Materials Catalog Input'!$B$5:$I$904,6,FALSE))","v":{"v":0,"d":"$0.00"}},{"v":0,"d":"$0.00"},{"v":0,"d":"$0.00"},{"$nulls":3},{"$f":"IF(ISBLANK(K41),0,VLOOKUP(K41,'Materials Catalog Input'!$B$5:$I$904,4,FALSE))","v":{"v":0,"d":"$0.00"}},{"$f":"IF(ISBLANK(K41),0,VLOOKUP(K41,'Materials Catalog Input'!$B$5:$I$904,2,FALSE))","v":0},{"v":0,"d":"$0.00"},{"$f":"IF(ISBLANK(K41),0,VLOOKUP(K41,'Materials Catalog Input'!$B$5:$I$904,6,FALSE))","v":{"v":0,"d":"$0.00"}},{"v":0,"d":"$0.00"},{"v":0,"d":"$0.00"}]
[{"$nulls":3},{"$f":"IF(ISBLANK(B42),0,VLOOKUP(B42,'Materials Catalog Input'!$B$5:$I$904,4,FALSE))","v":{"v":0,"d":"$0.00"}},{"$f":"IF(ISBLANK(B42),0,VLOOKUP(B42,'Materials Catalog Input'!$B$5:$I$904,2,FALSE))","v":0},{"$f":"C42*D42","v":{"v":0,"d":"$0.00"}},{"$f":"IF(ISBLANK(B42),0,VLOOKUP(B42,'Materials Catalog Input'!$B$5:$I$904,6,FALSE))","v":{"v":0,"d":"$0.00"}},{"$f":"G42*C42","v":{"v":0,"d":"$0.00"}},{"v":0,"d":"$0.00"},{"$nulls":3},{"$f":"IF(ISBLANK(K42),0,VLOOKUP(K42,'Materials Catalog Input'!$B$5:$I$904,4,FALSE))","v":{"v":0,"d":"$0.00"}},{"$f":"IF(ISBLANK(K42),0,VLOOKUP(K42,'Materials Catalog Input'!$B$5:$I$904,2,FALSE))","v":0},{"$f":"L42*M42","v":{"v":0,"d":"$0.00"}},{"$f":"IF(ISBLANK(K42),0,VLOOKUP(K42,'Materials Catalog Input'!$B$5:$I$904,6,FALSE))","v":{"v":0,"d":"$0.00"}},{"$f":"P42*L42","v":{"v":0,"d":"$0.00"}},{"v":0,"d":"$0.00"}]
[{"$nulls":3},{"$f":"IF(ISBLANK(B43),0,VLOOKUP(B43,'Materials Catalog Input'!$B$5:$I$904,4,FALSE))","v":{"v":0,"d":"$0.00"}},{"$f":"IF(ISBLANK(B43),0,VLOOKUP(B43,'Materials Catalog Input'!$B$5:$I$904,2,FALSE))","v":0},{"$f":"C43*D43","v":{"v":0,"d":"$0.00"}},{"$f":"IF(ISBLANK(B43),0,VLOOKUP(B43,'Materials Catalog Input'!$B$5:$I$904,6,FALSE))","v":{"v":0,"d":"$0.00"}},{"$f":"G43*C43","v":{"v":0,"d":"$0.00"}},{"v":0,"d":"$0.00"},{"$nulls":3},{"$f":"IF(ISBLANK(K43),0,VLOOKUP(K43,'Materials Catalog Input'!$B$5:$I$904,4,FALSE))","v":{"v":0,"d":"$0.00"}},{"$f":"IF(ISBLANK(K43),0,VLOOKUP(K43,'Materials Catalog Input'!$B$5:$I$904,2,FALSE))","v":0},{"$f":"L43*M43","v":{"v":0,"d":"$0.00"}},{"$f":"IF(ISBLANK(K43),0,VLOOKUP(K43,'Materials Catalog Input'!$B$5:$I$904,6,FALSE))","v":{"v":0,"d":"$0.00"}},{"$f":"P43*L43","v":{"v":0,"d":"$0.00"}},{"v":0,"d":"$0.00"}]
[{"$nulls":3},{"$f":"IF(ISBLANK(B44),0,VLOOKUP(B44,'Materials Catalog Input'!$B$5:$I$904,4,FALSE))","v":{"v":0,"d":"$0.00"}},{"$f":"IF(ISBLANK(B44),0,VLOOKUP(B44,'Materials Catalog Input'!$B$5:$I$904,2,FALSE))","v":0},{"$f":"C44*D44","v":{"v":0,"d":"$0.00"}},{"$f":"IF(ISBLANK(B44),0,VLOOKUP(B44,'Materials Catalog Input'!$B$5:$I$904,6,FALSE))","v":{"v":0,"d":"$0.00"}},{"$f":"G44*C44","v":{"v":0,"d":"$0.00"}},{"v":0,"d":"$0.00"},{"$nulls":3},{"$f":"IF(ISBLANK(K44),0,VLOOKUP(K44,'Materials Catalog Input'!$B$5:$I$904,4,FALSE))","v":{"v":0,"d":"$0.00"}},{"$f":"IF(ISBLANK(K44),0,VLOOKUP(K44,'Materials Catalog Input'!$B$5:$I$904,2,FALSE))","v":0},{"$f":"L44*M44","v":{"v":0,"d":"$0.00"}},{"$f":"IF(ISBLANK(K44),0,VLOOKUP(K44,'Materials Catalog Input'!$B$5:$I$904,6,FALSE))","v":{"v":0,"d":"$0.00"}},{"$f":"P44*L44","v":{"v":0,"d":"$0.00"}},{"v":0,"d":"$0.00"}]
[{"$nulls":3},{"$f":"IF(ISBLANK(B45),0,VLOOKUP(B45,'Materials Catalog Input'!$B$5:$I$904,4,FALSE))","v":{"v":0,"d":"$0.00"}},{"$f":"IF(ISBLANK(B45),0,VLOOKUP(B45,'Materials Catalog Input'!$B$5:$I$904,2,FALSE))","v":0},{"$f":"C45*D45","v":{"v":0,"d":"$0.00"}},{"$f":"IF(ISBLANK(B45),0,VLOOKUP(B45,'Materials Catalog Input'!$B$5:$I$904,6,FALSE))","v":{"v":0,"d":"$0.00"}},{"$f":"G45*C45","v":{"v":0,"d":"$0.00"}},{"v":0,"d":"$0.00"},{"$nulls":3},{"$f":"IF(ISBLANK(K45),0,VLOOKUP(K45,'Materials Catalog Input'!$B$5:$I$904,4,FALSE))","v":{"v":0,"d":"$0.00"}},{"$f":"IF(ISBLANK(K45),0,VLOOKUP(K45,'Materials Catalog Input'!$B$5:$I$904,2,FALSE))","v":0},{"$f":"L45*M45","v":{"v":0,"d":"$0.00"}},{"$f":"IF(ISBLANK(K45),0,VLOOKUP(K45,'Materials Catalog Input'!$B$5:$I$904,6,FALSE))","v":{"v":0,"d":"$0.00"}},{"$f":"P45*L45","v":{"v":0,"d":"$0.00"}},{"v":0,"d":"$0.00"}]
[{"$nulls":3},{"$f":"IF(ISBLANK(B46),0,VLOOKUP(B46,'Materials Catalog Input'!$B$5:$I$904,4,FALSE))","v":{"v":0,"d":"$0.00"}},{"$f":"IF(ISBLANK(B46),0,VLOOKUP(B46,'Materials Catalog Input'!$B$5:$I$904,2,FALSE))","v":0},{"$f":"C46*D46","v":{"v":0,"d":"$0.00"}},{"$f":"IF(ISBLANK(B46),0,VLOOKUP(B46,'Materials Catalog Input'!$B$5:$I$904,6,FALSE))","v":{"v":0,"d":"$0.00"}},{"$f":"G46*C46","v":{"v":0,"d":"$0.00"}},{"v":0,"d":"$0.00"},{"$nulls":3},{"$f":"IF(ISBLANK(K46),0,VLOOKUP(K46,'Materials Catalog Input'!$B$5:$I$904,4,FALSE))","v":{"v":0,"d":"$0.00"}},{"$f":"IF(ISBLANK(K46),0,VLOOKUP(K46,'Materials Catalog Input'!$B$5:$I$904,2,FALSE))","v":0},{"$f":"L46*M46","v":{"v":0,"d":"$0.00"}},{"$f":"IF(ISBLANK(K46),0,VLOOKUP(K46,'Materials Catalog Input'!$B$5:$I$904,6,FALSE))","v":{"v":0,"d":"$0.00"}},{"$f":"P46*L46","v":{"v":0,"d":"$0.00"}},{"v":0,"d":"$0.00"}]
[{"$nulls":3},{"$f":"IF(ISBLANK(B47),0,VLOOKUP(B47,'Materials Catalog Input'!$B$5:$I$904,4,FALSE))","v":{"v":0,"d":"$0.00"}},{"$f":"IF(ISBLANK(B47),0,VLOOKUP(B47,'Materials Catalog Input'!$B$5:$I$904,2,FALSE))","v":0},{"v":0,"d":"$0.00"},{"$f":"IF(ISBLANK(B47),0,VLOOKUP(B47,'Materials Catalog Input'!$B$5:$I$904,6,FALSE))","v":{"v":0,"d":"$0.00"}},{"v":0,"d":"$0.00"},{"v":0,"d":"$0.00"},{"$nulls":3},{"$f":"IF(ISBLANK(K47),0,VLOOKUP(K47,'Materials Catalog Input'!$B$5:$I$904,4,FALSE))","v":{"v":0,"d":"$0.00"}},{"$f":"IF(ISBLANK(K47),0,VLOOKUP(K47,'Materials Catalog Input'!$B$5:$I$904,2,FALSE))","v":0},{"v":0,"d":"$0.00"},{"$f":"IF(ISBLANK(K47),0,VLOOKUP(K47,'Materials Catalog Input'!$B$5:$I$904,6,FALSE))","v":{"v":0,"d":"$0.00"}},{"v":0,"d":"$0.00"},{"v":0,"d":"$0.00"}]
[{"$nulls":3},{"$f":"IF(ISBLANK(B48),0,VLOOKUP(B48,'Materials Catalog Input'!$B$5:$I$904,4,FALSE))","v":{"v":0,"d":"$0.00"}},{"$f":"IF(ISBLANK(B48),0,VLOOKUP(B48,'Materials Catalog Input'!$B$5:$I$904,2,FALSE))","v":0},{"$f":"C48*D48","v":{"v":0,"d":"$0.00"}},{"$f":"IF(ISBLANK(B48),0,VLOOKUP(B48,'Materials Catalog Input'!$B$5:$I$904,6,FALSE))","v":{"v":0,"d":"$0.00"}},{"$f":"G48*C48","v":{"v":0,"d":"$0.00"}},{"v":0,"d":"$0.00"},{"$nulls":3},{"$f":"IF(ISBLANK(K48),0,VLOOKUP(K48,'Materials Catalog Input'!$B$5:$I$904,4,FALSE))","v":{"v":0,"d":"$0.00"}},{"$f":"IF(ISBLANK(K48),0,VLOOKUP(K48,'Materials Catalog Input'!$B$5:$I$904,2,FALSE))","v":0},{"$f":"L48*M48","v":{"v":0,"d":"$0.00"}},{"$f":"IF(ISBLANK(K48),0,VLOOKUP(K48,'Materials Catalog Input'!$B$5:$I$904,6,FALSE))","v":{"v":0,"d":"$0.00"}},{"$f":"P48*L48","v":{"v":0,"d":"$0.00"}},{"v":0,"d":"$0.00"}]
[{"$nulls":3},{"$f":"IF(ISBLANK(B49),0,VLOOKUP(B49,'Materials Catalog Input'!$B$5:$I$904,4,FALSE))","v":{"v":0,"d":"$0.00"}},{"$f":"IF(ISBLANK(B49),0,VLOOKUP(B49,'Materials Catalog Input'!$B$5:$I$904,2,FALSE))","v":0},{"v":0,"d":"$0.00"},{"$f":"IF(ISBLANK(B49),0,VLOOKUP(B49,'Materials Catalog Input'!$B$5:$I$904,6,FALSE))","v":{"v":0,"d":"$0.00"}},{"v":0,"d":"$0.00"},{"v":0,"d":"$0.00"},{"$nulls":3},{"$f":"IF(ISBLANK(K49),0,VLOOKUP(K49,'Materials Catalog Input'!$B$5:$I$904,4,FALSE))","v":{"v":0,"d":"$0.00"}},{"$f":"IF(ISBLANK(K49),0,VLOOKUP(K49,'Materials Catalog Input'!$B$5:$I$904,2,FALSE))","v":0},{"v":0,"d":"$0.00"},{"$f":"IF(ISBLANK(K49),0,VLOOKUP(K49,'Materials Catalog Input'!$B$5:$I$904,6,FALSE))","v":{"v":0,"d":"$0.00"}},{"v":0,"d":"$0.00"},{"v":0,"d":"$0.00"}]
[{"$nulls":3},{"$f":"IF(ISBLANK(B50),0,VLOOKUP(B50,'Materials Catalog Input'!$B$5:$I$904,4,FALSE))","v":{"v":0,"d":"$0.00"}},{"$f":"IF(ISBLANK(B50),0,VLOOKUP(B50,'Materials Catalog Input'!$B$5:$I$904,2,FALSE))","v":0},{"v":0,"d":"$0.00"},{"$f":"IF(ISBLANK(B50),0,VLOOKUP(B50,'Materials Catalog Input'!$B$5:$I$904,6,FALSE))","v":{"v":0,"d":"$0.00"}},{"v":0,"d":"$0.00"},{"v":0,"d":"$0.00"},{"$nulls":3},{"$f":"IF(ISBLANK(K50),0,VLOOKUP(K50,'Materials Catalog Input'!$B$5:$I$904,4,FALSE))","v":{"v":0,"d":"$0.00"}},{"$f":"IF(ISBLANK(K50),0,VLOOKUP(K50,'Materials Catalog Input'!$B$5:$I$904,2,FALSE))","v":0},{"v":0,"d":"$0.00"},{"$f":"IF(ISBLANK(K50),0,VLOOKUP(K50,'Materials Catalog Input'!$B$5:$I$904,6,FALSE))","v":{"v":0,"d":"$0.00"}},{"v":0,"d":"$0.00"},{"v":0,"d":"$0.00"}]
[{"$nulls":3},{"$f":"IF(ISBLANK(B51),0,VLOOKUP(B51,'Materials Catalog Input'!$B$5:$I$904,4,FALSE))","v":{"v":0,"d":"$0.00"}},{"$f":"IF(ISBLANK(B51),0,VLOOKUP(B51,'Materials Catalog Input'!$B$5:$I$904,2,FALSE))","v":0},{"v":0,"d":"$0.00"},{"$f":"IF(ISBLANK(B51),0,VLOOKUP(B51,'Materials Catalog Input'!$B$5:$I$904,6,FALSE))","v":{"v":0,"d":"$0.00"}},{"v":0,"d":"$0.00"},{"v":0,"d":"$0.00"},{"$nulls":3},{"$f":"IF(ISBLANK(K51),0,VLOOKUP(K51,'Materials Catalog Input'!$B$5:$I$904,4,FALSE))","v":{"v":0,"d":"$0.00"}},{"$f":"IF(ISBLANK(K51),0,VLOOKUP(K51,'Materials Catalog Input'!$B$5:$I$904,2,FALSE))","v":0},{"v":0,"d":"$0.00"},{"$f":"IF(ISBLANK(K51),0,VLOOKUP(K51,'Materials Catalog Input'!$B$5:$I$904,6,FALSE))","v":{"v":0,"d":"$0.00"}},{"v":0,"d":"$0.00"},{"v":0,"d":"$0.00"}]
[{"$nulls":3},{"$f":"IF(ISBLANK(B52),0,VLOOKUP(B52,'Materials Catalog Input'!$B$5:$I$904,4,FALSE))","v":{"v":0,"d":"$0.00"}},{"$f":"IF(ISBLANK(B52),0,VLOOKUP(B52,'Materials Catalog Input'!$B$5:$I$904,2,FALSE))","v":0},{"v":0,"d":"$0.00"},{"$f":"IF(ISBLANK(B52),0,VLOOKUP(B52,'Materials Catalog Input'!$B$5:$I$904,6,FALSE))","v":{"v":0,"d":"$0.00"}},{"v":0,"d":"$0.00"},{"v":0,"d":"$0.00"},{"$nulls":3},{"$f":"IF(ISBLANK(K52),0,VLOOKUP(K52,'Materials Catalog Input'!$B$5:$I$904,4,FALSE))","v":{"v":0,"d":"$0.00"}},{"$f":"IF(ISBLANK(K52),0,VLOOKUP(K52,'Materials Catalog Input'!$B$5:$I$904,2,FALSE))","v":0},{"v":0,"d":"$0.00"},{"$f":"IF(ISBLANK(K52),0,VLOOKUP(K52,'Materials Catalog Input'!$B$5:$I$904,6,FALSE))","v":{"v":0,"d":"$0.00"}},{"v":0,"d":"$0.00"},{"v":0,"d":"$0.00"}]
[{"$nulls":3},{"$f":"IF(ISBLANK(B53),0,VLOOKUP(B53,'Materials Catalog Input'!$B$5:$I$904,4,FALSE))","v":{"v":0,"d":"$0.00"}},{"$f":"IF(ISBLANK(B53),0,VLOOKUP(B53,'Materials Catalog Input'!$B$5:$I$904,2,FALSE))","v":0},{"v":0,"d":"$0.00"},{"$f":"IF(ISBLANK(B53),0,VLOOKUP(B53,'Materials Catalog Input'!$B$5:$I$904,6,FALSE))","v":{"v":0,"d":"$0.00"}},{"v":0,"d":"$0.00"},{"v":0,"d":"$0.00"},{"$nulls":3},{"$f":"IF(ISBLANK(K53),0,VLOOKUP(K53,'Materials Catalog Input'!$B$5:$I$904,4,FALSE))","v":{"v":0,"d":"$0.00"}},{"$f":"IF(ISBLANK(K53),0,VLOOKUP(K53,'Materials Catalog Input'!$B$5:$I$904,2,FALSE))","v":0},{"v":0,"d":"$0.00"},{"$f":"IF(ISBLANK(K53),0,VLOOKUP(K53,'Materials Catalog Input'!$B$5:$I$904,6,FALSE))","v":{"v":0,"d":"$0.00"}},{"v":0,"d":"$0.00"},{"v":0,"d":"$0.00"}]
[{"$nulls":3},{"$f":"IF(ISBLANK(B54),0,VLOOKUP(B54,'Materials Catalog Input'!$B$5:$I$904,4,FALSE))","v":{"v":0,"d":"$0.00"}},{"$f":"IF(ISBLANK(B54),0,VLOOKUP(B54,'Materials Catalog Input'!$B$5:$I$904,2,FALSE))","v":0},{"v":0,"d":"$0.00"},{"$f":"IF(ISBLANK(B54),0,VLOOKUP(B54,'Materials Catalog Input'!$B$5:$I$904,6,FALSE))","v":{"v":0,"d":"$0.00"}},{"v":0,"d":"$0.00"},{"v":0,"d":"$0.00"},{"$nulls":3},{"$f":"IF(ISBLANK(K54),0,VLOOKUP(K54,'Materials Catalog Input'!$B$5:$I$904,4,FALSE))","v":{"v":0,"d":"$0.00"}},{"$f":"IF(ISBLANK(K54),0,VLOOKUP(K54,'Materials Catalog Input'!$B$5:$I$904,2,FALSE))","v":0},{"v":0,"d":"$0.00"},{"$f":"IF(ISBLANK(K54),0,VLOOKUP(K54,'Materials Catalog Input'!$B$5:$I$904,6,FALSE))","v":{"v":0,"d":"$0.00"}},{"v":0,"d":"$0.00"},{"v":0,"d":"$0.00"}]
[{"$nulls":4},"Duct Wrap Totals",{"$f":"SUM(F37:F54)","v":{"v":51,"d":"$51.00"}},{"$f":"SUM(G37:G54)","v":{"v":1.1668,"d":"$1.17"}},{"$f":"SUM(H37:H54)","v":{"v":122.51400000000001,"d":"$122.51"}},{"$f":"SUM(I37:I54)","v":{"v":173.514,"d":"$173.51"}},{"$nulls":4},"Additional Material Totals",{"$f":"SUM(O37:O54)","v":{"v":172.36799999999997,"d":"$172.37"}},{"$f":"SUM(P37:P54)","v":{"v":7.2925,"d":"$7.29"}},{"$f":"SUM(Q37:Q54)","v":{"v":765.7125,"d":"$765.71"}},{"$f":"SUM(R37:R54)","v":{"v":938.0805,"d":"$938.08"}}]
[]
[null,"Your Estimate Including Labor (Automatic Calculation)",{"$nulls":8},"Your Financial Analysis"]
[null,"Pipe Covering",null,null,{"$f":"SUM(F33)","v":{"v":93.3456,"d":"$93.35"}},{"$nulls":5},"Estimate Profitability Analysis (as a % of total Estimate)"]
[null,"Fitting Covers",null,null,{"$f":"SUM(O33)","v":{"v":22.176000000000002,"d":"$22.18"}},{"$nulls":6},{"$f":"E62","v":{"v":338.8896,"d":"$338.89"}},{"$f":"IF(E62>0,E62/E66,0%)","v":{"v":0.17901986792109206,"d":"17.9%"}},"Materials"]
[null,"Duct Wrap",null,null,{"$f":"SUM(F55)","v":{"v":51,"d":"$51.00"}},{"$nulls":6},{"$f":"E64","v":{"v":1092.5206785714286,"d":"$1,092.52"}},{"$f":"IF(E64>0,E64/E66,0%)","v":{"v":0.5771286801923665,"d":"57.7%"}},"Labor"]
[null,"Additional Materials",null,null,{"$f":"SUM(O55)","v":{"v":172.36799999999997,"d":"$172.37"}},{"$nulls":6},{"$f":"E62+E64","v":{"v":1431.4102785714285,"d":"$1,431.41"}},{"$f":"IF(M59+M60>0,M59+M60,0%)","v":{"v":0.7561485481134586,"d":"75.6%"}},"Materials & Labor"]
[null,"Total Materials",null,null,{"$f":"SUM(E58:E61)","v":{"v":338.8896,"d":"$338.89"}},{"$nulls":6},{"$f":"E63","v":{"v":32.194511999999996,"d":"$32.19"}},{"$f":"IF(E63>0,E63/E66,0%)","v":{"v":0.017006887452503745,"d":"1.7%"}},"Sales Tax "]
[null,"Sales Tax",null,null,{"$f":"E62*F63","v":{"v":32.194511999999996,"d":"$32.19"}},{"v":0.095,"d":"9.50%"},null,"% Sales Tax",{"$nulls":3},{"$f":"E65","v":{"v":429.42308357142855,"d":"$429.42"}},{"$f":"IF(E65>0,(E65)/E66,0%)","v":{"v":0.22684456443403758,"d":"22.7%"}},"Profit (Markup)"]
[null,"Total Labor",null,null,{"$f":"SUM(H33+Q33+H55+Q55)","v":{"v":1092.5206785714286,"d":"$1,092.52"}},{"$f":"E64/'Labor & Overhead Input'!H5","v":{"v":37.45357142857143,"d":"37.45"}},null,"Labor Hours",{"$nulls":3},"-",{"$f":"IF(E65>0,(E65)/(E62+E64),0%)","v":{"v":0.3,"d":"30.0%"}},"Profit / Materials & Labor"]
[null,"Markup",null,null,{"$f":"SUM(E62+E64)*F65","v":{"v":429.42308357142855,"d":"$429.42"}},{"v":0.3,"d":"30.00%"},null,"% Markup",{"$nulls":9}," "]
[null,"Total Estimate",null,null,{"$f":"SUM(E62:E65)","v":{"v":1893.0278741428572,"d":"$1,893.03"}},{"$nulls":5},"Material & Labor Analysis (as a % of total Materials)"]
[{"$nulls":11},{"$f":"E58","v":{"v":93.3456,"d":"$93.35"}},{"$f":"IF(E58>0,E58/$E$62,0%)","v":{"v":0.2754454548029801,"d":"27.5%"}},"Pipe Covering "]
[null,"Your Estimate Including Labor (Manual Calculation for Comparison)",{"$nulls":9},{"$f":"E59","v":{"v":22.176000000000002,"d":"$22.18"}},{"$f":"IF(E59>0,E59/$E$62,0%)","v":{"v":0.06543723973825105,"d":"6.5%"}},"Fitting Covers "]
[{"$nulls":3},"Pipe Covering",{"$f":"SUM(F33)","v":{"v":93.3456,"d":"$93.35"}},{"$nulls":6},{"$f":"E60","v":{"v":51,"d":"$51.00"}},{"$f":"IF(E60>0,E60/$E$62,0%)","v":{"v":0.15049148749327215,"d":"15.0%"}},"Duct Wrap "]
[{"$nulls":3},"Fitting Covers",{"$f":"SUM(O33)","v":{"v":22.176000000000002,"d":"$22.18"}},{"$nulls":6},{"$f":"E61","v":{"v":172.36799999999997,"d":"$172.37"}},{"$f":"IF(E61>0,E61/$E$62,0%)","v":{"v":0.5086258179654967,"d":"50.9%"}},"Add'l Materials "]
[{"$nulls":3},"Duct Wrap",{"$f":"SUM(F55)","v":{"v":51,"d":"$51.00"}},{"$nulls":6},"-",{"$f":"IF(E64>0,E64/E62,0%)","v":{"v":3.2238247457916342,"d":"322.4%"}},"Labor/Materials "]
[{"$nulls":3},"Additional Materials",{"$f":"SUM(O55)","v":{"v":172.36799999999997,"d":"$172.37"}}]
[{"$nulls":3},"Total Materials",{"$f":"SUM(E69:E72)","v":{"v":338.8896,"d":"$338.89"}},{"$nulls":5},"Project Name & No."]
[null,"Sales Tax",null,null,{"$f":"E73*F74","v":{"v":32.194511999999996,"d":"$32.19"}},{"v":0.095,"d":"9.50%"},null,"% Sales Tax"]
[{"$nulls":3},"Total Labor",{"$f":"F75*'Labor & Overhead Input'!H5","v":{"v":29.17,"d":"$29.17"}},{"v":1,"d":"1.00"},null,"Labor Hours",null,null,"Date of Estimate:"]
[{"$nulls":3},"Markup",{"$f":"SUM(E73+E75)*F76","v":{"v":110.41788,"d":"$110.42"}},{"v":0.3,"d":"30.00%"},null,"% Markup"]
[{"$nulls":3},"Total Estimate",{"$f":"SUM(E73:E76)","v":{"v":510.67199199999993,"d":"$510.67"}},{"$nulls":5},"Estimate Valid Until:"]
[]
[]
[]
[null,"Optimized for Screen Resolution 2560 x 1440"]
[null,"Free Estimation Template for Excel"]
[null,"Copyright 2000-2011 Thomas Insulation Corporation"]
[null,"All Rights Reserved"]

{"sheet":"Materials Catalog Input","index":2,"n_rows":904,"n_cols":24,"rows_kept":904}
[null,"Materials Catalog",{"$nulls":6},"\"Do-It-Yourself\" Estimation Worksheet"]
[{"$nulls":8},"a free estimation template for MS Excel from Thomas Insulation Corporation"]
[{"$nulls":7},"Price Markup Rate:",{"v":0.2,"d":"20%"}]
[null,"Product ID","Product Name","My Cost","Price Markup","Material Factor","Labor Factor","Description","Category"]
[null,100," 1/2 x 1/2",{"v":1.07,"d":"$1.07"},{"$f":"D5*(1+$I$3)","v":{"v":1.284,"d":"$1.28"}},{"v":25,"d":"25.0"},{"$f":"IF(F5>0,PRODUCT('Labor & Overhead Input'!$H$5/'Materials Catalog Input'!F5),\"0\")","v":{"v":1.1668,"d":"$1.17"}},"Knauf","Fiberglass"]
[null,101," 1/2 x 1",{"v":1.104,"d":"$1.10"},{"v":1.3248,"d":"$1.32"},{"v":35,"d":"35.0"},{"$f":"IF(F6>0,PRODUCT('Labor & Overhead Input'!$H$5/'Materials Catalog Input'!F6),\"0\")","v":{"v":0.8334285714285715,"d":"$0.83"}},"Knauf","Fiberglass"]
[null,102," 1/2 x 1-1/2",{"v":2.256,"d":"$2.26"},{"v":2.7072,"d":"$2.71"},{"v":35,"d":"35.0"},{"$f":"IF(F7>0,PRODUCT('Labor & Overhead Input'!$H$5/'Materials Catalog Input'!F7),\"0\")","v":{"v":0.8334285714285715,"d":"$0.83"}},"Knauf","Fiberglass"]
[null,103," 1/2 x 2",{"v":3.528,"d":"$3.53"},{"v":4.2336,"d":"$4.23"},{"v":35,"d":"35.0"},{"$f":"IF(F8>0,PRODUCT('Labor & Overhead Input'!$H$5/'Materials Catalog Input'!F8),\"0\")","v":{"v":0.8334285714285715,"d":"$0.83"}},"Knauf","Fiberglass"]
[null,104," 3/4 x 1/2",{"v":1.236,"d":"$1.24"},{"v":1.4831999999999999,"d":"$1.48"},{"v":35,"d":"35.0"},{"$f":"IF(F9>0,PRODUCT('Labor & Overhead Input'!$H$5/'Materials Catalog Input'!F9),\"0\")","v":{"v":0.8334285714285715,"d":"$0.83"}},"Knauf","Fiberglass"]
[null,105," 3/4 x 1",{"v":1.272,"d":"$1.27"},{"v":1.5264,"d":"$1.53"},{"v":35,"d":"35.0"},{"$f":"IF(F10>0,PRODUCT('Labor & Overhead Input'!$H$5/'Materials Catalog Input'!F10),\"0\")","v":{"v":0.8334285714285715,"d":"$0.83"}},"Knauf","Fiberglass"]
[null,106," 3/4 x 1-1/2",{"v":2.364,"d":"$2.36"},{"v":2.8367999999999998,"d":"$2.84"},{"v":35,"d":"35.0"},{"$f":"IF(F11>0,PRODUCT('Labor & Overhead Input'!$H$5/'Materials Catalog Input'!F11),\"0\")","v":{"v":0.8334285714285715,"d":"$0.83"}},"Knauf","Fiberglass"]
[null,107," 3/4 x 2",{"v":3.66,"d":"$3.66"},{"v":4.392,"d":"$4.39"},{"v":35,"d":"35.0"},{"$f":"IF(F12>0,PRODUCT('Labor & Overhead Input'!$H$5/'Materials Catalog Input'!F12),\"0\")","v":{"v":0.8334285714285715,"d":"$0.83"}},"Knauf","Fiberglass"]
[null,108," 1 x 1/2",{"v":1.248,"d":"$1.25"},{"v":1.4976,"d":"$1.50"},{"v":35,"d":"35.0"},{"$f":"IF(F13>0,PRODUCT('Labor & Overhead Input'!$H$5/'Materials Catalog Input'!F13),\"0\")","v":{"v":0.8334285714285715,"d":"$0.83"}},"Knauf","Fiberglass"]
[null,109," 1 x 1",{"v":1.284,"d":"$1.28"},{"v":1.5408,"d":"$1.54"},{"v":35,"d":"35.0"},{"$f":"IF(F14>0,PRODUCT('Labor & Overhead Input'!$H$5/'Materials Catalog Input'!F14),\"0\")","v":{"v":0.8334285714285715,"d":"$0.83"}},"Knauf","Fiberglass"]
[null,110," 1 x 1-1/2",{"v":2.472,"d":"$2.47"},{"v":2.9663999999999997,"d":"$2.97"},{"v":35,"d":"35.0"},{"$f":"IF(F15>0,PRODUCT('Labor & Overhead Input'!$H$5/'Materials Catalog Input'!F15),\"0\")","v":{"v":0.8334285714285715,"d":"$0.83"}},"Knauf","Fiberglass"]
[null,111," 1 x 2",{"v":3.9,"d":"$3.90"},{"v":4.68,"d":"$4.68"},{"v":35,"d":"35.0"},{"$f":"IF(F16>0,PRODUCT('Labor & Overhead Input'!$H$5/'Materials Catalog Input'!F16),\"0\")","v":{"v":0.8334285714285715,"d":"$0.83"}},"Knauf","Fiberglass"]
[null,112," 1 x 2-1/2",{"v":4.776,"d":"$4.78"},{"v":5.731199999999999,"d":"$5.73"},{"v":35,"d":"35.0"},{"$f":"IF(F17>0,PRODUCT('Labor & Overhead Input'!$H$5/'Materials Catalog Input'!F17),\"0\")","v":{"v":0.8334285714285715,"d":"$0.83"}},"Knauf","Fiberglass"]
[null,113," 1 x 3",{"v":6.348,"d":"$6.35"},{"v":7.6175999999999995,"d":"$7.62"},{"v":35,"d":"35.0"},{"$f":"IF(F18>0,PRODUCT('Labor & Overhead Input'!$H$5/'Materials Catalog Input'!F18),\"0\")","v":{"v":0.8334285714285715,"d":"$0.83"}},"Knauf","Fiberglass"]
[null,114," 1 x 3-1/2",{"v":8.088,"d":"$8.09"},{"v":9.705599999999999,"d":"$9.71"},{"v":35,"d":"35.0"},{"$f":"IF(F19>0,PRODUCT('Labor & Overhead Input'!$H$5/'Materials Catalog Input'!F19),\"0\")","v":{"v":0.8334285714285715,"d":"$0.83"}},"Knauf","Fiberglass"]
[null,115," 1 x 4",{"v":11.027999999999999,"d":"$11.03"},{"v":13.233599999999997,"d":"$13.23"},{"v":35,"d":"35.0"},{"$f":"IF(F20>0,PRODUCT('Labor & Overhead Input'!$H$5/'Materials Catalog Input'!F20),\"0\")","v":{"v":0.8334285714285715,"d":"$0.83"}},"Knauf","Fiberglass"]
[null,116," 1 x 4-1/2",{"v":13.728,"d":"$13.73"},{"v":16.473599999999998,"d":"$16.47"},{"v":35,"d":"35.0"},{"$f":"IF(F21>0,PRODUCT('Labor & Overhead Input'!$H$5/'Materials Catalog Input'!F21),\"0\")","v":{"v":0.8334285714285715,"d":"$0.83"}},"Knauf","Fiberglass"]
[null,117," 1-1/4 x 1/2",{"v":1.428,"d":"$1.43"},{"v":1.7135999999999998,"d":"$1.71"},{"v":35,"d":"35.0"},{"$f":"IF(F22>0,PRODUCT('Labor & Overhead Input'!$H$5/'Materials Catalog Input'!F22),\"0\")","v":{"v":0.8334285714285715,"d":"$0.83"}},"Knauf","Fiberglass"]
[null,118," 1-1/4 x 1",{"v":1.476,"d":"$1.48"},{"v":1.7711999999999999,"d":"$1.77"},{"v":35,"d":"35.0"},{"$f":"IF(F23>0,PRODUCT('Labor & Overhead Input'!$H$5/'Materials Catalog Input'!F23),\"0\")","v":{"v":0.8334285714285715,"d":"$0.83"}},"Knauf","Fiberglass"]
[null,119," 1-1/4 x 1-1/2",{"v":2.6519999999999997,"d":"$2.65"},{"v":3.1823999999999995,"d":"$3.18"},{"v":35,"d":"35.0"},{"$f":"IF(F24>0,PRODUCT('Labor & Overhead Input'!$H$5/'Materials Catalog Input'!F24),\"0\")","v":{"v":0.8334285714285715,"d":"$0.83"}},"Knauf","Fiberglass"]
[null,120," 1-1/4 x 2",{"v":4.14,"d":"$4.14"},{"v":4.967999999999999,"d":"$4.97"},{"v":35,"d":"35.0"},{"$f":"IF(F25>0,PRODUCT('Labor & Overhead Input'!$H$5/'Materials Catalog Input'!F25),\"0\")","v":{"v":0.8334285714285715,"d":"$0.83"}},"Knauf","Fiberglass"]
[null,121," 1-1/2 x 1/2",{"v":1.524,"d":"$1.52"},{"v":1.8288,"d":"$1.83"},{"v":35,"d":"35.0"},{"$f":"IF(F26>0,PRODUCT('Labor & Overhead Input'!$H$5/'Materials Catalog Input'!F26),\"0\")","v":{"v":0.8334285714285715,"d":"$0.83"}},"Knauf","Fiberglass"]
[null,122," 1-1/2 x 1",{"v":1.572,"d":"$1.57"},{"v":1.8864,"d":"$1.89"},{"v":35,"d":"35.0"},{"$f":"IF(F27>0,PRODUCT('Labor & Overhead Input'!$H$5/'Materials Catalog Input'!F27),\"0\")","v":{"v":0.8334285714285715,"d":"$0.83"}},"Knauf","Fiberglass"]
[null,123," 1-1/2 x 1-1/2",{"v":2.796,"d":"$2.80"},{"v":3.3551999999999995,"d":"$3.36"},{"v":35,"d":"35.0"},{"$f":"IF(F28>0,PRODUCT('Labor & Overhead Input'!$H$5/'Materials Catalog Input'!F28),\"0\")","v":{"v":0.8334285714285715,"d":"$0.83"}},"Knauf","Fiberglass"]
[null,124," 1-1/2 x 2",{"v":4.368,"d":"$4.37"},{"v":5.2416,"d":"$5.24"},{"v":35,"d":"35.0"},{"$f":"IF(F29>0,PRODUCT('Labor & Overhead Input'!$H$5/'Materials Catalog Input'!F29),\"0\")","v":{"v":0.8334285714285715,"d":"$0.83"}},"Knauf","Fiberglass",{"$nulls":14},"Material Factor Calculation Help"]
[null,125," 1-1/2 x 2-1/2",{"v":5.22,"d":"$5.22"},{"v":6.263999999999999,"d":"$6.26"},{"v":35,"d":"35.0"},{"$f":"IF(F30>0,PRODUCT('Labor & Overhead Input'!$H$5/'Materials Catalog Input'!F30),\"0\")","v":{"v":0.8334285714285715,"d":"$0.83"}},"Knauf","Fiberglass",null,"Product","Quantity Per Hour"]
[null,126," 1-1/2 x 3",{"v":6.803999999999999,"d":"$6.80"},{"v":8.1648,"d":"$8.16"},{"v":35,"d":"35.0"},{"$f":"IF(F31>0,PRODUCT('Labor & Overhead Input'!$H$5/'Materials Catalog Input'!F31),\"0\")","v":{"v":0.8334285714285715,"d":"$0.83"}},"Knauf","Fiberglass",null," 1/2 x 1/2",{"v":20,"d":"20.00"}]
[null,127," 1-1/2 x 3-1/2",{"v":8.556,"d":"$8.56"},{"v":10.267199999999999,"d":"$10.27"},{"v":35,"d":"35.0"},{"$f":"IF(F32>0,PRODUCT('Labor & Overhead Input'!$H$5/'Materials Catalog Input'!F32),\"0\")","v":{"v":0.8334285714285715,"d":"$0.83"}},"Knauf","Fiberglass",null," 1/2 x 1",{"v":21,"d":"21.00"}]
[null,128," 1-1/2 x 4",{"v":11.496,"d":"$11.50"},{"v":13.7952,"d":"$13.80"},{"v":35,"d":"35.0"},{"$f":"IF(F33>0,PRODUCT('Labor & Overhead Input'!$H$5/'Materials Catalog Input'!F33),\"0\")","v":{"v":0.8334285714285715,"d":"$0.83"}},"Knauf","Fiberglass",null," 1/2 x 1-1/2",{"v":22,"d":"22.00"}]
[null,129," 1-1/2 x 4-1/2",{"v":14.627999999999998,"d":"$14.63"},{"v":17.553599999999996,"d":"$17.55"},{"v":35,"d":"35.0"},{"$f":"IF(F34>0,PRODUCT('Labor & Overhead Input'!$H$5/'Materials Catalog Input'!F34),\"0\")","v":{"v":0.8334285714285715,"d":"$0.83"}},"Knauf","Fiberglass",null," 1/2 x 2",{"v":23,"d":"23.00"}]
[null,130," 2 x 1/2",{"v":1.68,"d":"$1.68"},{"v":2.016,"d":"$2.02"},{"v":35,"d":"35.0"},{"$f":"IF(F35>0,PRODUCT('Labor & Overhead Input'!$H$5/'Materials Catalog Input'!F35),\"0\")","v":{"v":0.8334285714285715,"d":"$0.83"}},"Knauf","Fiberglass",null," 3/4 x 1/2",{"v":24,"d":"24.00"}]
[null,131," 2 x 1",{"v":1.728,"d":"$1.73"},{"v":2.0736,"d":"$2.07"},{"v":35,"d":"35.0"},{"$f":"IF(F36>0,PRODUCT('Labor & Overhead Input'!$H$5/'Materials Catalog Input'!F36),\"0\")","v":{"v":0.8334285714285715,"d":"$0.83"}},"Knauf","Fiberglass",null," 3/4 x 1",{"v":25,"d":"25.00"}]
[null,132," 2 x 1-1/2",{"v":3.06,"d":"$3.06"},{"v":3.6719999999999997,"d":"$3.67"},{"v":35,"d":"35.0"},{"$f":"IF(F37>0,PRODUCT('Labor & Overhead Input'!$H$5/'Materials Catalog Input'!F37),\"0\")","v":{"v":0.8334285714285715,"d":"$0.83"}},"Knauf","Fiberglass",null," 3/4 x 1-1/2",{"v":26,"d":"26.00"}]
[null,133," 2 x 2",{"v":4.536,"d":"$4.54"},{"v":5.443199999999999,"d":"$5.44"},{"v":35,"d":"35.0"},{"$f":"IF(F38>0,PRODUCT('Labor & Overhead Input'!$H$5/'Materials Catalog Input'!F38),\"0\")","v":{"v":0.8334285714285715,"d":"$0.83"}},"Knauf","Fiberglass",null," 3/4 x 2",{"v":27,"d":"27.00"}]
[null,134," 2-1/2 x 1/2",{"v":1.8479999999999999,"d":"$1.85"},{"v":2.2175999999999996,"d":"$2.22"},{"v":35,"d":"35.0"},{"$f":"IF(F39>0,PRODUCT('Labor & Overhead Input'!$H$5/'Materials Catalog Input'!F39),\"0\")","v":{"v":0.8334285714285715,"d":"$0.83"}},"Knauf","Fiberglass",null," 1 x 1/2",{"v":39,"d":"39.00"}]
[null,135," 2-1/2 x 1",{"v":1.896,"d":"$1.90"},{"v":2.2752,"d":"$2.28"},{"v":35,"d":"35.0"},{"$f":"IF(F40>0,PRODUCT('Labor & Overhead Input'!$H$5/'Materials Catalog Input'!F40),\"0\")","v":{"v":0.8334285714285715,"d":"$0.83"}},"Knauf","Fiberglass",null," 1 x 1",{"v":39,"d":"39.00"}]
[null,136," 2-1/2 x 1-1/2",{"v":3.36,"d":"$3.36"},{"v":4.032,"d":"$4.03"},{"v":35,"d":"35.0"},{"$f":"IF(F41>0,PRODUCT('Labor & Overhead Input'!$H$5/'Materials Catalog Input'!F41),\"0\")","v":{"v":0.8334285714285715,"d":"$0.83"}},"Knauf","Fiberglass",null," 2 x 1",{"v":39,"d":"39.00"}]
[null,137," 2-1/2 x 2",{"v":4.86,"d":"$4.86"},{"v":5.832,"d":"$5.83"},{"v":35,"d":"35.0"},{"$f":"IF(F42>0,PRODUCT('Labor & Overhead Input'!$H$5/'Materials Catalog Input'!F42),\"0\")","v":{"v":0.8334285714285715,"d":"$0.83"}},"Knauf","Fiberglass",null," 3 x 1",{"v":39,"d":"39.00"}]
[null,138," 3 x 1/2",{"v":2.076,"d":"$2.08"},{"v":2.4912,"d":"$2.49"},{"v":35,"d":"35.0"},{"$f":"IF(F43>0,PRODUCT('Labor & Overhead Input'!$H$5/'Materials Catalog Input'!F43),\"0\")","v":{"v":0.8334285714285715,"d":"$0.83"}},"Knauf","Fiberglass",null," 4 x 1",{"v":39,"d":"39.00"}]
[null,139," 3 x 1",{"v":2.136,"d":"$2.14"},{"v":2.5632,"d":"$2.56"},{"v":35,"d":"35.0"},{"$f":"IF(F44>0,PRODUCT('Labor & Overhead Input'!$H$5/'Materials Catalog Input'!F44),\"0\")","v":{"v":0.8334285714285715,"d":"$0.83"}},"Knauf","Fiberglass",null," 5 x 1",{"v":39,"d":"39.00"}]
[null,140," 3 x 1-1/2",{"v":3.456,"d":"$3.46"},{"v":4.1472,"d":"$4.15"},{"v":35,"d":"35.0"},{"$f":"IF(F45>0,PRODUCT('Labor & Overhead Input'!$H$5/'Materials Catalog Input'!F45),\"0\")","v":{"v":0.8334285714285715,"d":"$0.83"}},"Knauf","Fiberglass",null," 6 x 1",{"v":39,"d":"39.00"}]
[null,141," 3 x 2",{"v":5.244,"d":"$5.24"},{"v":6.2928,"d":"$6.29"},{"v":35,"d":"35.0"},{"$f":"IF(F46>0,PRODUCT('Labor & Overhead Input'!$H$5/'Materials Catalog Input'!F46),\"0\")","v":{"v":0.8334285714285715,"d":"$0.83"}},"Knauf","Fiberglass",null," 7 x 1",{"v":39,"d":"39.00"}]
[null,142," 3-1/2 x 1/2",{"v":2.076,"d":"$2.08"},{"v":2.4912,"d":"$2.49"},{"v":35,"d":"35.0"},{"$f":"IF(F47>0,PRODUCT('Labor & Overhead Input'!$H$5/'Materials Catalog Input'!F47),\"0\")","v":{"v":0.8334285714285715,"d":"$0.83"}},"Knauf","Fiberglass",null," 8 x 1",{"v":39,"d":"39.00"}]
[null,143," 3-1/2 x 1",{"v":2.136,"d":"$2.14"},{"v":2.5632,"d":"$2.56"},{"v":35,"d":"35.0"},{"$f":"IF(F48>0,PRODUCT('Labor & Overhead Input'!$H$5/'Materials Catalog Input'!F48),\"0\")","v":{"v":0.8334285714285715,"d":"$0.83"}},"Knauf","Fiberglass",null," 9 x 1",{"v":39,"d":"39.00"}]
[null,144," 3-1/2 x 1-1/2",{"v":3.456,"d":"$3.46"},{"v":4.1472,"d":"$4.15"},{"v":35,"d":"35.0"},{"$f":"IF(F49>0,PRODUCT('Labor & Overhead Input'!$H$5/'Materials Catalog Input'!F49),\"0\")","v":{"v":0.8334285714285715,"d":"$0.83"}},"Knauf","Fiberglass",null,"11 x 1",{"v":39,"d":"39.00"}]
[null,145," 3-1/2 x 2",{"v":5.244,"d":"$5.24"},{"v":6.2928,"d":"$6.29"},{"v":35,"d":"35.0"},{"$f":"IF(F50>0,PRODUCT('Labor & Overhead Input'!$H$5/'Materials Catalog Input'!F50),\"0\")","v":{"v":0.8334285714285715,"d":"$0.83"}},"Knauf","Fiberglass",null," 11 x 1",{"v":39,"d":"39.00"}]
[null,146," 4 x 1/2",{"v":2.6759999999999997,"d":"$2.68"},{"v":3.2111999999999994,"d":"$3.21"},{"v":35,"d":"35.0"},{"$f":"IF(F51>0,PRODUCT('Labor & Overhead Input'!$H$5/'Materials Catalog Input'!F51),\"0\")","v":{"v":0.8334285714285715,"d":"$0.83"}},"Knauf","Fiberglass",null,"Average Rate",{"$f":"AVERAGE(L31:L50)","v":{"v":32.8,"d":"32.80"}},{"$nulls":11},"Optimized for Screen Resolution 2560 x 1440"]
[null,147," 4 x 1",{"v":2.76,"d":"$2.76"},{"v":3.312,"d":"$3.31"},{"v":35,"d":"35.0"},{"$f":"IF(F52>0,PRODUCT('Labor & Overhead Input'!$H$5/'Materials Catalog Input'!F52),\"0\")","v":{"v":0.8334285714285715,"d":"$0.83"}},"Knauf","Fiberglass",null,"Median Rate",{"$f":"MEDIAN(L31:L50)","v":{"v":39,"d":"39.00"}},{"$nulls":11},"Free Estimation Template for Excel"]
[null,148," 4 x 1-1/2",{"v":3.96,"d":"$3.96"},{"v":4.752,"d":"$4.75"},{"v":35,"d":"35.0"},{"$f":"IF(F53>0,PRODUCT('Labor & Overhead Input'!$H$5/'Materials Catalog Input'!F53),\"0\")","v":{"v":0.8334285714285715,"d":"$0.83"}},"Knauf","Fiberglass",null,"Std. Deviation",{"$f":"STDEV(L31:L50)","v":{"v":7.931283827848728,"d":"7.93"}},{"$nulls":11},"Copyright 2000-2011 Thomas Insulation Corporation"]
[null,149," 4 x 2",{"v":6.012,"d":"$6.01"},{"v":7.2143999999999995,"d":"$7.21"},{"v":35,"d":"35.0"},{"$f":"IF(F54>0,PRODUCT('Labor & Overhead Input'!$H$5/'Materials Catalog Input'!F54),\"0\")","v":{"v":0.8334285714285715,"d":"$0.83"}},"Knauf","Fiberglass",{"$nulls":14},"All Rights Reserved"]
[null,150," 4-1/2 x 1/2",{"v":2.832,"d":"$2.83"},{"v":3.3983999999999996,"d":"$3.40"},{"v":35,"d":"35.0"},{"$f":"IF(F55>0,PRODUCT('Labor & Overhead Input'!$H$5/'Materials Catalog Input'!F55),\"0\")","v":{"v":0.8334285714285715,"d":"$0.83"}},"Knauf","Fiberglass"]
[null,151," 4-1/2 x 1",{"v":2.916,"d":"$2.92"},{"v":3.4991999999999996,"d":"$3.50"},{"v":35,"d":"35.0"},{"$f":"IF(F56>0,PRODUCT('Labor & Overhead Input'!$H$5/'Materials Catalog Input'!F56),\"0\")","v":{"v":0.8334285714285715,"d":"$0.83"}},"Knauf","Fiberglass"]
[null,152," 4-1/2 x 1-1/2",{"v":4.164,"d":"$4.16"},{"v":4.9967999999999995,"d":"$5.00"},{"v":35,"d":"35.0"},{"$f":"IF(F57>0,PRODUCT('Labor & Overhead Input'!$H$5/'Materials Catalog Input'!F57),\"0\")","v":{"v":0.8334285714285715,"d":"$0.83"}},"Knauf","Fiberglass"]
[null,153," 4-1/2 x 2",{"v":6.467999999999999,"d":"$6.47"},{"v":7.761599999999999,"d":"$7.76"},{"v":35,"d":"35.0"},{"$f":"IF(F58>0,PRODUCT('Labor & Overhead Input'!$H$5/'Materials Catalog Input'!F58),\"0\")","v":{"v":0.8334285714285715,"d":"$0.83"}},"Knauf","Fiberglass"]
[null,154," 5 x 1/2",{"v":3.0839999999999996,"d":"$3.08"},{"v":3.700799999999999,"d":"$3.70"},{"v":35,"d":"35.0"},{"$f":"IF(F59>0,PRODUCT('Labor & Overhead Input'!$H$5/'Materials Catalog Input'!F59),\"0\")","v":{"v":0.8334285714285715,"d":"$0.83"}},"Knauf","Fiberglass"]
[null,155," 5 x 1",{"v":3.18,"d":"$3.18"},{"v":3.816,"d":"$3.82"},{"v":35,"d":"35.0"},{"$f":"IF(F60>0,PRODUCT('Labor & Overhead Input'!$H$5/'Materials Catalog Input'!F60),\"0\")","v":{"v":0.8334285714285715,"d":"$0.83"}},"Knauf","Fiberglass"]
[null,156," 5 x 1-1/2",{"v":4.416,"d":"$4.42"},{"v":5.2992,"d":"$5.30"},{"v":35,"d":"35.0"},{"$f":"IF(F61>0,PRODUCT('Labor & Overhead Input'!$H$5/'Materials Catalog Input'!F61),\"0\")","v":{"v":0.8334285714285715,"d":"$0.83"}},"Knauf","Fiberglass"]
[null,157," 5 x 2",{"v":6.803999999999999,"d":"$6.80"},{"v":8.1648,"d":"$8.16"},{"v":35,"d":"35.0"},{"$f":"IF(F62>0,PRODUCT('Labor & Overhead Input'!$H$5/'Materials Catalog Input'!F62),\"0\")","v":{"v":0.8334285714285715,"d":"$0.83"}},"Knauf","Fiberglass"]
[null,158," 6 x 1/2",{"v":3.492,"d":"$3.49"},{"v":4.1903999999999995,"d":"$4.19"},{"v":35,"d":"35.0"},{"$f":"IF(F63>0,PRODUCT('Labor & Overhead Input'!$H$5/'Materials Catalog Input'!F63),\"0\")","v":{"v":0.8334285714285715,"d":"$0.83"}},"Knauf","Fiberglass"]
[null,159," 6 x 1",{"v":3.6,"d":"$3.60"},{"v":4.32,"d":"$4.32"},{"v":35,"d":"35.0"},{"$f":"IF(F64>0,PRODUCT('Labor & Overhead Input'!$H$5/'Materials Catalog Input'!F64),\"0\")","v":{"v":0.8334285714285715,"d":"$0.83"}},"Knauf","Fiberglass"]
[null,160," 6 x 1-1/2",{"v":4.848,"d":"$4.85"},{"v":5.8176,"d":"$5.82"},{"v":35,"d":"35.0"},{"$f":"IF(F65>0,PRODUCT('Labor & Overhead Input'!$H$5/'Materials Catalog Input'!F65),\"0\")","v":{"v":0.8334285714285715,"d":"$0.83"}},"Knauf","Fiberglass"]
[null,161," 6 x 2",{"v":7.428,"d":"$7.43"},{"v":8.913599999999999,"d":"$8.91"},{"v":35,"d":"35.0"},{"$f":"IF(F66>0,PRODUCT('Labor & Overhead Input'!$H$5/'Materials Catalog Input'!F66),\"0\")","v":{"v":0.8334285714285715,"d":"$0.83"}},"Knauf","Fiberglass"]
[null,162," 7 x 1/2",{"v":4.296,"d":"$4.30"},{"v":5.1552,"d":"$5.16"},{"v":35,"d":"35.0"},{"$f":"IF(F67>0,PRODUCT('Labor & Overhead Input'!$H$5/'Materials Catalog Input'!F67),\"0\")","v":{"v":0.8334285714285715,"d":"$0.83"}},"Knauf","Fiberglass"]
[null,163," 7 x 1",{"v":4.428,"d":"$4.43"},{"v":5.3136,"d":"$5.31"},{"v":35,"d":"35.0"},{"$f":"IF(F68>0,PRODUCT('Labor & Overhead Input'!$H$5/'Materials Catalog Input'!F68),\"0\")","v":{"v":0.8334285714285715,"d":"$0.83"}},"Knauf","Fiberglass"]
[null,164," 7 x 1-1/2",{"v":5.592,"d":"$5.59"},{"$f":"D69*(1+$I$3)","v":{"v":6.710399999999999,"d":"$6.71"}},{"v":35,"d":"35.0"},{"$f":"IF(F69>0,PRODUCT('Labor & Overhead Input'!$H$5/'Materials Catalog Input'!F69),\"0\")","v":{"v":0.8334285714285715,"d":"$0.83"}},"Knauf","Fiberglass"]
[null,165," 7 x 2",{"v":8.52,"d":"$8.52"},{"v":10.223999999999998,"d":"$10.22"},{"v":35,"d":"35.0"},{"$f":"IF(F70>0,PRODUCT('Labor & Overhead Input'!$H$5/'Materials Catalog Input'!F70),\"0\")","v":{"v":0.8334285714285715,"d":"$0.83"}},"Knauf","Fiberglass"]
[null,166," 8 x 1/2",{"v":4.992,"d":"$4.99"},{"v":5.9904,"d":"$5.99"},{"v":35,"d":"35.0"},{"$f":"IF(F71>0,PRODUCT('Labor & Overhead Input'!$H$5/'Materials Catalog Input'!F71),\"0\")","v":{"v":0.8334285714285715,"d":"$0.83"}},"Knauf","Fiberglass"]
[null,167," 8 x 1",{"v":5.148,"d":"$5.15"},{"v":6.177599999999999,"d":"$6.18"},{"v":35,"d":"35.0"},{"$f":"IF(F72>0,PRODUCT('Labor & Overhead Input'!$H$5/'Materials Catalog Input'!F72),\"0\")","v":{"v":0.8334285714285715,"d":"$0.83"}},"Knauf","Fiberglass"]
[null,168," 8 x 1-1/2",{"v":6.06,"d":"$6.06"},{"v":7.271999999999999,"d":"$7.27"},{"v":35,"d":"35.0"},{"$f":"IF(F73>0,PRODUCT('Labor & Overhead Input'!$H$5/'Materials Catalog Input'!F73),\"0\")","v":{"v":0.8334285714285715,"d":"$0.83"}},"Knauf","Fiberglass"]
[null,169," 8 x 2",{"v":9.192,"d":"$9.19"},{"v":11.0304,"d":"$11.03"},{"v":35,"d":"35.0"},{"$f":"IF(F74>0,PRODUCT('Labor & Overhead Input'!$H$5/'Materials Catalog Input'!F74),\"0\")","v":{"v":0.8334285714285715,"d":"$0.83"}},"Knauf","Fiberglass"]
[null,170," 9 x 1/2",{"v":5.4239999999999995,"d":"$5.42"},{"v":6.508799999999999,"d":"$6.51"},{"v":35,"d":"35.0"},{"$f":"IF(F75>0,PRODUCT('Labor & Overhead Input'!$H$5/'Materials Catalog Input'!F75),\"0\")","v":{"v":0.8334285714285715,"d":"$0.83"}},"Knauf","Fiberglass"]
[null,171," 9 x 1",{"v":5.592,"d":"$5.59"},{"v":6.710399999999999,"d":"$6.71"},{"v":35,"d":"35.0"},{"$f":"IF(F76>0,PRODUCT('Labor & Overhead Input'!$H$5/'Materials Catalog Input'!F76),\"0\")","v":{"v":0.8334285714285715,"d":"$0.83"}},"Knauf","Fiberglass"]
[null,172," 9 x 1-1/2",{"v":6.912,"d":"$6.91"},{"v":8.2944,"d":"$8.29"},{"v":35,"d":"35.0"},{"$f":"IF(F77>0,PRODUCT('Labor & Overhead Input'!$H$5/'Materials Catalog Input'!F77),\"0\")","v":{"v":0.8334285714285715,"d":"$0.83"}},"Knauf","Fiberglass"]
[null,173," 9 x 2",{"v":10.14,"d":"$10.14"},{"v":12.168000000000001,"d":"$12.17"},{"v":35,"d":"35.0"},{"$f":"IF(F78>0,PRODUCT('Labor & Overhead Input'!$H$5/'Materials Catalog Input'!F78),\"0\")","v":{"v":0.8334285714285715,"d":"$0.83"}},"Knauf","Fiberglass"]
[null,174," 10 x 1/2",{"v":6.096,"d":"$6.10"},{"v":7.3152,"d":"$7.32"},{"v":35,"d":"35.0"},{"$f":"IF(F79>0,PRODUCT('Labor & Overhead Input'!$H$5/'Materials Catalog Input'!F79),\"0\")","v":{"v":0.8334285714285715,"d":"$0.83"}},"Knauf","Fiberglass"]
[null,175," 10 x 1",{"v":6.276000000000001,"d":"$6.28"},{"v":7.5312,"d":"$7.53"},{"v":35,"d":"35.0"},{"$f":"IF(F80>0,PRODUCT('Labor & Overhead Input'!$H$5/'Materials Catalog Input'!F80),\"0\")","v":{"v":0.8334285714285715,"d":"$0.83"}},"Knauf","Fiberglass"]
[null,176," 10 x 1-1/2",{"v":7.967999999999999,"d":"$7.97"},{"v":9.561599999999999,"d":"$9.56"},{"v":35,"d":"35.0"},{"$f":"IF(F81>0,PRODUCT('Labor & Overhead Input'!$H$5/'Materials Catalog Input'!F81),\"0\")","v":{"v":0.8334285714285715,"d":"$0.83"}},"Knauf","Fiberglass"]
[null,177," 10 x 2",{"v":11.472,"d":"$11.47"},{"v":13.766399999999999,"d":"$13.77"},{"v":35,"d":"35.0"},{"$f":"IF(F82>0,PRODUCT('Labor & Overhead Input'!$H$5/'Materials Catalog Input'!F82),\"0\")","v":{"v":0.8334285714285715,"d":"$0.83"}},"Knauf","Fiberglass"]
[null,178," 11 x 1",{"v":6.648,"d":"$6.65"},{"v":7.977599999999999,"d":"$7.98"},{"v":35,"d":"35.0"},{"$f":"IF(F83>0,PRODUCT('Labor & Overhead Input'!$H$5/'Materials Catalog Input'!F83),\"0\")","v":{"v":0.8334285714285715,"d":"$0.83"}},"Knauf","Fiberglass"]
[null,179," 11 x 1-1/2",{"v":8.256,"d":"$8.26"},{"v":9.9072,"d":"$9.91"},{"v":35,"d":"35.0"},{"$f":"IF(F84>0,PRODUCT('Labor & Overhead Input'!$H$5/'Materials Catalog Input'!F84),\"0\")","v":{"v":0.8334285714285715,"d":"$0.83"}},"Knauf","Fiberglass"]
[null,180," 11 x 2",{"v":11.94,"d":"$11.94"},{"v":14.328,"d":"$14.33"},{"v":35,"d":"35.0"},{"$f":"IF(F85>0,PRODUCT('Labor & Overhead Input'!$H$5/'Materials Catalog Input'!F85),\"0\")","v":{"v":0.8334285714285715,"d":"$0.83"}},"Knauf","Fiberglass"]
[null,181," 12 x 1",{"v":7.128,"d":"$7.13"},{"v":8.5536,"d":"$8.55"},{"v":35,"d":"35.0"},{"$f":"IF(F86>0,PRODUCT('Labor & Overhead Input'!$H$5/'Materials Catalog Input'!F86),\"0\")","v":{"v":0.8334285714285715,"d":"$0.83"}},"Knauf","Fiberglass"]
[null,182," 12 x 1-1/2",{"v":8.688,"d":"$8.69"},{"v":10.425600000000001,"d":"$10.43"},{"v":35,"d":"35.0"},{"$f":"IF(F87>0,PRODUCT('Labor & Overhead Input'!$H$5/'Materials Catalog Input'!F87),\"0\")","v":{"v":0.8334285714285715,"d":"$0.83"}},"Knauf","Fiberglass"]
[null,183," 12 x 2",{"v":12.66,"d":"$12.66"},{"v":15.192,"d":"$15.19"},{"v":35,"d":"35.0"},{"$f":"IF(F88>0,PRODUCT('Labor & Overhead Input'!$H$5/'Materials Catalog Input'!F88),\"0\")","v":{"v":0.8334285714285715,"d":"$0.83"}},"Knauf","Fiberglass"]
[null,184," 14 x 1",{"v":8.267999999999999,"d":"$8.27"},{"v":9.921599999999998,"d":"$9.92"},{"v":35,"d":"35.0"},{"$f":"IF(F89>0,PRODUCT('Labor & Overhead Input'!$H$5/'Materials Catalog Input'!F89),\"0\")","v":{"v":0.8334285714285715,"d":"$0.83"}},"Knauf","Fiberglass"]
[null,185," 14 x 1-1/2",{"v":10.02,"d":"$10.02"},{"v":12.024,"d":"$12.02"},{"v":35,"d":"35.0"},{"$f":"IF(F90>0,PRODUCT('Labor & Overhead Input'!$H$5/'Materials Catalog Input'!F90),\"0\")","v":{"v":0.8334285714285715,"d":"$0.83"}},"Knauf","Fiberglass"]
[null,186," 14 x 2",{"v":14.268,"d":"$14.27"},{"v":17.1216,"d":"$17.12"},{"v":35,"d":"35.0"},{"$f":"IF(F91>0,PRODUCT('Labor & Overhead Input'!$H$5/'Materials Catalog Input'!F91),\"0\")","v":{"v":0.8334285714285715,"d":"$0.83"}},"Knauf","Fiberglass"]
[null,187," 15 x 1",{"v":8.267999999999999,"d":"$8.27"},{"v":9.921599999999998,"d":"$9.92"},{"v":35,"d":"35.0"},{"$f":"IF(F92>0,PRODUCT('Labor & Overhead Input'!$H$5/'Materials Catalog Input'!F92),\"0\")","v":{"v":0.8334285714285715,"d":"$0.83"}},"Knauf","Fiberglass"]
[null,188," 15 x 1-1/2",{"v":10.02,"d":"$10.02"},{"v":12.024,"d":"$12.02"},{"v":35,"d":"35.0"},{"$f":"IF(F93>0,PRODUCT('Labor & Overhead Input'!$H$5/'Materials Catalog Input'!F93),\"0\")","v":{"v":0.8334285714285715,"d":"$0.83"}},"Knauf","Fiberglass"]
[null,189," 15 x 2",{"v":14.268,"d":"$14.27"},{"v":17.1216,"d":"$17.12"},{"v":35,"d":"35.0"},{"$f":"IF(F94>0,PRODUCT('Labor & Overhead Input'!$H$5/'Materials Catalog Input'!F94),\"0\")","v":{"v":0.8334285714285715,"d":"$0.83"}},"Knauf","Fiberglass"]
[null,190," 16 x 1",{"v":9.168,"d":"$9.17"},{"v":11.001599999999998,"d":"$11.00"},{"v":35,"d":"35.0"},{"$f":"IF(F95>0,PRODUCT('Labor & Overhead Input'!$H$5/'Materials Catalog Input'!F95),\"0\")","v":{"v":0.8334285714285715,"d":"$0.83"}},"Knauf","Fiberglass"]
[null,191," 16 x 1-1/2",{"v":11.088,"d":"$11.09"},{"v":13.305599999999998,"d":"$13.31"},{"v":35,"d":"35.0"},{"$f":"IF(F96>0,PRODUCT('Labor & Overhead Input'!$H$5/'Materials Catalog Input'!F96),\"0\")","v":{"v":0.8334285714285715,"d":"$0.83"}},"Knauf","Fiberglass"]
[null,192," 16 x 2",{"v":15.468,"d":"$15.47"},{"v":18.5616,"d":"$18.56"},{"v":35,"d":"35.0"},{"$f":"IF(F97>0,PRODUCT('Labor & Overhead Input'!$H$5/'Materials Catalog Input'!F97),\"0\")","v":{"v":0.8334285714285715,"d":"$0.83"}},"Knauf","Fiberglass"]
[null,193,"Enter New Product",{"v":0,"d":"$0.00"},{"v":0,"d":"$0.00"},null,{"$f":"IF(F98>0,PRODUCT('Labor & Overhead Input'!$H$5/'Materials Catalog Input'!F98),\"0\")","v":"0"},"Enter Description","Category"]
[null,194,"Enter New Product",{"v":0,"d":"$0.00"},{"v":0,"d":"$0.00"},null,{"$f":"IF(F99>0,PRODUCT('Labor & Overhead Input'!$H$5/'Materials Catalog Input'!F99),\"0\")","v":"0"},"Enter Description","Category"]
[null,195,"Enter New Product",{"v":0,"d":"$0.00"},{"v":0,"d":"$0.00"},null,{"$f":"IF(F100>0,PRODUCT('Labor & Overhead Input'!$H$5/'Materials Catalog Input'!F100),\"0\")","v":"0"},"Enter Description","Category"]
[null,196,"Enter New Product",{"v":0,"d":"$0.00"},{"v":0,"d":"$0.00"},null,{"$f":"IF(F101>0,PRODUCT('Labor & Overhead Input'!$H$5/'Materials Catalog Input'!F101),\"0\")","v":"0"},"Enter Description","Category"]
[null,197,"Enter New Product",{"v":0,"d":"$0.00"},{"v":0,"d":"$0.00"},null,{"$f":"IF(F102>0,PRODUCT('Labor & Overhead Input'!$H$5/'Materials Catalog Input'!F102),\"0\")","v":"0"},"Enter Description","Category"]
[null,198,"Enter New Product",{"v":0,"d":"$0.00"},{"v":0,"d":"$0.00"},null,{"$f":"IF(F103>0,PRODUCT('Labor & Overhead Input'!$H$5/'Materials Catalog Input'!F103),\"0\")","v":"0"},"Enter Description","Category"]
[null,199,"Enter New Product",{"v":0,"d":"$0.00"},{"v":0,"d":"$0.00"},null,{"$f":"IF(F104>0,PRODUCT('Labor & Overhead Input'!$H$5/'Materials Catalog Input'!F104),\"0\")","v":"0"},"Enter Description","Category"]
[null,200," 5/8 x 1/2",{"v":1.068,"d":"$1.07"},{"v":1.2816,"d":"$1.28"},{"v":35,"d":"35.0"},{"$f":"IF(F105>0,PRODUCT('Labor & Overhead Input'!$H$5/'Materials Catalog Input'!F105),\"0\")","v":{"v":0.8334285714285715,"d":"$0.83"}},"Knauf","Fiberglass"]
[null,201," 5/8 x 1",{"v":1.104,"d":"$1.10"},{"v":1.3248,"d":"$1.32"},{"v":35,"d":"35.0"},{"$f":"IF(F106>0,PRODUCT('Labor & Overhead Input'!$H$5/'Materials Catalog Input'!F106),\"0\")","v":{"v":0.8334285714285715,"d":"$0.83"}},"Knauf","Fiberglass"]
[null,202," 5/8 x 1-1/2",{"v":2.256,"d":"$2.26"},{"v":2.7072,"d":"$2.71"},{"v":35,"d":"35.0"},{"$f":"IF(F107>0,PRODUCT('Labor & Overhead Input'!$H$5/'Materials Catalog Input'!F107),\"0\")","v":{"v":0.8334285714285715,"d":"$0.83"}},"Knauf","Fiberglass"]
[null,203," 5/8 x 2",{"v":3.528,"d":"$3.53"},{"v":4.2336,"d":"$4.23"},{"v":35,"d":"35.0"},{"$f":"IF(F108>0,PRODUCT('Labor & Overhead Input'!$H$5/'Materials Catalog Input'!F108),\"0\")","v":{"v":0.8334285714285715,"d":"$0.83"}},"Knauf","Fiberglass"]
[null,204," 7/8 x 1/2",{"v":1.068,"d":"$1.07"},{"v":1.2816,"d":"$1.28"},{"v":35,"d":"35.0"},{"$f":"IF(F109>0,PRODUCT('Labor & Overhead Input'!$H$5/'Materials Catalog Input'!F109),\"0\")","v":{"v":0.8334285714285715,"d":"$0.83"}},"Knauf","Fiberglass"]
[null,205," 7/8 x 1",{"v":1.104,"d":"$1.10"},{"v":1.3248,"d":"$1.32"},{"v":35,"d":"35.0"},{"$f":"IF(F110>0,PRODUCT('Labor & Overhead Input'!$H$5/'Materials Catalog Input'!F110),\"0\")","v":{"v":0.8334285714285715,"d":"$0.83"}},"Knauf","Fiberglass"]
[null,206," 7/8 x 1-1/2",{"v":2.256,"d":"$2.26"},{"v":2.7072,"d":"$2.71"},{"v":35,"d":"35.0"},{"$f":"IF(F111>0,PRODUCT('Labor & Overhead Input'!$H$5/'Materials Catalog Input'!F111),\"0\")","v":{"v":0.8334285714285715,"d":"$0.83"}},"Knauf","Fiberglass"]
[null,207," 7/8 x 2",{"v":3.528,"d":"$3.53"},{"v":4.2336,"d":"$4.23"},{"v":35,"d":"35.0"},{"$f":"IF(F112>0,PRODUCT('Labor & Overhead Input'!$H$5/'Materials Catalog Input'!F112),\"0\")","v":{"v":0.8334285714285715,"d":"$0.83"}},"Knauf","Fiberglass"]
[null,208," 1-1/8 x 1/2",{"v":1.236,"d":"$1.24"},{"v":1.4831999999999999,"d":"$1.48"},{"v":35,"d":"35.0"},{"$f":"IF(F113>0,PRODUCT('Labor & Overhead Input'!$H$5/'Materials Catalog Input'!F113),\"0\")","v":{"v":0.8334285714285715,"d":"$0.83"}},"Knauf","Fiberglass"]
[null,209," 1-1/8 x 1",{"v":1.272,"d":"$1.27"},{"v":1.5264,"d":"$1.53"},{"v":35,"d":"35.0"},{"$f":"IF(F114>0,PRODUCT('Labor & Overhead Input'!$H$5/'Materials Catalog Input'!F114),\"0\")","v":{"v":0.8334285714285715,"d":"$0.83"}},"Knauf","Fiberglass"]
[null,210," 1-1/8 x 1-1/2",{"v":2.364,"d":"$2.36"},{"v":2.8367999999999998,"d":"$2.84"},{"v":35,"d":"35.0"},{"$f":"IF(F115>0,PRODUCT('Labor & Overhead Input'!$H$5/'Materials Catalog Input'!F115),\"0\")","v":{"v":0.8334285714285715,"d":"$0.83"}},"Knauf","Fiberglass"]
[null,211," 1-1/8 x 2",{"v":3.66,"d":"$3.66"},{"v":4.392,"d":"$4.39"},{"v":35,"d":"35.0"},{"$f":"IF(F116>0,PRODUCT('Labor & Overhead Input'!$H$5/'Materials Catalog Input'!F116),\"0\")","v":{"v":0.8334285714285715,"d":"$0.83"}},"Knauf","Fiberglass"]
[null,212," 1-3/8 x 1/2",{"v":1.248,"d":"$1.25"},{"v":1.4976,"d":"$1.50"},{"v":35,"d":"35.0"},{"$f":"IF(F117>0,PRODUCT('Labor & Overhead Input'!$H$5/'Materials Catalog Input'!F117),\"0\")","v":{"v":0.8334285714285715,"d":"$0.83"}},"Knauf","Fiberglass"]
[null,213," 1-3/8 x 1",{"v":1.284,"d":"$1.28"},{"v":1.5408,"d":"$1.54"},{"v":35,"d":"35.0"},{"$f":"IF(F118>0,PRODUCT('Labor & Overhead Input'!$H$5/'Materials Catalog Input'!F118),\"0\")","v":{"v":0.8334285714285715,"d":"$0.83"}},"Knauf","Fiberglass"]
[null,214," 1-3/8 x 1-1/2",{"v":2.472,"d":"$2.47"},{"v":2.9663999999999997,"d":"$2.97"},{"v":35,"d":"35.0"},{"$f":"IF(F119>0,PRODUCT('Labor & Overhead Input'!$H$5/'Materials Catalog Input'!F119),\"0\")","v":{"v":0.8334285714285715,"d":"$0.83"}},"Knauf","Fiberglass"]
[null,215," 1-3/8 x 2",{"v":3.9,"d":"$3.90"},{"v":4.68,"d":"$4.68"},{"v":35,"d":"35.0"},{"$f":"IF(F120>0,PRODUCT('Labor & Overhead Input'!$H$5/'Materials Catalog Input'!F120),\"0\")","v":{"v":0.8334285714285715,"d":"$0.83"}},"Knauf","Fiberglass"]
[null,216," 1-5/8 x 1/2",{"v":1.428,"d":"$1.43"},{"v":1.7135999999999998,"d":"$1.71"},{"v":35,"d":"35.0"},{"$f":"IF(F121>0,PRODUCT('Labor & Overhead Input'!$H$5/'Materials Catalog Input'!F121),\"0\")","v":{"v":0.8334285714285715,"d":"$0.83"}},"Knauf","Fiberglass"]
[null,217," 1-5/8 x 1",{"v":1.476,"d":"$1.48"},{"v":1.7711999999999999,"d":"$1.77"},{"v":35,"d":"35.0"},{"$f":"IF(F122>0,PRODUCT('Labor & Overhead Input'!$H$5/'Materials Catalog Input'!F122),\"0\")","v":{"v":0.8334285714285715,"d":"$0.83"}},"Knauf","Fiberglass"]
[null,218," 1-5/8 x 1-1/2",{"v":2.6519999999999997,"d":"$2.65"},{"v":3.1823999999999995,"d":"$3.18"},{"v":35,"d":"35.0"},{"$f":"IF(F123>0,PRODUCT('Labor & Overhead Input'!$H$5/'Materials Catalog Input'!F123),\"0\")","v":{"v":0.8334285714285715,"d":"$0.83"}},"Knauf","Fiberglass"]
[null,219," 1-5/8 x 2",{"v":4.14,"d":"$4.14"},{"v":4.967999999999999,"d":"$4.97"},{"v":35,"d":"35.0"},{"$f":"IF(F124>0,PRODUCT('Labor & Overhead Input'!$H$5/'Materials Catalog Input'!F124),\"0\")","v":{"v":0.8334285714285715,"d":"$0.83"}},"Knauf","Fiberglass"]
[null,220," 2-1/8 x 1/2",{"v":1.68,"d":"$1.68"},{"v":2.016,"d":"$2.02"},{"v":35,"d":"35.0"},{"$f":"IF(F125>0,PRODUCT('Labor & Overhead Input'!$H$5/'Materials Catalog Input'!F125),\"0\")","v":{"v":0.8334285714285715,"d":"$0.83"}},"Knauf","Fiberglass"]
[null,221," 2-1/8 x 1",{"v":1.728,"d":"$1.73"},{"v":2.0736,"d":"$2.07"},{"v":35,"d":"35.0"},{"$f":"IF(F126>0,PRODUCT('Labor & Overhead Input'!$H$5/'Materials Catalog Input'!F126),\"0\")","v":{"v":0.8334285714285715,"d":"$0.83"}},"Knauf","Fiberglass"]
[null,222," 2-1/8 x 2-1/2",{"v":3.06,"d":"$3.06"},{"v":3.6719999999999997,"d":"$3.67"},{"v":35,"d":"35.0"},{"$f":"IF(F127>0,PRODUCT('Labor & Overhead Input'!$H$5/'Materials Catalog Input'!F127),\"0\")","v":{"v":0.8334285714285715,"d":"$0.83"}},"Knauf","Fiberglass"]
[null,223," 2-1/8 x 2",{"v":4.536,"d":"$4.54"},{"v":5.443199999999999,"d":"$5.44"},{"v":35,"d":"35.0"},{"$f":"IF(F128>0,PRODUCT('Labor & Overhead Input'!$H$5/'Materials Catalog Input'!F128),\"0\")","v":{"v":0.8334285714285715,"d":"$0.83"}},"Knauf","Fiberglass"]
[null,224," 2-5/8 x 1/2-5/8",{"v":1.8479999999999999,"d":"$1.85"},{"v":2.2175999999999996,"d":"$2.22"},{"v":35,"d":"35.0"},{"$f":"IF(F129>0,PRODUCT('Labor & Overhead Input'!$H$5/'Materials Catalog Input'!F129),\"0\")","v":{"v":0.8334285714285715,"d":"$0.83"}},"Knauf","Fiberglass"]
[null,225," 2-5/8 x 1",{"v":1.896,"d":"$1.90"},{"v":2.2752,"d":"$2.28"},{"v":35,"d":"35.0"},{"$f":"IF(F130>0,PRODUCT('Labor & Overhead Input'!$H$5/'Materials Catalog Input'!F130),\"0\")","v":{"v":0.8334285714285715,"d":"$0.83"}},"Knauf","Fiberglass"]
[null,226," 2-5/8 x 1-1/2-5/8",{"v":3.36,"d":"$3.36"},{"v":4.032,"d":"$4.03"},{"v":35,"d":"35.0"},{"$f":"IF(F131>0,PRODUCT('Labor & Overhead Input'!$H$5/'Materials Catalog Input'!F131),\"0\")","v":{"v":0.8334285714285715,"d":"$0.83"}},"Knauf","Fiberglass"]
[null,227," 2-5/8 x 2",{"v":4.86,"d":"$4.86"},{"v":5.832,"d":"$5.83"},{"v":35,"d":"35.0"},{"$f":"IF(F132>0,PRODUCT('Labor & Overhead Input'!$H$5/'Materials Catalog Input'!F132),\"0\")","v":{"v":0.8334285714285715,"d":"$0.83"}},"Knauf","Fiberglass"]
[null,228," 3-1/8 x 1/2",{"v":2.076,"d":"$2.08"},{"$f":"D133*(1+$I$3)","v":{"v":2.4912,"d":"$2.49"}},{"v":35,"d":"35.0"},{"$f":"IF(F133>0,PRODUCT('Labor & Overhead Input'!$H$5/'Materials Catalog Input'!F133),\"0\")","v":{"v":0.8334285714285715,"d":"$0.83"}},"Knauf","Fiberglass"]
[null,229," 3-1/8 x 1",{"v":2.136,"d":"$2.14"},{"v":2.5632,"d":"$2.56"},{"v":35,"d":"35.0"},{"$f":"IF(F134>0,PRODUCT('Labor & Overhead Input'!$H$5/'Materials Catalog Input'!F134),\"0\")","v":{"v":0.8334285714285715,"d":"$0.83"}},"Knauf","Fiberglass"]
[null,230," 3-1/8 x 1-1/2",{"v":3.456,"d":"$3.46"},{"v":4.1472,"d":"$4.15"},{"v":35,"d":"35.0"},{"$f":"IF(F135>0,PRODUCT('Labor & Overhead Input'!$H$5/'Materials Catalog Input'!F135),\"0\")","v":{"v":0.8334285714285715,"d":"$0.83"}},"Knauf","Fiberglass"]
[null,231," 3-1/8 x 2",{"v":5.244,"d":"$5.24"},{"v":6.2928,"d":"$6.29"},{"v":35,"d":"35.0"},{"$f":"IF(F136>0,PRODUCT('Labor & Overhead Input'!$H$5/'Materials Catalog Input'!F136),\"0\")","v":{"v":0.8334285714285715,"d":"$0.83"}},"Knauf","Fiberglass"]
[null,232," 3-5/8 x 1/2",{"v":2.076,"d":"$2.08"},{"v":2.4912,"d":"$2.49"},{"v":35,"d":"35.0"},{"$f":"IF(F137>0,PRODUCT('Labor & Overhead Input'!$H$5/'Materials Catalog Input'!F137),\"0\")","v":{"v":0.8334285714285715,"d":"$0.83"}},"Knauf","Fiberglass"]
[null,233," 3-5/8 x 1",{"v":2.136,"d":"$2.14"},{"v":2.5632,"d":"$2.56"},{"v":35,"d":"35.0"},{"$f":"IF(F138>0,PRODUCT('Labor & Overhead Input'!$H$5/'Materials Catalog Input'!F138),\"0\")","v":{"v":0.8334285714285715,"d":"$0.83"}},"Knauf","Fiberglass"]
[null,234," 3-5/8 x 1-1/2",{"v":3.456,"d":"$3.46"},{"v":4.1472,"d":"$4.15"},{"v":35,"d":"35.0"},{"$f":"IF(F139>0,PRODUCT('Labor & Overhead Input'!$H$5/'Materials Catalog Input'!F139),\"0\")","v":{"v":0.8334285714285715,"d":"$0.83"}},"Knauf","Fiberglass"]
[null,235," 3-5/8 x 2",{"v":5.244,"d":"$5.24"},{"v":6.2928,"d":"$6.29"},{"v":35,"d":"35.0"},{"$f":"IF(F140>0,PRODUCT('Labor & Overhead Input'!$H$5/'Materials Catalog Input'!F140),\"0\")","v":{"v":0.8334285714285715,"d":"$0.83"}},"Knauf","Fiberglass"]
[null,236," 4-1/8 x 1/2",{"v":2.6759999999999997,"d":"$2.68"},{"v":3.2111999999999994,"d":"$3.21"},{"v":35,"d":"35.0"},{"$f":"IF(F141>0,PRODUCT('Labor & Overhead Input'!$H$5/'Materials Catalog Input'!F141),\"0\")","v":{"v":0.8334285714285715,"d":"$0.83"}},"Knauf","Fiberglass"]
[null,237," 4-1/8 x 1",{"v":2.76,"d":"$2.76"},{"v":3.312,"d":"$3.31"},{"v":35,"d":"35.0"},{"$f":"IF(F142>0,PRODUCT('Labor & Overhead Input'!$H$5/'Materials Catalog Input'!F142),\"0\")","v":{"v":0.8334285714285715,"d":"$0.83"}},"Knauf","Fiberglass"]
[null,238," 4-1/8 x 1-1/2",{"v":3.96,"d":"$3.96"},{"v":4.752,"d":"$4.75"},{"v":35,"d":"35.0"},{"$f":"IF(F143>0,PRODUCT('Labor & Overhead Input'!$H$5/'Materials Catalog Input'!F143),\"0\")","v":{"v":0.8334285714285715,"d":"$0.83"}},"Knauf","Fiberglass"]
[null,239," 4-1/8 x 2",{"v":6.012,"d":"$6.01"},{"v":7.2143999999999995,"d":"$7.21"},{"v":35,"d":"35.0"},{"$f":"IF(F144>0,PRODUCT('Labor & Overhead Input'!$H$5/'Materials Catalog Input'!F144),\"0\")","v":{"v":0.8334285714285715,"d":"$0.83"}},"Knauf","Fiberglass"]
[null,240," 5-1/8 x 1/2",{"v":3.0839999999999996,"d":"$3.08"},{"v":3.700799999999999,"d":"$3.70"},{"v":35,"d":"35.0"},{"$f":"IF(F145>0,PRODUCT('Labor & Overhead Input'!$H$5/'Materials Catalog Input'!F145),\"0\")","v":{"v":0.8334285714285715,"d":"$0.83"}},"Knauf","Fiberglass"]
[null,241," 5-1/8 x 1",{"v":3.18,"d":"$3.18"},{"v":3.816,"d":"$3.82"},{"v":35,"d":"35.0"},{"$f":"IF(F146>0,PRODUCT('Labor & Overhead Input'!$H$5/'Materials Catalog Input'!F146),\"0\")","v":{"v":0.8334285714285715,"d":"$0.83"}},"Knauf","Fiberglass"]
[null,242," 5-1/8 x 1-1/2",{"v":4.416,"d":"$4.42"},{"v":5.2992,"d":"$5.30"},{"v":35,"d":"35.0"},{"$f":"IF(F147>0,PRODUCT('Labor & Overhead Input'!$H$5/'Materials Catalog Input'!F147),\"0\")","v":{"v":0.8334285714285715,"d":"$0.83"}},"Knauf","Fiberglass"]
[null,243," 5-1/8 x 2",{"v":6.803999999999999,"d":"$6.80"},{"v":8.1648,"d":"$8.16"},{"v":35,"d":"35.0"},{"$f":"IF(F148>0,PRODUCT('Labor & Overhead Input'!$H$5/'Materials Catalog Input'!F148),\"0\")","v":{"v":0.8334285714285715,"d":"$0.83"}},"Knauf","Fiberglass"]
[null,244," 6-1/8 x 1/2",{"v":3.492,"d":"$3.49"},{"v":4.1903999999999995,"d":"$4.19"},{"v":35,"d":"35.0"},{"$f":"IF(F149>0,PRODUCT('Labor & Overhead Input'!$H$5/'Materials Catalog Input'!F149),\"0\")","v":{"v":0.8334285714285715,"d":"$0.83"}},"Knauf","Fiberglass"]
[null,245," 6-1/8 x 1",{"v":3.6,"d":"$3.60"},{"v":4.32,"d":"$4.32"},{"v":35,"d":"35.0"},{"$f":"IF(F150>0,PRODUCT('Labor & Overhead Input'!$H$5/'Materials Catalog Input'!F150),\"0\")","v":{"v":0.8334285714285715,"d":"$0.83"}},"Knauf","Fiberglass"]
[null,246," 6-1/8 x 1-1/2",{"v":4.848,"d":"$4.85"},{"v":5.8176,"d":"$5.82"},{"v":35,"d":"35.0"},{"$f":"IF(F151>0,PRODUCT('Labor & Overhead Input'!$H$5/'Materials Catalog Input'!F151),\"0\")","v":{"v":0.8334285714285715,"d":"$0.83"}},"Knauf","Fiberglass"]
[null,247," 6-1/8 x 2",{"v":7.428,"d":"$7.43"},{"v":8.913599999999999,"d":"$8.91"},{"v":35,"d":"35.0"},{"$f":"IF(F152>0,PRODUCT('Labor & Overhead Input'!$H$5/'Materials Catalog Input'!F152),\"0\")","v":{"v":0.8334285714285715,"d":"$0.83"}},"Knauf","Fiberglass"]
[null,248," 7-1/8 x 1/2",{"v":4.296,"d":"$4.30"},{"v":5.1552,"d":"$5.16"},{"v":35,"d":"35.0"},{"$f":"IF(F153>0,PRODUCT('Labor & Overhead Input'!$H$5/'Materials Catalog Input'!F153),\"0\")","v":{"v":0.8334285714285715,"d":"$0.83"}},"Knauf","Fiberglass"]
[null,249," 7-1/8 x 1",{"v":4.428,"d":"$4.43"},{"v":5.3136,"d":"$5.31"},{"v":35,"d":"35.0"},{"$f":"IF(F154>0,PRODUCT('Labor & Overhead Input'!$H$5/'Materials Catalog Input'!F154),\"0\")","v":{"v":0.8334285714285715,"d":"$0.83"}},"Knauf","Fiberglass"]
[null,250," 7-1/8 x 1-1/2",{"v":5.592,"d":"$5.59"},{"v":6.710399999999999,"d":"$6.71"},{"v":35,"d":"35.0"},{"$f":"IF(F155>0,PRODUCT('Labor & Overhead Input'!$H$5/'Materials Catalog Input'!F155),\"0\")","v":{"v":0.8334285714285715,"d":"$0.83"}},"Knauf","Fiberglass"]
[null,251," 7-1/8 x 2",{"v":8.52,"d":"$8.52"},{"v":10.223999999999998,"d":"$10.22"},{"v":35,"d":"35.0"},{"$f":"IF(F156>0,PRODUCT('Labor & Overhead Input'!$H$5/'Materials Catalog Input'!F156),\"0\")","v":{"v":0.8334285714285715,"d":"$0.83"}},"Knauf","Fiberglass"]
[null,252," 8-1/8 x 1/2",{"v":4.992,"d":"$4.99"},{"v":5.9904,"d":"$5.99"},{"v":35,"d":"35.0"},{"$f":"IF(F157>0,PRODUCT('Labor & Overhead Input'!$H$5/'Materials Catalog Input'!F157),\"0\")","v":{"v":0.8334285714285715,"d":"$0.83"}},"Knauf","Fiberglass"]
[null,253," 8-1/8 x 1",{"v":5.148,"d":"$5.15"},{"v":6.177599999999999,"d":"$6.18"},{"v":35,"d":"35.0"},{"$f":"IF(F158>0,PRODUCT('Labor & Overhead Input'!$H$5/'Materials Catalog Input'!F158),\"0\")","v":{"v":0.8334285714285715,"d":"$0.83"}},"Knauf","Fiberglass"]
[null,254," 8-1/8 x 1-1/2",{"v":6.06,"d":"$6.06"},{"v":7.271999999999999,"d":"$7.27"},{"v":35,"d":"35.0"},{"$f":"IF(F159>0,PRODUCT('Labor & Overhead Input'!$H$5/'Materials Catalog Input'!F159),\"0\")","v":{"v":0.8334285714285715,"d":"$0.83"}},"Knauf","Fiberglass"]
[null,255," 8-1/8 x 2",{"v":9.192,"d":"$9.19"},{"v":11.0304,"d":"$11.03"},{"v":35,"d":"35.0"},{"$f":"IF(F160>0,PRODUCT('Labor & Overhead Input'!$H$5/'Materials Catalog Input'!F160),\"0\")","v":{"v":0.8334285714285715,"d":"$0.83"}},"Knauf","Fiberglass"]
[null,256," 9-1/8 x 1/2",{"v":5.4239999999999995,"d":"$5.42"},{"v":6.508799999999999,"d":"$6.51"},{"v":35,"d":"35.0"},{"$f":"IF(F161>0,PRODUCT('Labor & Overhead Input'!$H$5/'Materials Catalog Input'!F161),\"0\")","v":{"v":0.8334285714285715,"d":"$0.83"}},"Knauf","Fiberglass"]
[null,257," 9-1/8 x 1",{"v":5.592,"d":"$5.59"},{"v":6.710399999999999,"d":"$6.71"},{"v":35,"d":"35.0"},{"$f":"IF(F162>0,PRODUCT('Labor & Overhead Input'!$H$5/'Materials Catalog Input'!F162),\"0\")","v":{"v":0.8334285714285715,"d":"$0.83"}},"Knauf","Fiberglass"]
[null,258," 9-1/8 x 1-1/2",{"v":6.912,"d":"$6.91"},{"v":8.2944,"d":"$8.29"},{"v":35,"d":"35.0"},{"$f":"IF(F163>0,PRODUCT('Labor & Overhead Input'!$H$5/'Materials Catalog Input'!F163),\"0\")","v":{"v":0.8334285714285715,"d":"$0.83"}},"Knauf","Fiberglass"]
[null,259," 9-1/8 x 2",{"v":10.14,"d":"$10.14"},{"v":12.168000000000001,"d":"$12.17"},{"v":35,"d":"35.0"},{"$f":"IF(F164>0,PRODUCT('Labor & Overhead Input'!$H$5/'Materials Catalog Input'!F164),\"0\")","v":{"v":0.8334285714285715,"d":"$0.83"}},"Knauf","Fiberglass"]
[null,260," 10-1/8 x 1/2",{"v":6.096,"d":"$6.10"},{"v":7.3152,"d":"$7.32"},{"v":35,"d":"35.0"},{"$f":"IF(F165>0,PRODUCT('Labor & Overhead Input'!$H$5/'Materials Catalog Input'!F165),\"0\")","v":{"v":0.8334285714285715,"d":"$0.83"}},"Knauf","Fiberglass"]
[null,261," 10-1/8 x 1",{"v":6.276000000000001,"d":"$6.28"},{"v":7.5312,"d":"$7.53"},{"v":35,"d":"35.0"},{"$f":"IF(F166>0,PRODUCT('Labor & Overhead Input'!$H$5/'Materials Catalog Input'!F166),\"0\")","v":{"v":0.8334285714285715,"d":"$0.83"}},"Knauf","Fiberglass"]
[null,262," 10-1/8 x 1-1/2",{"v":7.967999999999999,"d":"$7.97"},{"v":9.561599999999999,"d":"$9.56"},{"v":35,"d":"35.0"},{"$f":"IF(F167>0,PRODUCT('Labor & Overhead Input'!$H$5/'Materials Catalog Input'!F167),\"0\")","v":{"v":0.8334285714285715,"d":"$0.83"}},"Knauf","Fiberglass"]
[null,263," 10-1/8 x 2",{"v":11.472,"d":"$11.47"},{"v":13.766399999999999,"d":"$13.77"},{"v":35,"d":"35.0"},{"$f":"IF(F168>0,PRODUCT('Labor & Overhead Input'!$H$5/'Materials Catalog Input'!F168),\"0\")","v":{"v":0.8334285714285715,"d":"$0.83"}},"Knauf","Fiberglass"]
[null,264," 12-1/8 x 1",{"v":7.128,"d":"$7.13"},{"v":8.5536,"d":"$8.55"},{"v":35,"d":"35.0"},{"$f":"IF(F169>0,PRODUCT('Labor & Overhead Input'!$H$5/'Materials Catalog Input'!F169),\"0\")","v":{"v":0.8334285714285715,"d":"$0.83"}},"Knauf","Fiberglass"]
[null,265," 12-1/8 x 1-1/2",{"v":8.688,"d":"$8.69"},{"v":10.425600000000001,"d":"$10.43"},{"v":35,"d":"35.0"},{"$f":"IF(F170>0,PRODUCT('Labor & Overhead Input'!$H$5/'Materials Catalog Input'!F170),\"0\")","v":{"v":0.8334285714285715,"d":"$0.83"}},"Knauf","Fiberglass"]
[null,266," 12-1/8 x 2",{"v":12.66,"d":"$12.66"},{"v":15.192,"d":"$15.19"},{"v":35,"d":"35.0"},{"$f":"IF(F171>0,PRODUCT('Labor & Overhead Input'!$H$5/'Materials Catalog Input'!F171),\"0\")","v":{"v":0.8334285714285715,"d":"$0.83"}},"Knauf","Fiberglass"]
[null,267," 12-1/8 x 5.00",{"v":41.34,"d":"$41.34"},{"v":49.608000000000004,"d":"$49.61"},{"v":35,"d":"35.0"},{"$f":"IF(F172>0,PRODUCT('Labor & Overhead Input'!$H$5/'Materials Catalog Input'!F172),\"0\")","v":{"v":0.8334285714285715,"d":"$0.83"}},"Knauf","Fiberglass"]
[null,268,"Duct Wrap 1-1/2\"",{"v":0.2,"d":"$0.20"},{"v":0.24,"d":"$0.24"},{"v":50,"d":"50.0"},{"$f":"IF(F173>0,PRODUCT('Labor & Overhead Input'!$H$5/'Materials Catalog Input'!F173),\"0\")","v":{"v":0.5834,"d":"$0.58"}},"Knauf","Duct Wrap"]
[null,269,"Duct Wrap 2\"",0.25,{"v":0.3,"d":"$0.30"},{"v":50,"d":"50.0"},{"$f":"IF(F174>0,PRODUCT('Labor & Overhead Input'!$H$5/'Materials Catalog Input'!F174),\"0\")","v":{"v":0.5834,"d":"$0.58"}},"Knauf","Duct Wrap"]
[null,270,"Enter New Product",{"v":0,"d":"$0.00"},{"v":0,"d":"$0.00"},null,{"$f":"IF(F175>0,PRODUCT('Labor & Overhead Input'!$H$5/'Materials Catalog Input'!F175),\"0\")","v":"0"},"Enter Description","Category"]
[null,271,"Enter New Product",{"v":0,"d":"$0.00"},{"v":0,"d":"$0.00"},null,{"$f":"IF(F176>0,PRODUCT('Labor & Overhead Input'!$H$5/'Materials Catalog Input'!F176),\"0\")","v":"0"},"Enter Description","Category"]
[null,272,"Enter New Product",{"v":0,"d":"$0.00"},{"v":0,"d":"$0.00"},null,{"$f":"IF(F177>0,PRODUCT('Labor & Overhead Input'!$H$5/'Materials Catalog Input'!F177),\"0\")","v":"0"},"Enter Description","Category"]
[null,273,"Enter New Product",{"v":0,"d":"$0.00"},{"v":0,"d":"$0.00"},null,{"$f":"IF(F178>0,PRODUCT('Labor & Overhead Input'!$H$5/'Materials Catalog Input'!F178),\"0\")","v":"0"},"Enter Description","Category"]
[null,274,"Enter New Product",{"v":0,"d":"$0.00"},{"v":0,"d":"$0.00"},null,{"$f":"IF(F179>0,PRODUCT('Labor & Overhead Input'!$H$5/'Materials Catalog Input'!F179),\"0\")","v":"0"},"Enter Description","Category"]
[null,275,"Enter New Product",{"v":0,"d":"$0.00"},{"v":0,"d":"$0.00"},null,{"$f":"IF(F180>0,PRODUCT('Labor & Overhead Input'!$H$5/'Materials Catalog Input'!F180),\"0\")","v":"0"},"Enter Description","Category"]
[null,276,"Enter New Product",{"v":0,"d":"$0.00"},{"v":0,"d":"$0.00"},null,{"$f":"IF(F181>0,PRODUCT('Labor & Overhead Input'!$H$5/'Materials Catalog Input'!F181),\"0\")","v":"0"},"Enter Description","Category"]
[null,277,"Enter New Product",{"v":0,"d":"$0.00"},{"v":0,"d":"$0.00"},null,{"$f":"IF(F182>0,PRODUCT('Labor & Overhead Input'!$H$5/'Materials Catalog Input'!F182),\"0\")","v":"0"},"Enter Description","Category"]
[null,278,"Enter New Product",{"v":0,"d":"$0.00"},{"v":0,"d":"$0.00"},null,{"$f":"IF(F183>0,PRODUCT('Labor & Overhead Input'!$H$5/'Materials Catalog Input'!F183),\"0\")","v":"0"},"Enter Description","Category"]
[null,279,"Enter New Product",{"v":0,"d":"$0.00"},{"v":0,"d":"$0.00"},null,{"$f":"IF(F184>0,PRODUCT('Labor & Overhead Input'!$H$5/'Materials Catalog Input'!F184),\"0\")","v":"0"},"Enter Description","Category"]
[null,280,"Enter New Product",{"v":0,"d":"$0.00"},{"v":0,"d":"$0.00"},null,{"$f":"IF(F185>0,PRODUCT('Labor & Overhead Input'!$H$5/'Materials Catalog Input'!F185),\"0\")","v":"0"},"Enter Description","Category"]
[null,281,"Enter New Product",{"v":0,"d":"$0.00"},{"v":0,"d":"$0.00"},null,{"$f":"IF(F186>0,PRODUCT('Labor & Overhead Input'!$H$5/'Materials Catalog Input'!F186),\"0\")","v":"0"},"Enter Description","Category"]
[null,282,"Enter New Product",{"v":0,"d":"$0.00"},{"v":0,"d":"$0.00"},null,{"$f":"IF(F187>0,PRODUCT('Labor & Overhead Input'!$H$5/'Materials Catalog Input'!F187),\"0\")","v":"0"},"Enter Description","Category"]
[null,283,"Enter New Product",{"v":0,"d":"$0.00"},{"v":0,"d":"$0.00"},null,{"$f":"IF(F188>0,PRODUCT('Labor & Overhead Input'!$H$5/'Materials Catalog Input'!F188),\"0\")","v":"0"},"Enter Description","Category"]
[null,284,"Enter New Product",{"v":0,"d":"$0.00"},{"v":0,"d":"$0.00"},null,{"$f":"IF(F189>0,PRODUCT('Labor & Overhead Input'!$H$5/'Materials Catalog Input'!F189),\"0\")","v":"0"},"Enter Description","Category"]
[null,285,"Enter New Product",{"v":0,"d":"$0.00"},{"v":0,"d":"$0.00"},null,{"$f":"IF(F190>0,PRODUCT('Labor & Overhead Input'!$H$5/'Materials Catalog Input'!F190),\"0\")","v":"0"},"Enter Description","Category"]
[null,286,"Enter New Product",{"v":0,"d":"$0.00"},{"v":0,"d":"$0.00"},null,{"$f":"IF(F191>0,PRODUCT('Labor & Overhead Input'!$H$5/'Materials Catalog Input'!F191),\"0\")","v":"0"},"Enter Description","Category"]
[null,287,"Enter New Product",{"v":0,"d":"$0.00"},{"v":0,"d":"$0.00"},null,{"$f":"IF(F192>0,PRODUCT('Labor & Overhead Input'!$H$5/'Materials Catalog Input'!F192),\"0\")","v":"0"},"Enter Description","Category"]
[null,288,"Enter New Product",{"v":0,"d":"$0.00"},{"v":0,"d":"$0.00"},null,{"$f":"IF(F193>0,PRODUCT('Labor & Overhead Input'!$H$5/'Materials Catalog Input'!F193),\"0\")","v":"0"},"Enter Description","Category"]
[null,289,"Enter New Product",{"v":0,"d":"$0.00"},{"v":0,"d":"$0.00"},null,{"$f":"IF(F194>0,PRODUCT('Labor & Overhead Input'!$H$5/'Materials Catalog Input'!F194),\"0\")","v":"0"},"Enter Description","Category"]
[null,290,"Enter New Product",{"v":0,"d":"$0.00"},{"v":0,"d":"$0.00"},null,{"$f":"IF(F195>0,PRODUCT('Labor & Overhead Input'!$H$5/'Materials Catalog Input'!F195),\"0\")","v":"0"},"Enter Description","Category"]
[null,291,"Enter New Product",{"v":0,"d":"$0.00"},{"v":0,"d":"$0.00"},null,{"$f":"IF(F196>0,PRODUCT('Labor & Overhead Input'!$H$5/'Materials Catalog Input'!F196),\"0\")","v":"0"},"Enter Description","Category"]
[null,292,"Enter New Product",{"v":0,"d":"$0.00"},{"$f":"D197*(1+$I$3)","v":{"v":0,"d":"$0.00"}},null,{"$f":"IF(F197>0,PRODUCT('Labor & Overhead Input'!$H$5/'Materials Catalog Input'!F197),\"0\")","v":"0"},"Enter Description","Category"]
[null,293,"Enter New Product",{"v":0,"d":"$0.00"},{"v":0,"d":"$0.00"},null,{"$f":"IF(F198>0,PRODUCT('Labor & Overhead Input'!$H$5/'Materials Catalog Input'!F198),\"0\")","v":"0"},"Enter Description","Category"]
[null,294,"Enter New Product",{"v":0,"d":"$0.00"},{"v":0,"d":"$0.00"},null,{"$f":"IF(F199>0,PRODUCT('Labor & Overhead Input'!$H$5/'Materials Catalog Input'!F199),\"0\")","v":"0"},"Enter Description","Category"]
[null,295,"Enter New Product",{"v":0,"d":"$0.00"},{"v":0,"d":"$0.00"},null,{"$f":"IF(F200>0,PRODUCT('Labor & Overhead Input'!$H$5/'Materials Catalog Input'!F200),\"0\")","v":"0"},"Enter Description","Category"]
[null,296,"Enter New Product",{"v":0,"d":"$0.00"},{"v":0,"d":"$0.00"},null,{"$f":"IF(F201>0,PRODUCT('Labor & Overhead Input'!$H$5/'Materials Catalog Input'!F201),\"0\")","v":"0"},"Enter Description","Category"]
[null,297,"Enter New Product",{"v":0,"d":"$0.00"},{"v":0,"d":"$0.00"},null,{"$f":"IF(F202>0,PRODUCT('Labor & Overhead Input'!$H$5/'Materials Catalog Input'!F202),\"0\")","v":"0"},"Enter Description","Category"]
[null,298,"Enter New Product",{"v":0,"d":"$0.00"},{"v":0,"d":"$0.00"},null,{"$f":"IF(F203>0,PRODUCT('Labor & Overhead Input'!$H$5/'Materials Catalog Input'!F203),\"0\")","v":"0"},"Enter Description","Category"]
[null,299,"Enter New Product",{"v":0,"d":"$0.00"},{"v":0,"d":"$0.00"},null,{"$f":"IF(F204>0,PRODUCT('Labor & Overhead Input'!$H$5/'Materials Catalog Input'!F204),\"0\")","v":"0"},"Enter Description","Category"]
[null,300,"ASJ  2 x 50",{"v":7.5,"d":"$7.50"},{"v":9,"d":"$9.00"},{"v":50,"d":"50.0"},{"$f":"IF(F205>0,PRODUCT('Labor & Overhead Input'!$H$5/'Materials Catalog Input'!F205),\"0\")","v":{"v":0.5834,"d":"$0.58"}},"Ideal Tape","Tape"]
[null,301,"ASJ  3 x 50",{"v":11.256,"d":"$11.26"},{"v":13.5072,"d":"$13.51"},{"v":50,"d":"50.0"},{"$f":"IF(F206>0,PRODUCT('Labor & Overhead Input'!$H$5/'Materials Catalog Input'!F206),\"0\")","v":{"v":0.5834,"d":"$0.58"}},"Ideal Tape","Tape"]
[null,302,"ASJ  4 x 50",{"v":15,"d":"$15.00"},{"v":18,"d":"$18.00"},{"v":50,"d":"50.0"},{"$f":"IF(F207>0,PRODUCT('Labor & Overhead Input'!$H$5/'Materials Catalog Input'!F207),\"0\")","v":{"v":0.5834,"d":"$0.58"}},"Ideal Tape","Tape"]
[null,303,"ASJ  2-1/2 x 36",{"v":20.808,"d":"$20.81"},{"v":24.9696,"d":"$24.97"},{"v":36,"d":"36.0"},{"$f":"IF(F208>0,PRODUCT('Labor & Overhead Input'!$H$5/'Materials Catalog Input'!F208),\"0\")","v":{"v":0.8102777777777779,"d":"$0.81"}},"Ideal Tape","Tape"]
[null,304,"FSK  2 x 50",{"v":4.356,"d":"$4.36"},{"v":5.2272,"d":"$5.23"},{"v":50,"d":"50.0"},{"$f":"IF(F209>0,PRODUCT('Labor & Overhead Input'!$H$5/'Materials Catalog Input'!F209),\"0\")","v":{"v":0.5834,"d":"$0.58"}},"Ideal Tape","Tape"]
[null,305,"FSK  3 x 50",{"v":6.54,"d":"$6.54"},{"v":7.848,"d":"$7.85"},{"v":50,"d":"50.0"},{"$f":"IF(F210>0,PRODUCT('Labor & Overhead Input'!$H$5/'Materials Catalog Input'!F210),\"0\")","v":{"v":0.5834,"d":"$0.58"}},"Ideal Tape","Tape"]
[null,306,"FSK  4 x 50",{"v":8.712,"d":"$8.71"},{"v":10.4544,"d":"$10.45"},{"v":50,"d":"50.0"},{"$f":"IF(F211>0,PRODUCT('Labor & Overhead Input'!$H$5/'Materials Catalog Input'!F211),\"0\")","v":{"v":0.5834,"d":"$0.58"}},"Ideal Tape","Tape"]
[null,307,"PVC  1 x 36",{"v":2.1,"d":"$2.10"},{"v":2.52,"d":"$2.52"},{"v":36,"d":"36.0"},{"$f":"IF(F212>0,PRODUCT('Labor & Overhead Input'!$H$5/'Materials Catalog Input'!F212),\"0\")","v":{"v":0.8102777777777779,"d":"$0.81"}},"Ideal Tape","Tape"]
[null,308,"PVC  1-1/2 x 36",{"v":3.1319999999999997,"d":"$3.13"},{"v":3.7583999999999995,"d":"$3.76"},{"v":36,"d":"36.0"},{"$f":"IF(F213>0,PRODUCT('Labor & Overhead Input'!$H$5/'Materials Catalog Input'!F213),\"0\")","v":{"v":0.8102777777777779,"d":"$0.81"}},"Ideal Tape","Tape"]
[null,309,"PVC  2 x 35",{"v":4.176,"d":"$4.18"},{"v":5.0112,"d":"$5.01"},{"v":35,"d":"35.0"},{"$f":"IF(F214>0,PRODUCT('Labor & Overhead Input'!$H$5/'Materials Catalog Input'!F214),\"0\")","v":{"v":0.8334285714285715,"d":"$0.83"}},"Ideal Tape","Tape"]
[null,310,"Enter New Product",{"v":0,"d":"$0.00"},{"v":0,"d":"$0.00"},null,{"$f":"IF(F215>0,PRODUCT('Labor & Overhead Input'!$H$5/'Materials Catalog Input'!F215),\"0\")","v":"0"},"Enter Description","Category"]
[null,311,"Enter New Product",{"v":0,"d":"$0.00"},{"v":0,"d":"$0.00"},null,{"$f":"IF(F216>0,PRODUCT('Labor & Overhead Input'!$H$5/'Materials Catalog Input'!F216),\"0\")","v":"0"},"Enter Description","Category"]
[null,312,"Enter New Product",{"v":0,"d":"$0.00"},{"v":0,"d":"$0.00"},null,{"$f":"IF(F217>0,PRODUCT('Labor & Overhead Input'!$H$5/'Materials Catalog Input'!F217),\"0\")","v":"0"},"Enter Description","Category"]
[null,313,"Enter New Product",{"v":0,"d":"$0.00"},{"v":0,"d":"$0.00"},null,{"$f":"IF(F218>0,PRODUCT('Labor & Overhead Input'!$H$5/'Materials Catalog Input'!F218),\"0\")","v":"0"},"Enter Description","Category"]
[null,314,"Enter New Product",{"v":0,"d":"$0.00"},{"v":0,"d":"$0.00"},null,{"$f":"IF(F219>0,PRODUCT('Labor & Overhead Input'!$H$5/'Materials Catalog Input'!F219),\"0\")","v":"0"},"Enter Description","Category"]
[null,315,"Enter New Product",{"v":0,"d":"$0.00"},{"v":0,"d":"$0.00"},null,{"$f":"IF(F220>0,PRODUCT('Labor & Overhead Input'!$H$5/'Materials Catalog Input'!F220),\"0\")","v":"0"},"Enter Description","Category"]
[null,316,"Enter New Product",{"v":0,"d":"$0.00"},{"v":0,"d":"$0.00"},null,{"$f":"IF(F221>0,PRODUCT('Labor & Overhead Input'!$H$5/'Materials Catalog Input'!F221),\"0\")","v":"0"},"Enter Description","Category"]
[null,317,"Enter New Product",{"v":0,"d":"$0.00"},{"v":0,"d":"$0.00"},null,{"$f":"IF(F222>0,PRODUCT('Labor & Overhead Input'!$H$5/'Materials Catalog Input'!F222),\"0\")","v":"0"},"Enter Description","Category"]
[null,318,"Enter New Product",{"v":0,"d":"$0.00"},{"v":0,"d":"$0.00"},null,{"$f":"IF(F223>0,PRODUCT('Labor & Overhead Input'!$H$5/'Materials Catalog Input'!F223),\"0\")","v":"0"},"Enter Description","Category"]
[null,319,"Enter New Product",{"v":0,"d":"$0.00"},{"v":0,"d":"$0.00"},null,{"$f":"IF(F224>0,PRODUCT('Labor & Overhead Input'!$H$5/'Materials Catalog Input'!F224),\"0\")","v":"0"},"Enter Description","Category"]
[null,320,"Enter New Product",{"v":0,"d":"$0.00"},{"v":0,"d":"$0.00"},null,{"$f":"IF(F225>0,PRODUCT('Labor & Overhead Input'!$H$5/'Materials Catalog Input'!F225),\"0\")","v":"0"},"Enter Description","Category"]
[null,321,"Enter New Product",{"v":0,"d":"$0.00"},{"v":0,"d":"$0.00"},null,{"$f":"IF(F226>0,PRODUCT('Labor & Overhead Input'!$H$5/'Materials Catalog Input'!F226),\"0\")","v":"0"},"Enter Description","Category"]
[null,322,"Enter New Product",{"v":0,"d":"$0.00"},{"v":0,"d":"$0.00"},null,{"$f":"IF(F227>0,PRODUCT('Labor & Overhead Input'!$H$5/'Materials Catalog Input'!F227),\"0\")","v":"0"},"Enter Description","Category"]
[null,323,"Enter New Product",{"v":0,"d":"$0.00"},{"v":0,"d":"$0.00"},null,{"$f":"IF(F228>0,PRODUCT('Labor & Overhead Input'!$H$5/'Materials Catalog Input'!F228),\"0\")","v":"0"},"Enter Description","Category"]
[null,324,"Enter New Product",{"v":0,"d":"$0.00"},{"v":0,"d":"$0.00"},null,{"$f":"IF(F229>0,PRODUCT('Labor & Overhead Input'!$H$5/'Materials Catalog Input'!F229),\"0\")","v":"0"},"Enter Description","Category"]
[null,325,"Enter New Product",{"v":0,"d":"$0.00"},{"v":0,"d":"$0.00"},null,{"$f":"IF(F230>0,PRODUCT('Labor & Overhead Input'!$H$5/'Materials Catalog Input'!F230),\"0\")","v":"0"},"Enter Description","Category"]
[null,326,"Enter New Product",{"v":0,"d":"$0.00"},{"v":0,"d":"$0.00"},null,{"$f":"IF(F231>0,PRODUCT('Labor & Overhead Input'!$H$5/'Materials Catalog Input'!F231),\"0\")","v":"0"},"Enter Description","Category"]
[null,327,"Enter New Product",{"v":0,"d":"$0.00"},{"v":0,"d":"$0.00"},null,{"$f":"IF(F232>0,PRODUCT('Labor & Overhead Input'!$H$5/'Materials Catalog Input'!F232),\"0\")","v":"0"},"Enter Description","Category"]
[null,328,"Enter New Product",{"v":0,"d":"$0.00"},{"v":0,"d":"$0.00"},null,{"$f":"IF(F233>0,PRODUCT('Labor & Overhead Input'!$H$5/'Materials Catalog Input'!F233),\"0\")","v":"0"},"Enter Description","Category"]
[null,329,"Enter New Product",{"v":0,"d":"$0.00"},{"v":0,"d":"$0.00"},null,{"$f":"IF(F234>0,PRODUCT('Labor & Overhead Input'!$H$5/'Materials Catalog Input'!F234),\"0\")","v":"0"},"Enter Description","Category"]
[null,330,"Enter New Product",{"v":0,"d":"$0.00"},{"v":0,"d":"$0.00"},null,{"$f":"IF(F235>0,PRODUCT('Labor & Overhead Input'!$H$5/'Materials Catalog Input'!F235),\"0\")","v":"0"},"Enter Description","Category"]
[null,331,"Enter New Product",{"v":0,"d":"$0.00"},{"v":0,"d":"$0.00"},null,{"$f":"IF(F236>0,PRODUCT('Labor & Overhead Input'!$H$5/'Materials Catalog Input'!F236),\"0\")","v":"0"},"Enter Description","Category"]
[null,332,"Enter New Product",{"v":0,"d":"$0.00"},{"v":0,"d":"$0.00"},null,{"$f":"IF(F237>0,PRODUCT('Labor & Overhead Input'!$H$5/'Materials Catalog Input'!F237),\"0\")","v":"0"},"Enter Description","Category"]
[null,333,"Enter New Product",{"v":0,"d":"$0.00"},{"v":0,"d":"$0.00"},null,{"$f":"IF(F238>0,PRODUCT('Labor & Overhead Input'!$H$5/'Materials Catalog Input'!F238),\"0\")","v":"0"},"Enter Description","Category"]
[null,334,"Enter New Product",{"v":0,"d":"$0.00"},{"v":0,"d":"$0.00"},null,{"$f":"IF(F239>0,PRODUCT('Labor & Overhead Input'!$H$5/'Materials Catalog Input'!F239),\"0\")","v":"0"},"Enter Description","Category"]
[null,335,"Enter New Product",{"v":0,"d":"$0.00"},{"v":0,"d":"$0.00"},null,{"$f":"IF(F240>0,PRODUCT('Labor & Overhead Input'!$H$5/'Materials Catalog Input'!F240),\"0\")","v":"0"},"Enter Description","Category"]
[null,336,"Enter New Product",{"v":0,"d":"$0.00"},{"v":0,"d":"$0.00"},null,{"$f":"IF(F241>0,PRODUCT('Labor & Overhead Input'!$H$5/'Materials Catalog Input'!F241),\"0\")","v":"0"},"Enter Description","Category"]
[null,337,"Enter New Product",{"v":0,"d":"$0.00"},{"v":0,"d":"$0.00"},null,{"$f":"IF(F242>0,PRODUCT('Labor & Overhead Input'!$H$5/'Materials Catalog Input'!F242),\"0\")","v":"0"},"Enter Description","Category"]
[null,338,"Enter New Product",{"v":0,"d":"$0.00"},{"v":0,"d":"$0.00"},null,{"$f":"IF(F243>0,PRODUCT('Labor & Overhead Input'!$H$5/'Materials Catalog Input'!F243),\"0\")","v":"0"},"Enter Description","Category"]
[null,339,"Enter New Product",{"v":0,"d":"$0.00"},{"v":0,"d":"$0.00"},null,{"$f":"IF(F244>0,PRODUCT('Labor & Overhead Input'!$H$5/'Materials Catalog Input'!F244),\"0\")","v":"0"},"Enter Description","Category"]
[null,340,"Enter New Product",{"v":0,"d":"$0.00"},{"v":0,"d":"$0.00"},null,{"$f":"IF(F245>0,PRODUCT('Labor & Overhead Input'!$H$5/'Materials Catalog Input'!F245),\"0\")","v":"0"},"Enter Description","Category"]
[null,341,"Enter New Product",{"v":0,"d":"$0.00"},{"v":0,"d":"$0.00"},null,{"$f":"IF(F246>0,PRODUCT('Labor & Overhead Input'!$H$5/'Materials Catalog Input'!F246),\"0\")","v":"0"},"Enter Description","Category"]
[null,342,"Enter New Product",{"v":0,"d":"$0.00"},{"v":0,"d":"$0.00"},null,{"$f":"IF(F247>0,PRODUCT('Labor & Overhead Input'!$H$5/'Materials Catalog Input'!F247),\"0\")","v":"0"},"Enter Description","Category"]
[null,343,"Enter New Product",{"v":0,"d":"$0.00"},{"v":0,"d":"$0.00"},null,{"$f":"IF(F248>0,PRODUCT('Labor & Overhead Input'!$H$5/'Materials Catalog Input'!F248),\"0\")","v":"0"},"Enter Description","Category"]
[null,344,"Enter New Product",{"v":0,"d":"$0.00"},{"v":0,"d":"$0.00"},null,{"$f":"IF(F249>0,PRODUCT('Labor & Overhead Input'!$H$5/'Materials Catalog Input'!F249),\"0\")","v":"0"},"Enter Description","Category"]
[null,345,"Enter New Product",{"v":0,"d":"$0.00"},{"v":0,"d":"$0.00"},null,{"$f":"IF(F250>0,PRODUCT('Labor & Overhead Input'!$H$5/'Materials Catalog Input'!F250),\"0\")","v":"0"},"Enter Description","Category"]
[null,346,"Enter New Product",{"v":0,"d":"$0.00"},{"v":0,"d":"$0.00"},null,{"$f":"IF(F251>0,PRODUCT('Labor & Overhead Input'!$H$5/'Materials Catalog Input'!F251),\"0\")","v":"0"},"Enter Description","Category"]
[null,347,"Enter New Product",{"v":0,"d":"$0.00"},{"v":0,"d":"$0.00"},null,{"$f":"IF(F252>0,PRODUCT('Labor & Overhead Input'!$H$5/'Materials Catalog Input'!F252),\"0\")","v":"0"},"Enter Description","Category"]
[null,348,"Enter New Product",{"v":0,"d":"$0.00"},{"v":0,"d":"$0.00"},null,{"$f":"IF(F253>0,PRODUCT('Labor & Overhead Input'!$H$5/'Materials Catalog Input'!F253),\"0\")","v":"0"},"Enter Description","Category"]
[null,349,"Enter New Product",{"v":0,"d":"$0.00"},{"v":0,"d":"$0.00"},null,{"$f":"IF(F254>0,PRODUCT('Labor & Overhead Input'!$H$5/'Materials Catalog Input'!F254),\"0\")","v":"0"},"Enter Description","Category"]
[null,350,"Enter New Product",{"v":0,"d":"$0.00"},{"v":0,"d":"$0.00"},null,{"$f":"IF(F255>0,PRODUCT('Labor & Overhead Input'!$H$5/'Materials Catalog Input'!F255),\"0\")","v":"0"},"Enter Description","Category"]
[null,351,"Enter New Product",{"v":0,"d":"$0.00"},{"v":0,"d":"$0.00"},null,{"$f":"IF(F256>0,PRODUCT('Labor & Overhead Input'!$H$5/'Materials Catalog Input'!F256),\"0\")","v":"0"},"Enter Description","Category"]
[null,352,"Enter New Product",{"v":0,"d":"$0.00"},{"v":0,"d":"$0.00"},null,{"$f":"IF(F257>0,PRODUCT('Labor & Overhead Input'!$H$5/'Materials Catalog Input'!F257),\"0\")","v":"0"},"Enter Description","Category"]
[null,353,"Enter New Product",{"v":0,"d":"$0.00"},{"v":0,"d":"$0.00"},null,{"$f":"IF(F258>0,PRODUCT('Labor & Overhead Input'!$H$5/'Materials Catalog Input'!F258),\"0\")","v":"0"},"Enter Description","Category"]
[null,354,"Enter New Product",{"v":0,"d":"$0.00"},{"v":0,"d":"$0.00"},null,{"$f":"IF(F259>0,PRODUCT('Labor & Overhead Input'!$H$5/'Materials Catalog Input'!F259),\"0\")","v":"0"},"Enter Description","Category"]
[null,355,"Enter New Product",{"v":0,"d":"$0.00"},{"v":0,"d":"$0.00"},null,{"$f":"IF(F260>0,PRODUCT('Labor & Overhead Input'!$H$5/'Materials Catalog Input'!F260),\"0\")","v":"0"},"Enter Description","Category"]
[null,356,"Enter New Product",{"v":0,"d":"$0.00"},{"$f":"D261*(1+$I$3)","v":{"v":0,"d":"$0.00"}},null,{"$f":"IF(F261>0,PRODUCT('Labor & Overhead Input'!$H$5/'Materials Catalog Input'!F261),\"0\")","v":"0"},"Enter Description","Category"]
[null,357,"Enter New Product",{"v":0,"d":"$0.00"},{"v":0,"d":"$0.00"},null,{"$f":"IF(F262>0,PRODUCT('Labor & Overhead Input'!$H$5/'Materials Catalog Input'!F262),\"0\")","v":"0"},"Enter Description","Category"]
[null,358,"Enter New Product",{"v":0,"d":"$0.00"},{"v":0,"d":"$0.00"},null,{"$f":"IF(F263>0,PRODUCT('Labor & Overhead Input'!$H$5/'Materials Catalog Input'!F263),\"0\")","v":"0"},"Enter Description","Category"]
[null,359,"Enter New Product",{"v":0,"d":"$0.00"},{"v":0,"d":"$0.00"},null,{"$f":"IF(F264>0,PRODUCT('Labor & Overhead Input'!$H$5/'Materials Catalog Input'!F264),\"0\")","v":"0"},"Enter Description","Category"]
[null,360,"Enter New Product",{"v":0,"d":"$0.00"},{"v":0,"d":"$0.00"},null,{"$f":"IF(F265>0,PRODUCT('Labor & Overhead Input'!$H$5/'Materials Catalog Input'!F265),\"0\")","v":"0"},"Enter Description","Category"]
[null,361,"Enter New Product",{"v":0,"d":"$0.00"},{"v":0,"d":"$0.00"},null,{"$f":"IF(F266>0,PRODUCT('Labor & Overhead Input'!$H$5/'Materials Catalog Input'!F266),\"0\")","v":"0"},"Enter Description","Category"]
[null,362,"Enter New Product",{"v":0,"d":"$0.00"},{"v":0,"d":"$0.00"},null,{"$f":"IF(F267>0,PRODUCT('Labor & Overhead Input'!$H$5/'Materials Catalog Input'!F267),\"0\")","v":"0"},"Enter Description","Category"]
[null,363,"Enter New Product",{"v":0,"d":"$0.00"},{"v":0,"d":"$0.00"},null,{"$f":"IF(F268>0,PRODUCT('Labor & Overhead Input'!$H$5/'Materials Catalog Input'!F268),\"0\")","v":"0"},"Enter Description","Category"]
[null,364,"Enter New Product",{"v":0,"d":"$0.00"},{"v":0,"d":"$0.00"},null,{"$f":"IF(F269>0,PRODUCT('Labor & Overhead Input'!$H$5/'Materials Catalog Input'!F269),\"0\")","v":"0"},"Enter Description","Category"]
[null,365,"Enter New Product",{"v":0,"d":"$0.00"},{"v":0,"d":"$0.00"},null,{"$f":"IF(F270>0,PRODUCT('Labor & Overhead Input'!$H$5/'Materials Catalog Input'!F270),\"0\")","v":"0"},"Enter Description","Category"]
[null,366,"Enter New Product",{"v":0,"d":"$0.00"},{"v":0,"d":"$0.00"},null,{"$f":"IF(F271>0,PRODUCT('Labor & Overhead Input'!$H$5/'Materials Catalog Input'!F271),\"0\")","v":"0"},"Enter Description","Category"]
[null,367,"Enter New Product",{"v":0,"d":"$0.00"},{"v":0,"d":"$0.00"},null,{"$f":"IF(F272>0,PRODUCT('Labor & Overhead Input'!$H$5/'Materials Catalog Input'!F272),\"0\")","v":"0"},"Enter Description","Category"]
[null,368,"Enter New Product",{"v":0,"d":"$0.00"},{"v":0,"d":"$0.00"},null,{"$f":"IF(F273>0,PRODUCT('Labor & Overhead Input'!$H$5/'Materials Catalog Input'!F273),\"0\")","v":"0"},"Enter Description","Category"]
[null,369,"Enter New Product",{"v":0,"d":"$0.00"},{"v":0,"d":"$0.00"},null,{"$f":"IF(F274>0,PRODUCT('Labor & Overhead Input'!$H$5/'Materials Catalog Input'!F274),\"0\")","v":"0"},"Enter Description","Category"]
[null,370,"Enter New Product",{"v":0,"d":"$0.00"},{"v":0,"d":"$0.00"},null,{"$f":"IF(F275>0,PRODUCT('Labor & Overhead Input'!$H$5/'Materials Catalog Input'!F275),\"0\")","v":"0"},"Enter Description","Category"]
[null,371,"Enter New Product",{"v":0,"d":"$0.00"},{"v":0,"d":"$0.00"},null,{"$f":"IF(F276>0,PRODUCT('Labor & Overhead Input'!$H$5/'Materials Catalog Input'!F276),\"0\")","v":"0"},"Enter Description","Category"]
[null,372,"Enter New Product",{"v":0,"d":"$0.00"},{"v":0,"d":"$0.00"},null,{"$f":"IF(F277>0,PRODUCT('Labor & Overhead Input'!$H$5/'Materials Catalog Input'!F277),\"0\")","v":"0"},"Enter Description","Category"]
[null,373,"Enter New Product",{"v":0,"d":"$0.00"},{"v":0,"d":"$0.00"},null,{"$f":"IF(F278>0,PRODUCT('Labor & Overhead Input'!$H$5/'Materials Catalog Input'!F278),\"0\")","v":"0"},"Enter Description","Category"]
[null,374,"Enter New Product",{"v":0,"d":"$0.00"},{"v":0,"d":"$0.00"},null,{"$f":"IF(F279>0,PRODUCT('Labor & Overhead Input'!$H$5/'Materials Catalog Input'!F279),\"0\")","v":"0"},"Enter Description","Category"]
[null,375,"Enter New Product",{"v":0,"d":"$0.00"},{"v":0,"d":"$0.00"},null,{"$f":"IF(F280>0,PRODUCT('Labor & Overhead Input'!$H$5/'Materials Catalog Input'!F280),\"0\")","v":"0"},"Enter Description","Category"]
[null,376,"Enter New Product",{"v":0,"d":"$0.00"},{"v":0,"d":"$0.00"},null,{"$f":"IF(F281>0,PRODUCT('Labor & Overhead Input'!$H$5/'Materials Catalog Input'!F281),\"0\")","v":"0"},"Enter Description","Category"]
[null,377,"Enter New Product",{"v":0,"d":"$0.00"},{"v":0,"d":"$0.00"},null,{"$f":"IF(F282>0,PRODUCT('Labor & Overhead Input'!$H$5/'Materials Catalog Input'!F282),\"0\")","v":"0"},"Enter Description","Category"]
[null,378,"Enter New Product",{"v":0,"d":"$0.00"},{"v":0,"d":"$0.00"},null,{"$f":"IF(F283>0,PRODUCT('Labor & Overhead Input'!$H$5/'Materials Catalog Input'!F283),\"0\")","v":"0"},"Enter Description","Category"]
[null,379,"Enter New Product",{"v":0,"d":"$0.00"},{"v":0,"d":"$0.00"},null,{"$f":"IF(F284>0,PRODUCT('Labor & Overhead Input'!$H$5/'Materials Catalog Input'!F284),\"0\")","v":"0"},"Enter Description","Category"]
[null,380,"Enter New Product",{"v":0,"d":"$0.00"},{"v":0,"d":"$0.00"},null,{"$f":"IF(F285>0,PRODUCT('Labor & Overhead Input'!$H$5/'Materials Catalog Input'!F285),\"0\")","v":"0"},"Enter Description","Category"]
[null,381,"Enter New Product",{"v":0,"d":"$0.00"},{"v":0,"d":"$0.00"},null,{"$f":"IF(F286>0,PRODUCT('Labor & Overhead Input'!$H$5/'Materials Catalog Input'!F286),\"0\")","v":"0"},"Enter Description","Category"]
[null,382,"Enter New Product",{"v":0,"d":"$0.00"},{"v":0,"d":"$0.00"},null,{"$f":"IF(F287>0,PRODUCT('Labor & Overhead Input'!$H$5/'Materials Catalog Input'!F287),\"0\")","v":"0"},"Enter Description","Category"]
[null,383,"Enter New Product",{"v":0,"d":"$0.00"},{"v":0,"d":"$0.00"},null,{"$f":"IF(F288>0,PRODUCT('Labor & Overhead Input'!$H$5/'Materials Catalog Input'!F288),\"0\")","v":"0"},"Enter Description","Category"]
[null,384,"Enter New Product",{"v":0,"d":"$0.00"},{"v":0,"d":"$0.00"},null,{"$f":"IF(F289>0,PRODUCT('Labor & Overhead Input'!$H$5/'Materials Catalog Input'!F289),\"0\")","v":"0"},"Enter Description","Category"]
[null,385,"Enter New Product",{"v":0,"d":"$0.00"},{"v":0,"d":"$0.00"},null,{"$f":"IF(F290>0,PRODUCT('Labor & Overhead Input'!$H$5/'Materials Catalog Input'!F290),\"0\")","v":"0"},"Enter Description","Category"]
[null,386,"Enter New Product",{"v":0,"d":"$0.00"},{"v":0,"d":"$0.00"},null,{"$f":"IF(F291>0,PRODUCT('Labor & Overhead Input'!$H$5/'Materials Catalog Input'!F291),\"0\")","v":"0"},"Enter Description","Category"]
[null,387,"Enter New Product",{"v":0,"d":"$0.00"},{"v":0,"d":"$0.00"},null,{"$f":"IF(F292>0,PRODUCT('Labor & Overhead Input'!$H$5/'Materials Catalog Input'!F292),\"0\")","v":"0"},"Enter Description","Category"]
[null,388,"Enter New Product",{"v":0,"d":"$0.00"},{"v":0,"d":"$0.00"},null,{"$f":"IF(F293>0,PRODUCT('Labor & Overhead Input'!$H$5/'Materials Catalog Input'!F293),\"0\")","v":"0"},"Enter Description","Category"]
[null,389,"Enter New Product",{"v":0,"d":"$0.00"},{"v":0,"d":"$0.00"},null,{"$f":"IF(F294>0,PRODUCT('Labor & Overhead Input'!$H$5/'Materials Catalog Input'!F294),\"0\")","v":"0"},"Enter Description","Category"]
[null,390,"Enter New Product",{"v":0,"d":"$0.00"},{"v":0,"d":"$0.00"},null,{"$f":"IF(F295>0,PRODUCT('Labor & Overhead Input'!$H$5/'Materials Catalog Input'!F295),\"0\")","v":"0"},"Enter Description","Category"]
[null,391,"Enter New Product",{"v":0,"d":"$0.00"},{"v":0,"d":"$0.00"},null,{"$f":"IF(F296>0,PRODUCT('Labor & Overhead Input'!$H$5/'Materials Catalog Input'!F296),\"0\")","v":"0"},"Enter Description","Category"]
[null,392,"Enter New Product",{"v":0,"d":"$0.00"},{"v":0,"d":"$0.00"},null,{"$f":"IF(F297>0,PRODUCT('Labor & Overhead Input'!$H$5/'Materials Catalog Input'!F297),\"0\")","v":"0"},"Enter Description","Category"]
[null,393,"Enter New Product",{"v":0,"d":"$0.00"},{"v":0,"d":"$0.00"},null,{"$f":"IF(F298>0,PRODUCT('Labor & Overhead Input'!$H$5/'Materials Catalog Input'!F298),\"0\")","v":"0"},"Enter Description","Category"]
[null,394,"Enter New Product",{"v":0,"d":"$0.00"},{"v":0,"d":"$0.00"},null,{"$f":"IF(F299>0,PRODUCT('Labor & Overhead Input'!$H$5/'Materials Catalog Input'!F299),\"0\")","v":"0"},"Enter Description","Category"]
[null,395,"Enter New Product",{"v":0,"d":"$0.00"},{"v":0,"d":"$0.00"},null,{"$f":"IF(F300>0,PRODUCT('Labor & Overhead Input'!$H$5/'Materials Catalog Input'!F300),\"0\")","v":"0"},"Enter Description","Category"]
[null,396,"Enter New Product",{"v":0,"d":"$0.00"},{"v":0,"d":"$0.00"},null,{"$f":"IF(F301>0,PRODUCT('Labor & Overhead Input'!$H$5/'Materials Catalog Input'!F301),\"0\")","v":"0"},"Enter Description","Category"]
[null,397,"Enter New Product",{"v":0,"d":"$0.00"},{"v":0,"d":"$0.00"},null,{"$f":"IF(F302>0,PRODUCT('Labor & Overhead Input'!$H$5/'Materials Catalog Input'!F302),\"0\")","v":"0"},"Enter Description","Category"]
[null,398,"Enter New Product",{"v":0,"d":"$0.00"},{"v":0,"d":"$0.00"},null,{"$f":"IF(F303>0,PRODUCT('Labor & Overhead Input'!$H$5/'Materials Catalog Input'!F303),\"0\")","v":"0"},"Enter Description","Category"]
[null,399,"Enter New Product",{"v":0,"d":"$0.00"},{"v":0,"d":"$0.00"},null,{"$f":"IF(F304>0,PRODUCT('Labor & Overhead Input'!$H$5/'Materials Catalog Input'!F304),\"0\")","v":"0"},"Enter Description","Category"]
[null,400," 1/2 x 1",{"v":1.69,"d":"$1.69"},{"v":2.028,"d":"$2.03"},{"v":35,"d":"35.0"},{"$f":"IF(F305>0,PRODUCT('Labor & Overhead Input'!$H$5/'Materials Catalog Input'!F305),\"0\")","v":{"v":0.8334285714285715,"d":"$0.83"}},"Knauf","Mineral Wool"]
[null,401," 1/2 x 1-1/2",{"v":2.88,"d":"$2.88"},{"v":3.456,"d":"$3.46"},{"v":35,"d":"35.0"},{"$f":"IF(F306>0,PRODUCT('Labor & Overhead Input'!$H$5/'Materials Catalog Input'!F306),\"0\")","v":{"v":0.8334285714285715,"d":"$0.83"}},"Knauf","Mineral Wool"]
[null,402," 1/2 x 2",{"v":3.62,"d":"$3.62"},{"v":4.344,"d":"$4.34"},{"v":35,"d":"35.0"},{"$f":"IF(F307>0,PRODUCT('Labor & Overhead Input'!$H$5/'Materials Catalog Input'!F307),\"0\")","v":{"v":0.8334285714285715,"d":"$0.83"}},"Knauf","Mineral Wool"]
[null,403," 3/4 x 1",{"v":1.75,"d":"$1.75"},{"v":2.1,"d":"$2.10"},{"v":35,"d":"35.0"},{"$f":"IF(F308>0,PRODUCT('Labor & Overhead Input'!$H$5/'Materials Catalog Input'!F308),\"0\")","v":{"v":0.8334285714285715,"d":"$0.83"}},"Knauf","Mineral Wool"]
[null,404," 3/4 x 1-1/2",{"v":2.91,"d":"$2.91"},{"v":3.492,"d":"$3.49"},{"v":35,"d":"35.0"},{"$f":"IF(F309>0,PRODUCT('Labor & Overhead Input'!$H$5/'Materials Catalog Input'!F309),\"0\")","v":{"v":0.8334285714285715,"d":"$0.83"}},"Knauf","Mineral Wool"]
[null,405," 3/4 x 2",{"v":3.86,"d":"$3.86"},{"v":4.632,"d":"$4.63"},{"v":35,"d":"35.0"},{"$f":"IF(F310>0,PRODUCT('Labor & Overhead Input'!$H$5/'Materials Catalog Input'!F310),\"0\")","v":{"v":0.8334285714285715,"d":"$0.83"}},"Knauf","Mineral Wool"]
[null,406," 3/4 x 2-1/2",{"v":4.59,"d":"$4.59"},{"v":5.508,"d":"$5.51"},{"v":35,"d":"35.0"},{"$f":"IF(F311>0,PRODUCT('Labor & Overhead Input'!$H$5/'Materials Catalog Input'!F311),\"0\")","v":{"v":0.8334285714285715,"d":"$0.83"}},"Knauf","Mineral Wool"]
[null,407," 1 x 1",{"v":1.81,"d":"$1.81"},{"v":2.172,"d":"$2.17"},{"v":35,"d":"35.0"},{"$f":"IF(F312>0,PRODUCT('Labor & Overhead Input'!$H$5/'Materials Catalog Input'!F312),\"0\")","v":{"v":0.8334285714285715,"d":"$0.83"}},"Knauf","Mineral Wool"]
[null,408," 1 x 1-1/2",{"v":2.99,"d":"$2.99"},{"v":3.588,"d":"$3.59"},{"v":35,"d":"35.0"},{"$f":"IF(F313>0,PRODUCT('Labor & Overhead Input'!$H$5/'Materials Catalog Input'!F313),\"0\")","v":{"v":0.8334285714285715,"d":"$0.83"}},"Knauf","Mineral Wool"]
[null,409," 1 x 2",4.09,{"v":4.9079999999999995,"d":"$4.91"},{"v":35,"d":"35.0"},{"$f":"IF(F314>0,PRODUCT('Labor & Overhead Input'!$H$5/'Materials Catalog Input'!F314),\"0\")","v":{"v":0.8334285714285715,"d":"$0.83"}},"Knauf","Mineral Wool"]
[null,410," 1 x 2-1/2",{"v":5.04,"d":"$5.04"},{"v":6.048,"d":"$6.05"},{"v":35,"d":"35.0"},{"$f":"IF(F315>0,PRODUCT('Labor & Overhead Input'!$H$5/'Materials Catalog Input'!F315),\"0\")","v":{"v":0.8334285714285715,"d":"$0.83"}},"Knauf","Mineral Wool"]
[null,411," 1-1/4 x 1",{"v":1.86,"d":"$1.86"},{"v":2.232,"d":"$2.23"},{"v":35,"d":"35.0"},{"$f":"IF(F316>0,PRODUCT('Labor & Overhead Input'!$H$5/'Materials Catalog Input'!F316),\"0\")","v":{"v":0.8334285714285715,"d":"$0.83"}},"Knauf","Mineral Wool"]
[null,412," 1-1/4 x 1-1/2",{"v":3.05,"d":"$3.05"},{"v":3.6599999999999997,"d":"$3.66"},{"v":35,"d":"35.0"},{"$f":"IF(F317>0,PRODUCT('Labor & Overhead Input'!$H$5/'Materials Catalog Input'!F317),\"0\")","v":{"v":0.8334285714285715,"d":"$0.83"}},"Knauf","Mineral Wool"]
[null,413," 1-1/4 x 2",{"v":4.36,"d":"$4.36"},{"v":5.232,"d":"$5.23"},{"v":35,"d":"35.0"},{"$f":"IF(F318>0,PRODUCT('Labor & Overhead Input'!$H$5/'Materials Catalog Input'!F318),\"0\")","v":{"v":0.8334285714285715,"d":"$0.83"}},"Knauf","Mineral Wool"]
[null,414," 1-1/4 x 2-1/2",{"v":5.08,"d":"$5.08"},{"v":6.096,"d":"$6.10"},{"v":35,"d":"35.0"},{"$f":"IF(F319>0,PRODUCT('Labor & Overhead Input'!$H$5/'Materials Catalog Input'!F319),\"0\")","v":{"v":0.8334285714285715,"d":"$0.83"}},"Knauf","Mineral Wool"]
[null,415," 1-1/2 x 1",{"v":1.94,"d":"$1.94"},{"v":2.328,"d":"$2.33"},{"v":35,"d":"35.0"},{"$f":"IF(F320>0,PRODUCT('Labor & Overhead Input'!$H$5/'Materials Catalog Input'!F320),\"0\")","v":{"v":0.8334285714285715,"d":"$0.83"}},"Knauf","Mineral Wool"]
[null,416," 1-1/2 x 1-1/2",{"v":3.2,"d":"$3.20"},{"v":3.84,"d":"$3.84"},{"v":35,"d":"35.0"},{"$f":"IF(F321>0,PRODUCT('Labor & Overhead Input'!$H$5/'Materials Catalog Input'!F321),\"0\")","v":{"v":0.8334285714285715,"d":"$0.83"}},"Knauf","Mineral Wool"]
[null,417," 1-1/2 x 2",{"v":4.57,"d":"$4.57"},{"v":5.484,"d":"$5.48"},{"v":35,"d":"35.0"},{"$f":"IF(F322>0,PRODUCT('Labor & Overhead Input'!$H$5/'Materials Catalog Input'!F322),\"0\")","v":{"v":0.8334285714285715,"d":"$0.83"}},"Knauf","Mineral Wool"]
[null,418," 1-1/2 x 2-1/2",{"v":5.7,"d":"$5.70"},{"v":6.84,"d":"$6.84"},{"v":35,"d":"35.0"},{"$f":"IF(F323>0,PRODUCT('Labor & Overhead Input'!$H$5/'Materials Catalog Input'!F323),\"0\")","v":{"v":0.8334285714285715,"d":"$0.83"}},"Knauf","Mineral Wool"]
[null,419," 2 x 1",{"v":2.37,"d":"$2.37"},{"v":2.844,"d":"$2.84"},{"v":35,"d":"35.0"},{"$f":"IF(F324>0,PRODUCT('Labor & Overhead Input'!$H$5/'Materials Catalog Input'!F324),\"0\")","v":{"v":0.8334285714285715,"d":"$0.83"}},"Knauf","Mineral Wool"]
[null,420," 2 x 1-1/2",{"v":3.39,"d":"$3.39"},{"$f":"D325*(1+$I$3)","v":{"v":4.068,"d":"$4.07"}},{"v":35,"d":"35.0"},{"$f":"IF(F325>0,PRODUCT('Labor & Overhead Input'!$H$5/'Materials Catalog Input'!F325),\"0\")","v":{"v":0.8334285714285715,"d":"$0.83"}},"Knauf","Mineral Wool"]
[null,421," 2 x 2",{"v":4.79,"d":"$4.79"},{"v":5.748,"d":"$5.75"},{"v":35,"d":"35.0"},{"$f":"IF(F326>0,PRODUCT('Labor & Overhead Input'!$H$5/'Materials Catalog Input'!F326),\"0\")","v":{"v":0.8334285714285715,"d":"$0.83"}},"Knauf","Mineral Wool"]
[null,422," 2 x 2-1/2",{"v":5.42,"d":"$5.42"},{"v":6.504,"d":"$6.50"},{"v":35,"d":"35.0"},{"$f":"IF(F327>0,PRODUCT('Labor & Overhead Input'!$H$5/'Materials Catalog Input'!F327),\"0\")","v":{"v":0.8334285714285715,"d":"$0.83"}},"Knauf","Mineral Wool"]
[null,423," 2-1/2 x 1",{"v":2.51,"d":"$2.51"},{"v":3.0119999999999996,"d":"$3.01"},{"v":35,"d":"35.0"},{"$f":"IF(F328>0,PRODUCT('Labor & Overhead Input'!$H$5/'Materials Catalog Input'!F328),\"0\")","v":{"v":0.8334285714285715,"d":"$0.83"}},"Knauf","Mineral Wool"]
[null,424," 2-1/2 x 1-1/2",{"v":3.59,"d":"$3.59"},{"v":4.308,"d":"$4.31"},{"v":35,"d":"35.0"},{"$f":"IF(F329>0,PRODUCT('Labor & Overhead Input'!$H$5/'Materials Catalog Input'!F329),\"0\")","v":{"v":0.8334285714285715,"d":"$0.83"}},"Knauf","Mineral Wool"]
[null,425," 2-1/2 x 2",{"v":5.43,"d":"$5.43"},{"v":6.515999999999999,"d":"$6.52"},{"v":35,"d":"35.0"},{"$f":"IF(F330>0,PRODUCT('Labor & Overhead Input'!$H$5/'Materials Catalog Input'!F330),\"0\")","v":{"v":0.8334285714285715,"d":"$0.83"}},"Knauf","Mineral Wool"]
[null,426," 2-1/2 x 2-1/2",{"v":6.26,"d":"$6.26"},{"v":7.512,"d":"$7.51"},{"v":35,"d":"35.0"},{"$f":"IF(F331>0,PRODUCT('Labor & Overhead Input'!$H$5/'Materials Catalog Input'!F331),\"0\")","v":{"v":0.8334285714285715,"d":"$0.83"}},"Knauf","Mineral Wool"]
[null,427," 3 x 1",{"v":2.6,"d":"$2.60"},{"v":3.12,"d":"$3.12"},{"v":35,"d":"35.0"},{"$f":"IF(F332>0,PRODUCT('Labor & Overhead Input'!$H$5/'Materials Catalog Input'!F332),\"0\")","v":{"v":0.8334285714285715,"d":"$0.83"}},"Knauf","Mineral Wool"]
[null,428," 3 x 1-1/2",{"v":3.85,"d":"$3.85"},{"v":4.62,"d":"$4.62"},{"v":35,"d":"35.0"},{"$f":"IF(F333>0,PRODUCT('Labor & Overhead Input'!$H$5/'Materials Catalog Input'!F333),\"0\")","v":{"v":0.8334285714285715,"d":"$0.83"}},"Knauf","Mineral Wool"]
[null,429," 3 x 2",{"v":5.79,"d":"$5.79"},{"v":6.9479999999999995,"d":"$6.95"},{"v":35,"d":"35.0"},{"$f":"IF(F334>0,PRODUCT('Labor & Overhead Input'!$H$5/'Materials Catalog Input'!F334),\"0\")","v":{"v":0.8334285714285715,"d":"$0.83"}},"Knauf","Mineral Wool"]
[null,430," 3 x 2-1/2",{"v":6.56,"d":"$6.56"},{"v":7.871999999999999,"d":"$7.87"},{"v":35,"d":"35.0"},{"$f":"IF(F335>0,PRODUCT('Labor & Overhead Input'!$H$5/'Materials Catalog Input'!F335),\"0\")","v":{"v":0.8334285714285715,"d":"$0.83"}},"Knauf","Mineral Wool"]
[null,431," 3-1/2 x 1",{"v":3.11,"d":"$3.11"},{"v":3.7319999999999998,"d":"$3.73"},{"v":35,"d":"35.0"},{"$f":"IF(F336>0,PRODUCT('Labor & Overhead Input'!$H$5/'Materials Catalog Input'!F336),\"0\")","v":{"v":0.8334285714285715,"d":"$0.83"}},"Knauf","Mineral Wool"]
[null,432," 3-1/2 x 1-1/2",{"v":4.46,"d":"$4.46"},{"v":5.351999999999999,"d":"$5.35"},{"v":35,"d":"35.0"},{"$f":"IF(F337>0,PRODUCT('Labor & Overhead Input'!$H$5/'Materials Catalog Input'!F337),\"0\")","v":{"v":0.8334285714285715,"d":"$0.83"}},"Knauf","Mineral Wool"]
[null,433," 3-1/2 x 2",{"v":6.34,"d":"$6.34"},{"v":7.608,"d":"$7.61"},{"v":35,"d":"35.0"},{"$f":"IF(F338>0,PRODUCT('Labor & Overhead Input'!$H$5/'Materials Catalog Input'!F338),\"0\")","v":{"v":0.8334285714285715,"d":"$0.83"}},"Knauf","Mineral Wool"]
[null,434," 3-1/2 x 2-1/2",{"v":7.51,"d":"$7.51"},{"v":9.011999999999999,"d":"$9.01"},{"v":35,"d":"35.0"},{"$f":"IF(F339>0,PRODUCT('Labor & Overhead Input'!$H$5/'Materials Catalog Input'!F339),\"0\")","v":{"v":0.8334285714285715,"d":"$0.83"}},"Knauf","Mineral Wool"]
[null,435," 4 x 1",{"v":3.2,"d":"$3.20"},{"v":3.84,"d":"$3.84"},{"v":35,"d":"35.0"},{"$f":"IF(F340>0,PRODUCT('Labor & Overhead Input'!$H$5/'Materials Catalog Input'!F340),\"0\")","v":{"v":0.8334285714285715,"d":"$0.83"}},"Knauf","Mineral Wool"]
[null,436," 4 x 1-1/2",{"v":4.62,"d":"$4.62"},{"v":5.544,"d":"$5.54"},{"v":35,"d":"35.0"},{"$f":"IF(F341>0,PRODUCT('Labor & Overhead Input'!$H$5/'Materials Catalog Input'!F341),\"0\")","v":{"v":0.8334285714285715,"d":"$0.83"}},"Knauf","Mineral Wool"]
[null,437," 4 x 2",{"v":6.75,"d":"$6.75"},{"v":8.1,"d":"$8.10"},{"v":35,"d":"35.0"},{"$f":"IF(F342>0,PRODUCT('Labor & Overhead Input'!$H$5/'Materials Catalog Input'!F342),\"0\")","v":{"v":0.8334285714285715,"d":"$0.83"}},"Knauf","Mineral Wool"]
[null,438," 4 x 2-1/2",{"v":7.68,"d":"$7.68"},{"v":9.216,"d":"$9.22"},{"v":35,"d":"35.0"},{"$f":"IF(F343>0,PRODUCT('Labor & Overhead Input'!$H$5/'Materials Catalog Input'!F343),\"0\")","v":{"v":0.8334285714285715,"d":"$0.83"}},"Knauf","Mineral Wool"]
[null,439," 4-1/2 x 1",{"v":3.52,"d":"$3.52"},{"v":4.224,"d":"$4.22"},{"v":35,"d":"35.0"},{"$f":"IF(F344>0,PRODUCT('Labor & Overhead Input'!$H$5/'Materials Catalog Input'!F344),\"0\")","v":{"v":0.8334285714285715,"d":"$0.83"}},"Knauf","Mineral Wool"]
[null,440," 4-1/2 x 1-1/2",{"v":4.92,"d":"$4.92"},{"v":5.904,"d":"$5.90"},{"v":35,"d":"35.0"},{"$f":"IF(F345>0,PRODUCT('Labor & Overhead Input'!$H$5/'Materials Catalog Input'!F345),\"0\")","v":{"v":0.8334285714285715,"d":"$0.83"}},"Knauf","Mineral Wool"]
[null,441," 4-1/2 x 2",{"v":7.29,"d":"$7.29"},{"v":8.748,"d":"$8.75"},{"v":35,"d":"35.0"},{"$f":"IF(F346>0,PRODUCT('Labor & Overhead Input'!$H$5/'Materials Catalog Input'!F346),\"0\")","v":{"v":0.8334285714285715,"d":"$0.83"}},"Knauf","Mineral Wool"]
[null,442," 4-1/2 x 2",{"v":9.12,"d":"$9.12"},{"v":10.943999999999999,"d":"$10.94"},{"v":35,"d":"35.0"},{"$f":"IF(F347>0,PRODUCT('Labor & Overhead Input'!$H$5/'Materials Catalog Input'!F347),\"0\")","v":{"v":0.8334285714285715,"d":"$0.83"}},"Knauf","Mineral Wool"]
[null,443," 5 x 1",{"v":3.62,"d":"$3.62"},{"v":4.344,"d":"$4.34"},{"v":35,"d":"35.0"},{"$f":"IF(F348>0,PRODUCT('Labor & Overhead Input'!$H$5/'Materials Catalog Input'!F348),\"0\")","v":{"v":0.8334285714285715,"d":"$0.83"}},"Knauf","Mineral Wool"]
[null,444," 5 x 1-1/2",{"v":4.94,"d":"$4.94"},{"v":5.928,"d":"$5.93"},{"v":35,"d":"35.0"},{"$f":"IF(F349>0,PRODUCT('Labor & Overhead Input'!$H$5/'Materials Catalog Input'!F349),\"0\")","v":{"v":0.8334285714285715,"d":"$0.83"}},"Knauf","Mineral Wool"]
[null,445," 5 x 2",{"v":7.5,"d":"$7.50"},{"v":9,"d":"$9.00"},{"v":35,"d":"35.0"},{"$f":"IF(F350>0,PRODUCT('Labor & Overhead Input'!$H$5/'Materials Catalog Input'!F350),\"0\")","v":{"v":0.8334285714285715,"d":"$0.83"}},"Knauf","Mineral Wool"]
[null,446," 5 x 2-1/2",{"v":9.39,"d":"$9.39"},{"v":11.268,"d":"$11.27"},{"v":35,"d":"35.0"},{"$f":"IF(F351>0,PRODUCT('Labor & Overhead Input'!$H$5/'Materials Catalog Input'!F351),\"0\")","v":{"v":0.8334285714285715,"d":"$0.83"}},"Knauf","Mineral Wool"]
[null,447," 6 x 1",{"v":3.87,"d":"$3.87"},{"v":4.644,"d":"$4.64"},{"v":35,"d":"35.0"},{"$f":"IF(F352>0,PRODUCT('Labor & Overhead Input'!$H$5/'Materials Catalog Input'!F352),\"0\")","v":{"v":0.8334285714285715,"d":"$0.83"}},"Knauf","Mineral Wool"]
[null,448," 6 x 1-1/2",{"v":5.09,"d":"$5.09"},{"v":6.108,"d":"$6.11"},{"v":35,"d":"35.0"},{"$f":"IF(F353>0,PRODUCT('Labor & Overhead Input'!$H$5/'Materials Catalog Input'!F353),\"0\")","v":{"v":0.8334285714285715,"d":"$0.83"}},"Knauf","Mineral Wool"]
[null,449," 6 x 2",{"v":7.79,"d":"$7.79"},{"v":9.347999999999999,"d":"$9.35"},{"v":35,"d":"35.0"},{"$f":"IF(F354>0,PRODUCT('Labor & Overhead Input'!$H$5/'Materials Catalog Input'!F354),\"0\")","v":{"v":0.8334285714285715,"d":"$0.83"}},"Knauf","Mineral Wool"]
[null,450," 6 x 2-1/2",{"v":10.26,"d":"$10.26"},{"v":12.312,"d":"$12.31"},{"v":35,"d":"35.0"},{"$f":"IF(F355>0,PRODUCT('Labor & Overhead Input'!$H$5/'Materials Catalog Input'!F355),\"0\")","v":{"v":0.8334285714285715,"d":"$0.83"}},"Knauf","Mineral Wool"]
[null,451," 7 x 1",{"v":4.52,"d":"$4.52"},{"v":5.4239999999999995,"d":"$5.42"},{"v":35,"d":"35.0"},{"$f":"IF(F356>0,PRODUCT('Labor & Overhead Input'!$H$5/'Materials Catalog Input'!F356),\"0\")","v":{"v":0.8334285714285715,"d":"$0.83"}},"Knauf","Mineral Wool"]
[null,452," 7 x 1-1/2",{"v":6.01,"d":"$6.01"},{"v":7.212,"d":"$7.21"},{"v":35,"d":"35.0"},{"$f":"IF(F357>0,PRODUCT('Labor & Overhead Input'!$H$5/'Materials Catalog Input'!F357),\"0\")","v":{"v":0.8334285714285715,"d":"$0.83"}},"Knauf","Mineral Wool"]
[null,453," 7 x 2",{"v":8.72,"d":"$8.72"},{"v":10.464,"d":"$10.46"},{"v":35,"d":"35.0"},{"$f":"IF(F358>0,PRODUCT('Labor & Overhead Input'!$H$5/'Materials Catalog Input'!F358),\"0\")","v":{"v":0.8334285714285715,"d":"$0.83"}},"Knauf","Mineral Wool"]
[null,454," 8 x 1",{"v":6.23,"d":"$6.23"},{"v":7.476,"d":"$7.48"},{"v":35,"d":"35.0"},{"$f":"IF(F359>0,PRODUCT('Labor & Overhead Input'!$H$5/'Materials Catalog Input'!F359),\"0\")","v":{"v":0.8334285714285715,"d":"$0.83"}},"Knauf","Mineral Wool"]
[null,455," 8 x 1-1/2",{"v":6.67,"d":"$6.67"},{"v":8.004,"d":"$8.00"},{"v":35,"d":"35.0"},{"$f":"IF(F360>0,PRODUCT('Labor & Overhead Input'!$H$5/'Materials Catalog Input'!F360),\"0\")","v":{"v":0.8334285714285715,"d":"$0.83"}},"Knauf","Mineral Wool"]
[null,456," 8 x 2",{"v":9.46,"d":"$9.46"},{"v":11.352,"d":"$11.35"},{"v":35,"d":"35.0"},{"$f":"IF(F361>0,PRODUCT('Labor & Overhead Input'!$H$5/'Materials Catalog Input'!F361),\"0\")","v":{"v":0.8334285714285715,"d":"$0.83"}},"Knauf","Mineral Wool"]
[null,457," 9 x 1",{"v":6.77,"d":"$6.77"},{"v":8.123999999999999,"d":"$8.12"},{"v":35,"d":"35.0"},{"$f":"IF(F362>0,PRODUCT('Labor & Overhead Input'!$H$5/'Materials Catalog Input'!F362),\"0\")","v":{"v":0.8334285714285715,"d":"$0.83"}},"Knauf","Mineral Wool"]
[null,458," 9 x 1-1/2",{"v":7.69,"d":"$7.69"},{"v":9.228,"d":"$9.23"},{"v":35,"d":"35.0"},{"$f":"IF(F363>0,PRODUCT('Labor & Overhead Input'!$H$5/'Materials Catalog Input'!F363),\"0\")","v":{"v":0.8334285714285715,"d":"$0.83"}},"Knauf","Mineral Wool"]
[null,459," 9 x 2",{"v":10.55,"d":"$10.55"},{"v":12.66,"d":"$12.66"},{"v":35,"d":"35.0"},{"$f":"IF(F364>0,PRODUCT('Labor & Overhead Input'!$H$5/'Materials Catalog Input'!F364),\"0\")","v":{"v":0.8334285714285715,"d":"$0.83"}},"Knauf","Mineral Wool"]
[null,460," 10 x 1",{"v":7.65,"d":"$7.65"},{"v":9.18,"d":"$9.18"},{"v":35,"d":"35.0"},{"$f":"IF(F365>0,PRODUCT('Labor & Overhead Input'!$H$5/'Materials Catalog Input'!F365),\"0\")","v":{"v":0.8334285714285715,"d":"$0.83"}},"Knauf","Mineral Wool"]
[null,461," 10 x 1-1/2",{"v":8.39,"d":"$8.39"},{"v":10.068,"d":"$10.07"},{"v":35,"d":"35.0"},{"$f":"IF(F366>0,PRODUCT('Labor & Overhead Input'!$H$5/'Materials Catalog Input'!F366),\"0\")","v":{"v":0.8334285714285715,"d":"$0.83"}},"Knauf","Mineral Wool"]
[null,462," 10 x 2",{"v":11.56,"d":"$11.56"},{"v":13.872,"d":"$13.87"},{"v":35,"d":"35.0"},{"$f":"IF(F367>0,PRODUCT('Labor & Overhead Input'!$H$5/'Materials Catalog Input'!F367),\"0\")","v":{"v":0.8334285714285715,"d":"$0.83"}},"Knauf","Mineral Wool"]
[null,463," 10 x 2-1/2",{"v":14.59,"d":"$14.59"},{"v":17.508,"d":"$17.51"},{"v":35,"d":"35.0"},{"$f":"IF(F368>0,PRODUCT('Labor & Overhead Input'!$H$5/'Materials Catalog Input'!F368),\"0\")","v":{"v":0.8334285714285715,"d":"$0.83"}},"Knauf","Mineral Wool"]
[null,464," 11 x 1-1/2",{"v":9.22,"d":"$9.22"},{"v":11.064,"d":"$11.06"},{"v":35,"d":"35.0"},{"$f":"IF(F369>0,PRODUCT('Labor & Overhead Input'!$H$5/'Materials Catalog Input'!F369),\"0\")","v":{"v":0.8334285714285715,"d":"$0.83"}},"Knauf","Mineral Wool"]
[null,465," 11 x 2",{"v":12.31,"d":"$12.31"},{"v":14.772,"d":"$14.77"},{"v":35,"d":"35.0"},{"$f":"IF(F370>0,PRODUCT('Labor & Overhead Input'!$H$5/'Materials Catalog Input'!F370),\"0\")","v":{"v":0.8334285714285715,"d":"$0.83"}},"Knauf","Mineral Wool"]
[null,466," 11 x 2-1@",{"v":15.42,"d":"$15.42"},{"v":18.503999999999998,"d":"$18.50"},{"v":35,"d":"35.0"},{"$f":"IF(F371>0,PRODUCT('Labor & Overhead Input'!$H$5/'Materials Catalog Input'!F371),\"0\")","v":{"v":0.8334285714285715,"d":"$0.83"}},"Knauf","Mineral Wool"]
[null,467," 12 x 1-1/2",{"v":9.64,"d":"$9.64"},{"v":11.568,"d":"$11.57"},{"v":35,"d":"35.0"},{"$f":"IF(F372>0,PRODUCT('Labor & Overhead Input'!$H$5/'Materials Catalog Input'!F372),\"0\")","v":{"v":0.8334285714285715,"d":"$0.83"}},"Knauf","Mineral Wool"]
[null,468," 12 x 2",{"v":12.82,"d":"$12.82"},{"v":15.384,"d":"$15.38"},{"v":35,"d":"35.0"},{"$f":"IF(F373>0,PRODUCT('Labor & Overhead Input'!$H$5/'Materials Catalog Input'!F373),\"0\")","v":{"v":0.8334285714285715,"d":"$0.83"}},"Knauf","Mineral Wool"]
[null,469," 12 x 2-1/2",{"v":16.13,"d":"$16.13"},{"v":19.355999999999998,"d":"$19.36"},{"v":35,"d":"35.0"},{"$f":"IF(F374>0,PRODUCT('Labor & Overhead Input'!$H$5/'Materials Catalog Input'!F374),\"0\")","v":{"v":0.8334285714285715,"d":"$0.83"}},"Knauf","Mineral Wool"]
[null,470," 14 x 1-1/2",{"v":11.04,"d":"$11.04"},{"v":13.248,"d":"$13.25"},{"v":35,"d":"35.0"},{"$f":"IF(F375>0,PRODUCT('Labor & Overhead Input'!$H$5/'Materials Catalog Input'!F375),\"0\")","v":{"v":0.8334285714285715,"d":"$0.83"}},"Knauf","Mineral Wool"]
[null,471," 14 x 2",{"v":14.32,"d":"$14.32"},{"v":17.184,"d":"$17.18"},{"v":35,"d":"35.0"},{"$f":"IF(F376>0,PRODUCT('Labor & Overhead Input'!$H$5/'Materials Catalog Input'!F376),\"0\")","v":{"v":0.8334285714285715,"d":"$0.83"}},"Knauf","Mineral Wool"]
[null,472," 14 x 2-1/2",{"v":18.09,"d":"$18.09"},{"v":21.708,"d":"$21.71"},{"v":35,"d":"35.0"},{"$f":"IF(F377>0,PRODUCT('Labor & Overhead Input'!$H$5/'Materials Catalog Input'!F377),\"0\")","v":{"v":0.8334285714285715,"d":"$0.83"}},"Knauf","Mineral Wool"]
[null,473," 15 x 1-1/2",{"v":12.29,"d":"$12.29"},{"v":14.747999999999998,"d":"$14.75"},{"v":35,"d":"35.0"},{"$f":"IF(F378>0,PRODUCT('Labor & Overhead Input'!$H$5/'Materials Catalog Input'!F378),\"0\")","v":{"v":0.8334285714285715,"d":"$0.83"}},"Knauf","Mineral Wool"]
[null,474," 15 x 2",{"v":15.62,"d":"$15.62"},{"v":18.744,"d":"$18.74"},{"v":35,"d":"35.0"},{"$f":"IF(F379>0,PRODUCT('Labor & Overhead Input'!$H$5/'Materials Catalog Input'!F379),\"0\")","v":{"v":0.8334285714285715,"d":"$0.83"}},"Knauf","Mineral Wool"]
[null,475," 15 x 2-1/2",{"v":19.82,"d":"$19.82"},{"v":23.784,"d":"$23.78"},{"v":35,"d":"35.0"},{"$f":"IF(F380>0,PRODUCT('Labor & Overhead Input'!$H$5/'Materials Catalog Input'!F380),\"0\")","v":{"v":0.8334285714285715,"d":"$0.83"}},"Knauf","Mineral Wool"]
[null,476," 16 x 1-1/2",{"v":12.54,"d":"$12.54"},{"v":15.047999999999998,"d":"$15.05"},{"v":35,"d":"35.0"},{"$f":"IF(F381>0,PRODUCT('Labor & Overhead Input'!$H$5/'Materials Catalog Input'!F381),\"0\")","v":{"v":0.8334285714285715,"d":"$0.83"}},"Knauf","Mineral Wool"]
[null,477," 16 x 2",{"v":16.22,"d":"$16.22"},{"v":19.464,"d":"$19.46"},{"v":35,"d":"35.0"},{"$f":"IF(F382>0,PRODUCT('Labor & Overhead Input'!$H$5/'Materials Catalog Input'!F382),\"0\")","v":{"v":0.8334285714285715,"d":"$0.83"}},"Knauf","Mineral Wool"]
[null,478," 16 x 2-1/2",{"v":20.48,"d":"$20.48"},{"v":24.576,"d":"$24.58"},{"v":35,"d":"35.0"},{"$f":"IF(F383>0,PRODUCT('Labor & Overhead Input'!$H$5/'Materials Catalog Input'!F383),\"0\")","v":{"v":0.8334285714285715,"d":"$0.83"}},"Knauf","Mineral Wool"]
[null,479,"Enter New Product",{"v":0,"d":"$0.00"},{"v":0,"d":"$0.00"},null,{"$f":"IF(F384>0,PRODUCT('Labor & Overhead Input'!$H$5/'Materials Catalog Input'!F384),\"0\")","v":"0"},"Enter Description","Category"]
[null,480,"Enter New Product",{"v":0,"d":"$0.00"},{"v":0,"d":"$0.00"},null,{"$f":"IF(F385>0,PRODUCT('Labor & Overhead Input'!$H$5/'Materials Catalog Input'!F385),\"0\")","v":"0"},"Enter Description","Category"]
[null,481,"Enter New Product",{"v":0,"d":"$0.00"},{"v":0,"d":"$0.00"},null,{"$f":"IF(F386>0,PRODUCT('Labor & Overhead Input'!$H$5/'Materials Catalog Input'!F386),\"0\")","v":"0"},"Enter Description","Category"]
[null,482,"Enter New Product",{"v":0,"d":"$0.00"},{"v":0,"d":"$0.00"},null,{"$f":"IF(F387>0,PRODUCT('Labor & Overhead Input'!$H$5/'Materials Catalog Input'!F387),\"0\")","v":"0"},"Enter Description","Category"]
[null,483,"Enter New Product",{"v":0,"d":"$0.00"},{"v":0,"d":"$0.00"},null,{"$f":"IF(F388>0,PRODUCT('Labor & Overhead Input'!$H$5/'Materials Catalog Input'!F388),\"0\")","v":"0"},"Enter Description","Category"]
[null,484,"Enter New Product",{"v":0,"d":"$0.00"},{"$f":"D389*(1+$I$3)","v":{"v":0,"d":"$0.00"}},null,{"$f":"IF(F389>0,PRODUCT('Labor & Overhead Input'!$H$5/'Materials Catalog Input'!F389),\"0\")","v":"0"},"Enter Description","Category"]
[null,485,"Enter New Product",{"v":0,"d":"$0.00"},{"v":0,"d":"$0.00"},null,{"$f":"IF(F390>0,PRODUCT('Labor & Overhead Input'!$H$5/'Materials Catalog Input'!F390),\"0\")","v":"0"},"Enter Description","Category"]
[null,486,"Enter New Product",{"v":0,"d":"$0.00"},{"v":0,"d":"$0.00"},null,{"$f":"IF(F391>0,PRODUCT('Labor & Overhead Input'!$H$5/'Materials Catalog Input'!F391),\"0\")","v":"0"},"Enter Description","Category"]
[null,487,"Enter New Product",{"v":0,"d":"$0.00"},{"v":0,"d":"$0.00"},null,{"$f":"IF(F392>0,PRODUCT('Labor & Overhead Input'!$H$5/'Materials Catalog Input'!F392),\"0\")","v":"0"},"Enter Description","Category"]
[null,488,"Enter New Product",{"v":0,"d":"$0.00"},{"v":0,"d":"$0.00"},null,{"$f":"IF(F393>0,PRODUCT('Labor & Overhead Input'!$H$5/'Materials Catalog Input'!F393),\"0\")","v":"0"},"Enter Description","Category"]
[null,489,"Enter New Product",{"v":0,"d":"$0.00"},{"v":0,"d":"$0.00"},null,{"$f":"IF(F394>0,PRODUCT('Labor & Overhead Input'!$H$5/'Materials Catalog Input'!F394),\"0\")","v":"0"},"Enter Description","Category"]
[null,490,"Enter New Product",{"v":0,"d":"$0.00"},{"v":0,"d":"$0.00"},null,{"$f":"IF(F395>0,PRODUCT('Labor & Overhead Input'!$H$5/'Materials Catalog Input'!F395),\"0\")","v":"0"},"Enter Description","Category"]
[null,491,"Enter New Product",{"v":0,"d":"$0.00"},{"v":0,"d":"$0.00"},null,{"$f":"IF(F396>0,PRODUCT('Labor & Overhead Input'!$H$5/'Materials Catalog Input'!F396),\"0\")","v":"0"},"Enter Description","Category"]
[null,492,"Enter New Product",{"v":0,"d":"$0.00"},{"v":0,"d":"$0.00"},null,{"$f":"IF(F397>0,PRODUCT('Labor & Overhead Input'!$H$5/'Materials Catalog Input'!F397),\"0\")","v":"0"},"Enter Description","Category"]
[null,493,"Enter New Product",{"v":0,"d":"$0.00"},{"v":0,"d":"$0.00"},null,{"$f":"IF(F398>0,PRODUCT('Labor & Overhead Input'!$H$5/'Materials Catalog Input'!F398),\"0\")","v":"0"},"Enter Description","Category"]
[null,494,"Enter New Product",{"v":0,"d":"$0.00"},{"v":0,"d":"$0.00"},null,{"$f":"IF(F399>0,PRODUCT('Labor & Overhead Input'!$H$5/'Materials Catalog Input'!F399),\"0\")","v":"0"},"Enter Description","Category"]
[null,495,"Enter New Product",{"v":0,"d":"$0.00"},{"v":0,"d":"$0.00"},null,{"$f":"IF(F400>0,PRODUCT('Labor & Overhead Input'!$H$5/'Materials Catalog Input'!F400),\"0\")","v":"0"},"Enter Description","Category"]
[null,496,"Enter New Product",{"v":0,"d":"$0.00"},{"v":0,"d":"$0.00"},null,{"$f":"IF(F401>0,PRODUCT('Labor & Overhead Input'!$H$5/'Materials Catalog Input'!F401),\"0\")","v":"0"},"Enter Description","Category"]
[null,497,"Enter New Product",{"v":0,"d":"$0.00"},{"v":0,"d":"$0.00"},null,{"$f":"IF(F402>0,PRODUCT('Labor & Overhead Input'!$H$5/'Materials Catalog Input'!F402),\"0\")","v":"0"},"Enter Description","Category"]
[null,498,"Enter New Product",{"v":0,"d":"$0.00"},{"v":0,"d":"$0.00"},null,{"$f":"IF(F403>0,PRODUCT('Labor & Overhead Input'!$H$5/'Materials Catalog Input'!F403),\"0\")","v":"0"},"Enter Description","Category"]
[null,499,"Enter New Product",{"v":0,"d":"$0.00"},{"v":0,"d":"$0.00"},null,{"$f":"IF(F404>0,PRODUCT('Labor & Overhead Input'!$H$5/'Materials Catalog Input'!F404),\"0\")","v":"0"},"Enter Description","Category"]
[null,500,"1.5 OD - 24 GA x 8 in ",{"v":0.6839999999999999,"d":"$0.68"},{"v":0.8207999999999999,"d":"$0.82"},{"v":8,"d":"8.0"},{"$f":"IF(F405>0,PRODUCT('Labor & Overhead Input'!$H$5/'Materials Catalog Input'!F405),\"0\")","v":{"v":3.64625,"d":"$3.65"}},"Insulation Saddles","Shields"]
[null,501,"2.0 OD - 22 GA x 8 in ",{"v":0.6839999999999999,"d":"$0.68"},{"v":0.8207999999999999,"d":"$0.82"},{"v":8,"d":"8.0"},{"$f":"IF(F406>0,PRODUCT('Labor & Overhead Input'!$H$5/'Materials Catalog Input'!F406),\"0\")","v":{"v":3.64625,"d":"$3.65"}},"Insulation Saddles","Shields"]
[null,502,"2.5 OD - 22 GA x 8 in ",{"v":0.7488,"d":"$0.75"},{"v":0.89856,"d":"$0.90"},{"v":8,"d":"8.0"},{"$f":"IF(F407>0,PRODUCT('Labor & Overhead Input'!$H$5/'Materials Catalog Input'!F407),\"0\")","v":{"v":3.64625,"d":"$3.65"}},"Insulation Saddles","Shields"]
[null,503,"3.0 OD - 22 GA x 8 in ",{"v":0.8207999999999999,"d":"$0.82"},{"v":0.9849599999999998,"d":"$0.98"},{"v":8,"d":"8.0"},{"$f":"IF(F408>0,PRODUCT('Labor & Overhead Input'!$H$5/'Materials Catalog Input'!F408),\"0\")","v":{"v":3.64625,"d":"$3.65"}},"Insulation Saddles","Shields"]
[null,504,"3.5 OD - 22 GA x 8 in ",{"v":0.8207999999999999,"d":"$0.82"},{"v":0.9849599999999998,"d":"$0.98"},{"v":8,"d":"8.0"},{"$f":"IF(F409>0,PRODUCT('Labor & Overhead Input'!$H$5/'Materials Catalog Input'!F409),\"0\")","v":{"v":3.64625,"d":"$3.65"}},"Insulation Saddles","Shields"]
[null,505,"4.0 OD - 22 GA x 8 in ",{"v":0.9648,"d":"$0.96"},{"v":1.15776,"d":"$1.16"},{"v":8,"d":"8.0"},{"$f":"IF(F410>0,PRODUCT('Labor & Overhead Input'!$H$5/'Materials Catalog Input'!F410),\"0\")","v":{"v":3.64625,"d":"$3.65"}},"Insulation Saddles","Shields"]
[null,506,"4.5 OD - 22 GA x 8 in ",{"v":1.1303999999999998,"d":"$1.13"},{"v":1.3564799999999997,"d":"$1.36"},{"v":8,"d":"8.0"},{"$f":"IF(F411>0,PRODUCT('Labor & Overhead Input'!$H$5/'Materials Catalog Input'!F411),\"0\")","v":{"v":3.64625,"d":"$3.65"}},"Insulation Saddles","Shields"]
[null,507,"5.0 OD - 22 GA x 8 in ",{"v":1.1735999999999998,"d":"$1.17"},{"v":1.4083199999999996,"d":"$1.41"},{"v":8,"d":"8.0"},{"$f":"IF(F412>0,PRODUCT('Labor & Overhead Input'!$H$5/'Materials Catalog Input'!F412),\"0\")","v":{"v":3.64625,"d":"$3.65"}},"Insulation Saddles","Shields"]
[null,508,"5.5 OD - 22 GA x 8 in ",{"v":1.3464,"d":"$1.35"},{"v":1.61568,"d":"$1.62"},{"v":8,"d":"8.0"},{"$f":"IF(F413>0,PRODUCT('Labor & Overhead Input'!$H$5/'Materials Catalog Input'!F413),\"0\")","v":{"v":3.64625,"d":"$3.65"}},"Insulation Saddles","Shields"]
[null,509,"6.0 OD - 20 GA x 8 in ",{"v":1.4544,"d":"$1.45"},{"v":1.74528,"d":"$1.75"},{"v":8,"d":"8.0"},{"$f":"IF(F414>0,PRODUCT('Labor & Overhead Input'!$H$5/'Materials Catalog Input'!F414),\"0\")","v":{"v":3.64625,"d":"$3.65"}},"Insulation Saddles","Shields"]
[null,510,"6.5 OD - 20 GA x 8 in ",{"v":1.584,"d":"$1.58"},{"v":1.9008,"d":"$1.90"},{"v":8,"d":"8.0"},{"$f":"IF(F415>0,PRODUCT('Labor & Overhead Input'!$H$5/'Materials Catalog Input'!F415),\"0\")","v":{"v":3.64625,"d":"$3.65"}},"Insulation Saddles","Shields"]
[null,511,"7.0 OD - 20 GA x 8 in ",{"v":1.6487999999999998,"d":"$1.65"},{"v":1.9785599999999997,"d":"$1.98"},{"v":8,"d":"8.0"},{"$f":"IF(F416>0,PRODUCT('Labor & Overhead Input'!$H$5/'Materials Catalog Input'!F416),\"0\")","v":{"v":3.64625,"d":"$3.65"}},"Insulation Saddles","Shields"]
[null,512,"7.5 OD - 20 GA x 8 in ",{"v":1.9367999999999999,"d":"$1.94"},{"v":2.3241599999999996,"d":"$2.32"},{"v":8,"d":"8.0"},{"$f":"IF(F417>0,PRODUCT('Labor & Overhead Input'!$H$5/'Materials Catalog Input'!F417),\"0\")","v":{"v":3.64625,"d":"$3.65"}},"Insulation Saddles","Shields"]
[null,513,"8.0 OD - 20 GA x 8 in ",{"v":2.0088,"d":"$2.01"},{"v":2.41056,"d":"$2.41"},{"v":8,"d":"8.0"},{"$f":"IF(F418>0,PRODUCT('Labor & Overhead Input'!$H$5/'Materials Catalog Input'!F418),\"0\")","v":{"v":3.64625,"d":"$3.65"}},"Insulation Saddles","Shields"]
[null,514,"8.5 OD - 20 GA x 8 in ",{"v":2.0231999999999997,"d":"$2.02"},{"v":2.4278399999999993,"d":"$2.43"},{"v":8,"d":"8.0"},{"$f":"IF(F419>0,PRODUCT('Labor & Overhead Input'!$H$5/'Materials Catalog Input'!F419),\"0\")","v":{"v":3.64625,"d":"$3.65"}},"Insulation Saddles","Shields"]
[null,515,"9.0 OD - 20 GA x 8 in ",{"v":2.2824,"d":"$2.28"},{"v":2.73888,"d":"$2.74"},{"v":8,"d":"8.0"},{"$f":"IF(F420>0,PRODUCT('Labor & Overhead Input'!$H$5/'Materials Catalog Input'!F420),\"0\")","v":{"v":3.64625,"d":"$3.65"}},"Insulation Saddles","Shields"]
[null,516,"9.5 OD - 20 GA x 8 in ",{"v":2.5128,"d":"$2.51"},{"v":3.01536,"d":"$3.02"},{"v":8,"d":"8.0"},{"$f":"IF(F421>0,PRODUCT('Labor & Overhead Input'!$H$5/'Materials Catalog Input'!F421),\"0\")","v":{"v":3.64625,"d":"$3.65"}},"Insulation Saddles","Shields"]
[null,517,"10.0 OD - 20 GA x 8 in ",{"v":2.7359999999999998,"d":"$2.74"},{"v":3.2831999999999995,"d":"$3.28"},{"v":8,"d":"8.0"},{"$f":"IF(F422>0,PRODUCT('Labor & Overhead Input'!$H$5/'Materials Catalog Input'!F422),\"0\")","v":{"v":3.64625,"d":"$3.65"}},"Insulation Saddles","Shields"]
[null,518,"10.5 OD - 20 GA x 8 in ",{"v":3.0744,"d":"$3.07"},{"v":3.6892799999999997,"d":"$3.69"},{"v":8,"d":"8.0"},{"$f":"IF(F423>0,PRODUCT('Labor & Overhead Input'!$H$5/'Materials Catalog Input'!F423),\"0\")","v":{"v":3.64625,"d":"$3.65"}},"Insulation Saddles","Shields"]
[null,519,"11.0 OD - 20 GA x 8 in ",{"v":3.384,"d":"$3.38"},{"v":4.0607999999999995,"d":"$4.06"},{"v":8,"d":"8.0"},{"$f":"IF(F424>0,PRODUCT('Labor & Overhead Input'!$H$5/'Materials Catalog Input'!F424),\"0\")","v":{"v":3.64625,"d":"$3.65"}},"Insulation Saddles","Shields"]
[null,520,"11.5 OD - 20 GA x 8 in ",{"v":3.7079999999999997,"d":"$3.71"},{"v":4.449599999999999,"d":"$4.45"},{"v":8,"d":"8.0"},{"$f":"IF(F425>0,PRODUCT('Labor & Overhead Input'!$H$5/'Materials Catalog Input'!F425),\"0\")","v":{"v":3.64625,"d":"$3.65"}},"Insulation Saddles","Shields"]
[null,521,"12.0 OD - 20 GA x 8 in ",{"v":4.1256,"d":"$4.13"},{"v":4.9507200000000005,"d":"$4.95"},{"v":8,"d":"8.0"},{"$f":"IF(F426>0,PRODUCT('Labor & Overhead Input'!$H$5/'Materials Catalog Input'!F426),\"0\")","v":{"v":3.64625,"d":"$3.65"}},"Insulation Saddles","Shields"]
[null,522,"12.5 OD - 20 GA x 8 in ",{"v":4.4928,"d":"$4.49"},{"v":5.39136,"d":"$5.39"},{"v":8,"d":"8.0"},{"$f":"IF(F427>0,PRODUCT('Labor & Overhead Input'!$H$5/'Materials Catalog Input'!F427),\"0\")","v":{"v":3.64625,"d":"$3.65"}},"Insulation Saddles","Shields"]
[null,523,"1.5 OD - 24 GA x 12 in ",{"v":0.7632,"d":"$0.76"},{"v":0.91584,"d":"$0.92"},{"v":8,"d":"8.0"},{"$f":"IF(F428>0,PRODUCT('Labor & Overhead Input'!$H$5/'Materials Catalog Input'!F428),\"0\")","v":{"v":3.64625,"d":"$3.65"}},"Insulation Saddles","Shields"]
[null,524,"2.0 OD - 22 GA x 12 in ",{"v":0.7632,"d":"$0.76"},{"v":0.91584,"d":"$0.92"},{"v":8,"d":"8.0"},{"$f":"IF(F429>0,PRODUCT('Labor & Overhead Input'!$H$5/'Materials Catalog Input'!F429),\"0\")","v":{"v":3.64625,"d":"$3.65"}},"Insulation Saddles","Shields"]
[null,525,"2.5 OD - 22 GA x 12 in ",{"v":0.8207999999999999,"d":"$0.82"},{"v":0.9849599999999998,"d":"$0.98"},{"v":8,"d":"8.0"},{"$f":"IF(F430>0,PRODUCT('Labor & Overhead Input'!$H$5/'Materials Catalog Input'!F430),\"0\")","v":{"v":3.64625,"d":"$3.65"}},"Insulation Saddles","Shields"]
[null,526,"3.0 OD - 22 GA x 12 in ",{"v":0.9144,"d":"$0.91"},{"v":1.09728,"d":"$1.10"},{"v":8,"d":"8.0"},{"$f":"IF(F431>0,PRODUCT('Labor & Overhead Input'!$H$5/'Materials Catalog Input'!F431),\"0\")","v":{"v":3.64625,"d":"$3.65"}},"Insulation Saddles","Shields"]
[null,527,"3.5 OD - 22 GA x 12 in ",{"v":0.9144,"d":"$0.91"},{"v":1.09728,"d":"$1.10"},{"v":8,"d":"8.0"},{"$f":"IF(F432>0,PRODUCT('Labor & Overhead Input'!$H$5/'Materials Catalog Input'!F432),\"0\")","v":{"v":3.64625,"d":"$3.65"}},"Insulation Saddles","Shields"]
[null,528,"4.0 OD - 22 GA x 12 in ",{"v":1.0655999999999999,"d":"$1.07"},{"v":1.2787199999999999,"d":"$1.28"},{"v":8,"d":"8.0"},{"$f":"IF(F433>0,PRODUCT('Labor & Overhead Input'!$H$5/'Materials Catalog Input'!F433),\"0\")","v":{"v":3.64625,"d":"$3.65"}},"Insulation Saddles","Shields"]
[null,529,"4.5 OD - 22 GA x 12 in ",{"v":1.2528,"d":"$1.25"},{"v":1.5033599999999998,"d":"$1.50"},{"v":8,"d":"8.0"},{"$f":"IF(F434>0,PRODUCT('Labor & Overhead Input'!$H$5/'Materials Catalog Input'!F434),\"0\")","v":{"v":3.64625,"d":"$3.65"}},"Insulation Saddles","Shields"]
[null,530,"5.0 OD - 22 GA x 12 in ",{"v":1.3104,"d":"$1.31"},{"v":1.5724799999999999,"d":"$1.57"},{"v":8,"d":"8.0"},{"$f":"IF(F435>0,PRODUCT('Labor & Overhead Input'!$H$5/'Materials Catalog Input'!F435),\"0\")","v":{"v":3.64625,"d":"$3.65"}},"Insulation Saddles","Shields"]
[null,531,"5.5 OD - 22 GA x 12 in ",{"v":1.4976,"d":"$1.50"},{"v":1.79712,"d":"$1.80"},{"v":8,"d":"8.0"},{"$f":"IF(F436>0,PRODUCT('Labor & Overhead Input'!$H$5/'Materials Catalog Input'!F436),\"0\")","v":{"v":3.64625,"d":"$3.65"}},"Insulation Saddles","Shields"]
[null,532,"6.0 OD - 20 GA x 12 in ",{"v":1.8288,"d":"$1.83"},{"v":2.19456,"d":"$2.19"},{"v":8,"d":"8.0"},{"$f":"IF(F437>0,PRODUCT('Labor & Overhead Input'!$H$5/'Materials Catalog Input'!F437),\"0\")","v":{"v":3.64625,"d":"$3.65"}},"Insulation Saddles","Shields"]
[null,533,"6.5 OD - 20 GA x 12 in ",{"v":2.0736,"d":"$2.07"},{"v":2.48832,"d":"$2.49"},{"v":8,"d":"8.0"},{"$f":"IF(F438>0,PRODUCT('Labor & Overhead Input'!$H$5/'Materials Catalog Input'!F438),\"0\")","v":{"v":3.64625,"d":"$3.65"}},"Insulation Saddles","Shields"]
[null,534,"7.0 OD - 20 GA x 12 in ",{"v":2.1384,"d":"$2.14"},{"v":2.56608,"d":"$2.57"},{"v":8,"d":"8.0"},{"$f":"IF(F439>0,PRODUCT('Labor & Overhead Input'!$H$5/'Materials Catalog Input'!F439),\"0\")","v":{"v":3.64625,"d":"$3.65"}},"Insulation Saddles","Shields"]
[null,535,"7.5 OD - 20 GA x 12 in ",{"v":2.4408,"d":"$2.44"},{"v":2.9289599999999996,"d":"$2.93"},{"v":8,"d":"8.0"},{"$f":"IF(F440>0,PRODUCT('Labor & Overhead Input'!$H$5/'Materials Catalog Input'!F440),\"0\")","v":{"v":3.64625,"d":"$3.65"}},"Insulation Saddles","Shields"]
[null,536,"8.0 OD - 20 GA x 12 in ",{"v":2.6279999999999997,"d":"$2.63"},{"v":3.1535999999999995,"d":"$3.15"},{"v":8,"d":"8.0"},{"$f":"IF(F441>0,PRODUCT('Labor & Overhead Input'!$H$5/'Materials Catalog Input'!F441),\"0\")","v":{"v":3.64625,"d":"$3.65"}},"Insulation Saddles","Shields"]
[null,537,"8.5 OD - 20 GA x 12 in ",{"v":2.6568,"d":"$2.66"},{"v":3.18816,"d":"$3.19"},{"v":8,"d":"8.0"},{"$f":"IF(F442>0,PRODUCT('Labor & Overhead Input'!$H$5/'Materials Catalog Input'!F442),\"0\")","v":{"v":3.64625,"d":"$3.65"}},"Insulation Saddles","Shields"]
[null,538,"9.0 OD - 20 GA x 12 in ",{"v":2.9592,"d":"$2.96"},{"v":3.55104,"d":"$3.55"},{"v":8,"d":"8.0"},{"$f":"IF(F443>0,PRODUCT('Labor & Overhead Input'!$H$5/'Materials Catalog Input'!F443),\"0\")","v":{"v":3.64625,"d":"$3.65"}},"Insulation Saddles","Shields"]
[null,539,"9.5 OD - 20 GA x 12 in ",{"v":2.9592,"d":"$2.96"},{"v":3.55104,"d":"$3.55"},{"v":8,"d":"8.0"},{"$f":"IF(F444>0,PRODUCT('Labor & Overhead Input'!$H$5/'Materials Catalog Input'!F444),\"0\")","v":{"v":3.64625,"d":"$3.65"}},"Insulation Saddles","Shields"]
[null,540,"10.0 OD - 20 GA x 12 in ",{"v":3.5136,"d":"$3.51"},{"v":4.21632,"d":"$4.22"},{"v":8,"d":"8.0"},{"$f":"IF(F445>0,PRODUCT('Labor & Overhead Input'!$H$5/'Materials Catalog Input'!F445),\"0\")","v":{"v":3.64625,"d":"$3.65"}},"Insulation Saddles","Shields"]
[null,541,"10.5 OD - 20 GA x 12 in ",{"v":3.5136,"d":"$3.51"},{"v":4.21632,"d":"$4.22"},{"v":8,"d":"8.0"},{"$f":"IF(F446>0,PRODUCT('Labor & Overhead Input'!$H$5/'Materials Catalog Input'!F446),\"0\")","v":{"v":3.64625,"d":"$3.65"}},"Insulation Saddles","Shields"]
[null,542,"11.0 OD - 20 GA x 12 in ",{"v":4.2768,"d":"$4.28"},{"v":5.13216,"d":"$5.13"},{"v":8,"d":"8.0"},{"$f":"IF(F447>0,PRODUCT('Labor & Overhead Input'!$H$5/'Materials Catalog Input'!F447),\"0\")","v":{"v":3.64625,"d":"$3.65"}},"Insulation Saddles","Shields"]
[null,543,"11.5 OD - 20 GA x 12 in ",{"v":4.2768,"d":"$4.28"},{"v":5.13216,"d":"$5.13"},{"v":8,"d":"8.0"},{"$f":"IF(F448>0,PRODUCT('Labor & Overhead Input'!$H$5/'Materials Catalog Input'!F448),\"0\")","v":{"v":3.64625,"d":"$3.65"}},"Insulation Saddles","Shields"]
[null,544,"12.0 OD - 20 GA x 12 in ",{"v":4.572,"d":"$4.57"},{"v":5.4864,"d":"$5.49"},{"v":8,"d":"8.0"},{"$f":"IF(F449>0,PRODUCT('Labor & Overhead Input'!$H$5/'Materials Catalog Input'!F449),\"0\")","v":{"v":3.64625,"d":"$3.65"}},"Insulation Saddles","Shields"]
[null,545,"12.5 OD - 20 GA x 12 in ",{"v":5.5367999999999995,"d":"$5.54"},{"v":6.644159999999999,"d":"$6.64"},{"v":8,"d":"8.0"},{"$f":"IF(F450>0,PRODUCT('Labor & Overhead Input'!$H$5/'Materials Catalog Input'!F450),\"0\")","v":{"v":3.64625,"d":"$3.65"}},"Insulation Saddles","Shields"]
[null,546,"Enter New Product",{"v":0,"d":"$0.00"},{"v":0,"d":"$0.00"},null,{"$f":"IF(F451>0,PRODUCT('Labor & Overhead Input'!$H$5/'Materials Catalog Input'!F451),\"0\")","v":"0"},"Enter Description","Category"]
[null,547,"Enter New Product",{"v":0,"d":"$0.00"},{"v":0,"d":"$0.00"},null,{"$f":"IF(F452>0,PRODUCT('Labor & Overhead Input'!$H$5/'Materials Catalog Input'!F452),\"0\")","v":"0"},"Enter Description","Category"]
[null,548,"Enter New Product",{"v":0,"d":"$0.00"},{"$f":"D453*(1+$I$3)","v":{"v":0,"d":"$0.00"}},null,{"$f":"IF(F453>0,PRODUCT('Labor & Overhead Input'!$H$5/'Materials Catalog Input'!F453),\"0\")","v":"0"},"Enter Description","Category"]
[null,549,"Enter New Product",{"v":0,"d":"$0.00"},{"v":0,"d":"$0.00"},null,{"$f":"IF(F454>0,PRODUCT('Labor & Overhead Input'!$H$5/'Materials Catalog Input'!F454),\"0\")","v":"0"},"Enter Description","Category"]
[null,550,"Enter New Product",{"v":0,"d":"$0.00"},{"v":0,"d":"$0.00"},null,{"$f":"IF(F455>0,PRODUCT('Labor & Overhead Input'!$H$5/'Materials Catalog Input'!F455),\"0\")","v":"0"},"Enter Description","Category"]
[null,551,"Enter New Product",{"v":0,"d":"$0.00"},{"v":0,"d":"$0.00"},null,{"$f":"IF(F456>0,PRODUCT('Labor & Overhead Input'!$H$5/'Materials Catalog Input'!F456),\"0\")","v":"0"},"Enter Description","Category"]
[null,552,"Enter New Product",{"v":0,"d":"$0.00"},{"v":0,"d":"$0.00"},null,{"$f":"IF(F457>0,PRODUCT('Labor & Overhead Input'!$H$5/'Materials Catalog Input'!F457),\"0\")","v":"0"},"Enter Description","Category"]
[null,553,"Enter New Product",{"v":0,"d":"$0.00"},{"v":0,"d":"$0.00"},null,{"$f":"IF(F458>0,PRODUCT('Labor & Overhead Input'!$H$5/'Materials Catalog Input'!F458),\"0\")","v":"0"},"Enter Description","Category"]
[null,554,"Enter New Product",{"v":0,"d":"$0.00"},{"v":0,"d":"$0.00"},null,{"$f":"IF(F459>0,PRODUCT('Labor & Overhead Input'!$H$5/'Materials Catalog Input'!F459),\"0\")","v":"0"},"Enter Description","Category"]
[null,555,"Enter New Product",{"v":0,"d":"$0.00"},{"v":0,"d":"$0.00"},null,{"$f":"IF(F460>0,PRODUCT('Labor & Overhead Input'!$H$5/'Materials Catalog Input'!F460),\"0\")","v":"0"},"Enter Description","Category"]
[null,556,"Enter New Product",{"v":0,"d":"$0.00"},{"v":0,"d":"$0.00"},null,{"$f":"IF(F461>0,PRODUCT('Labor & Overhead Input'!$H$5/'Materials Catalog Input'!F461),\"0\")","v":"0"},"Enter Description","Category"]
[null,557,"Enter New Product",{"v":0,"d":"$0.00"},{"v":0,"d":"$0.00"},null,{"$f":"IF(F462>0,PRODUCT('Labor & Overhead Input'!$H$5/'Materials Catalog Input'!F462),\"0\")","v":"0"},"Enter Description","Category"]
[null,558,"Enter New Product",{"v":0,"d":"$0.00"},{"v":0,"d":"$0.00"},null,{"$f":"IF(F463>0,PRODUCT('Labor & Overhead Input'!$H$5/'Materials Catalog Input'!F463),\"0\")","v":"0"},"Enter Description","Category"]
[null,559,"Enter New Product",{"v":0,"d":"$0.00"},{"v":0,"d":"$0.00"},null,{"$f":"IF(F464>0,PRODUCT('Labor & Overhead Input'!$H$5/'Materials Catalog Input'!F464),\"0\")","v":"0"},"Enter Description","Category"]
[null,560,"Enter New Product",{"v":0,"d":"$0.00"},{"v":0,"d":"$0.00"},null,{"$f":"IF(F465>0,PRODUCT('Labor & Overhead Input'!$H$5/'Materials Catalog Input'!F465),\"0\")","v":"0"},"Enter Description","Category"]
[null,561,"Enter New Product",{"v":0,"d":"$0.00"},{"v":0,"d":"$0.00"},null,{"$f":"IF(F466>0,PRODUCT('Labor & Overhead Input'!$H$5/'Materials Catalog Input'!F466),\"0\")","v":"0"},"Enter Description","Category"]
[null,562,"Enter New Product",{"v":0,"d":"$0.00"},{"v":0,"d":"$0.00"},null,{"$f":"IF(F467>0,PRODUCT('Labor & Overhead Input'!$H$5/'Materials Catalog Input'!F467),\"0\")","v":"0"},"Enter Description","Category"]
[null,563,"Enter New Product",{"v":0,"d":"$0.00"},{"v":0,"d":"$0.00"},null,{"$f":"IF(F468>0,PRODUCT('Labor & Overhead Input'!$H$5/'Materials Catalog Input'!F468),\"0\")","v":"0"},"Enter Description","Category"]
[null,564,"Enter New Product",{"v":0,"d":"$0.00"},{"v":0,"d":"$0.00"},null,{"$f":"IF(F469>0,PRODUCT('Labor & Overhead Input'!$H$5/'Materials Catalog Input'!F469),\"0\")","v":"0"},"Enter Description","Category"]
[null,565,"Enter New Product",{"v":0,"d":"$0.00"},{"v":0,"d":"$0.00"},null,{"$f":"IF(F470>0,PRODUCT('Labor & Overhead Input'!$H$5/'Materials Catalog Input'!F470),\"0\")","v":"0"},"Enter Description","Category"]
[null,566,"Enter New Product",{"v":0,"d":"$0.00"},{"v":0,"d":"$0.00"},null,{"$f":"IF(F471>0,PRODUCT('Labor & Overhead Input'!$H$5/'Materials Catalog Input'!F471),\"0\")","v":"0"},"Enter Description","Category"]
[null,567,"Enter New Product",{"v":0,"d":"$0.00"},{"v":0,"d":"$0.00"},null,{"$f":"IF(F472>0,PRODUCT('Labor & Overhead Input'!$H$5/'Materials Catalog Input'!F472),\"0\")","v":"0"},"Enter Description","Category"]
[null,568,"Enter New Product",{"v":0,"d":"$0.00"},{"v":0,"d":"$0.00"},null,{"$f":"IF(F473>0,PRODUCT('Labor & Overhead Input'!$H$5/'Materials Catalog Input'!F473),\"0\")","v":"0"},"Enter Description","Category"]
[null,569,"Enter New Product",{"v":0,"d":"$0.00"},{"v":0,"d":"$0.00"},null,{"$f":"IF(F474>0,PRODUCT('Labor & Overhead Input'!$H$5/'Materials Catalog Input'!F474),\"0\")","v":"0"},"Enter Description","Category"]
[null,570,"Enter New Product",{"v":0,"d":"$0.00"},{"v":0,"d":"$0.00"},null,{"$f":"IF(F475>0,PRODUCT('Labor & Overhead Input'!$H$5/'Materials Catalog Input'!F475),\"0\")","v":"0"},"Enter Description","Category"]
[null,571,"Enter New Product",{"v":0,"d":"$0.00"},{"v":0,"d":"$0.00"},null,{"$f":"IF(F476>0,PRODUCT('Labor & Overhead Input'!$H$5/'Materials Catalog Input'!F476),\"0\")","v":"0"},"Enter Description","Category"]
[null,572,"Enter New Product",{"v":0,"d":"$0.00"},{"v":0,"d":"$0.00"},null,{"$f":"IF(F477>0,PRODUCT('Labor & Overhead Input'!$H$5/'Materials Catalog Input'!F477),\"0\")","v":"0"},"Enter Description","Category"]
[null,573,"Enter New Product",{"v":0,"d":"$0.00"},{"v":0,"d":"$0.00"},null,{"$f":"IF(F478>0,PRODUCT('Labor & Overhead Input'!$H$5/'Materials Catalog Input'!F478),\"0\")","v":"0"},"Enter Description","Category"]
[null,574,"Enter New Product",{"v":0,"d":"$0.00"},{"v":0,"d":"$0.00"},null,{"$f":"IF(F479>0,PRODUCT('Labor & Overhead Input'!$H$5/'Materials Catalog Input'!F479),\"0\")","v":"0"},"Enter Description","Category"]
[null,575,"Enter New Product",{"v":0,"d":"$0.00"},{"v":0,"d":"$0.00"},null,{"$f":"IF(F480>0,PRODUCT('Labor & Overhead Input'!$H$5/'Materials Catalog Input'!F480),\"0\")","v":"0"},"Enter Description","Category"]
[null,576,"Enter New Product",{"v":0,"d":"$0.00"},{"v":0,"d":"$0.00"},null,{"$f":"IF(F481>0,PRODUCT('Labor & Overhead Input'!$H$5/'Materials Catalog Input'!F481),\"0\")","v":"0"},"Enter Description","Category"]
[null,577,"Enter New Product",{"v":0,"d":"$0.00"},{"v":0,"d":"$0.00"},null,{"$f":"IF(F482>0,PRODUCT('Labor & Overhead Input'!$H$5/'Materials Catalog Input'!F482),\"0\")","v":"0"},"Enter Description","Category"]
[null,578,"Enter New Product",{"v":0,"d":"$0.00"},{"v":0,"d":"$0.00"},null,{"$f":"IF(F483>0,PRODUCT('Labor & Overhead Input'!$H$5/'Materials Catalog Input'!F483),\"0\")","v":"0"},"Enter Description","Category"]
[null,579,"Enter New Product",{"v":0,"d":"$0.00"},{"v":0,"d":"$0.00"},null,{"$f":"IF(F484>0,PRODUCT('Labor & Overhead Input'!$H$5/'Materials Catalog Input'!F484),\"0\")","v":"0"},"Enter Description","Category"]
[null,580,"Enter New Product",{"v":0,"d":"$0.00"},{"v":0,"d":"$0.00"},null,{"$f":"IF(F485>0,PRODUCT('Labor & Overhead Input'!$H$5/'Materials Catalog Input'!F485),\"0\")","v":"0"},"Enter Description","Category"]
[null,581,"Enter New Product",{"v":0,"d":"$0.00"},{"v":0,"d":"$0.00"},null,{"$f":"IF(F486>0,PRODUCT('Labor & Overhead Input'!$H$5/'Materials Catalog Input'!F486),\"0\")","v":"0"},"Enter Description","Category"]
[null,582,"Enter New Product",{"v":0,"d":"$0.00"},{"v":0,"d":"$0.00"},null,{"$f":"IF(F487>0,PRODUCT('Labor & Overhead Input'!$H$5/'Materials Catalog Input'!F487),\"0\")","v":"0"},"Enter Description","Category"]
[null,583,"Enter New Product",{"v":0,"d":"$0.00"},{"v":0,"d":"$0.00"},null,{"$f":"IF(F488>0,PRODUCT('Labor & Overhead Input'!$H$5/'Materials Catalog Input'!F488),\"0\")","v":"0"},"Enter Description","Category"]
[null,584,"Enter New Product",{"v":0,"d":"$0.00"},{"v":0,"d":"$0.00"},null,{"$f":"IF(F489>0,PRODUCT('Labor & Overhead Input'!$H$5/'Materials Catalog Input'!F489),\"0\")","v":"0"},"Enter Description","Category"]
[null,585,"Enter New Product",{"v":0,"d":"$0.00"},{"v":0,"d":"$0.00"},null,{"$f":"IF(F490>0,PRODUCT('Labor & Overhead Input'!$H$5/'Materials Catalog Input'!F490),\"0\")","v":"0"},"Enter Description","Category"]
[null,586,"Enter New Product",{"v":0,"d":"$0.00"},{"v":0,"d":"$0.00"},null,{"$f":"IF(F491>0,PRODUCT('Labor & Overhead Input'!$H$5/'Materials Catalog Input'!F491),\"0\")","v":"0"},"Enter Description","Category"]
[null,587,"Enter New Product",{"v":0,"d":"$0.00"},{"v":0,"d":"$0.00"},null,{"$f":"IF(F492>0,PRODUCT('Labor & Overhead Input'!$H$5/'Materials Catalog Input'!F492),\"0\")","v":"0"},"Enter Description","Category"]
[null,588,"Enter New Product",{"v":0,"d":"$0.00"},{"v":0,"d":"$0.00"},null,{"$f":"IF(F493>0,PRODUCT('Labor & Overhead Input'!$H$5/'Materials Catalog Input'!F493),\"0\")","v":"0"},"Enter Description","Category"]
[null,589,"Enter New Product",{"v":0,"d":"$0.00"},{"v":0,"d":"$0.00"},null,{"$f":"IF(F494>0,PRODUCT('Labor & Overhead Input'!$H$5/'Materials Catalog Input'!F494),\"0\")","v":"0"},"Enter Description","Category"]
[null,590,"Enter New Product",{"v":0,"d":"$0.00"},{"v":0,"d":"$0.00"},null,{"$f":"IF(F495>0,PRODUCT('Labor & Overhead Input'!$H$5/'Materials Catalog Input'!F495),\"0\")","v":"0"},"Enter Description","Category"]
[null,591,"Enter New Product",{"v":0,"d":"$0.00"},{"v":0,"d":"$0.00"},null,{"$f":"IF(F496>0,PRODUCT('Labor & Overhead Input'!$H$5/'Materials Catalog Input'!F496),\"0\")","v":"0"},"Enter Description","Category"]
[null,592,"Enter New Product",{"v":0,"d":"$0.00"},{"v":0,"d":"$0.00"},null,{"$f":"IF(F497>0,PRODUCT('Labor & Overhead Input'!$H$5/'Materials Catalog Input'!F497),\"0\")","v":"0"},"Enter Description","Category"]
[null,593,"Enter New Product",{"v":0,"d":"$0.00"},{"v":0,"d":"$0.00"},null,{"$f":"IF(F498>0,PRODUCT('Labor & Overhead Input'!$H$5/'Materials Catalog Input'!F498),\"0\")","v":"0"},"Enter Description","Category"]
[null,594,"Enter New Product",{"v":0,"d":"$0.00"},{"v":0,"d":"$0.00"},null,{"$f":"IF(F499>0,PRODUCT('Labor & Overhead Input'!$H$5/'Materials Catalog Input'!F499),\"0\")","v":"0"},"Enter Description","Category"]
[null,595,"Enter New Product",{"v":0,"d":"$0.00"},{"v":0,"d":"$0.00"},null,{"$f":"IF(F500>0,PRODUCT('Labor & Overhead Input'!$H$5/'Materials Catalog Input'!F500),\"0\")","v":"0"},"Enter Description","Category"]
[null,596,"Enter New Product",{"v":0,"d":"$0.00"},{"v":0,"d":"$0.00"},null,{"$f":"IF(F501>0,PRODUCT('Labor & Overhead Input'!$H$5/'Materials Catalog Input'!F501),\"0\")","v":"0"},"Enter Description","Category"]
[null,597,"Enter New Product",{"v":0,"d":"$0.00"},{"v":0,"d":"$0.00"},null,{"$f":"IF(F502>0,PRODUCT('Labor & Overhead Input'!$H$5/'Materials Catalog Input'!F502),\"0\")","v":"0"},"Enter Description","Category"]
[null,598,"Enter New Product",{"v":0,"d":"$0.00"},{"v":0,"d":"$0.00"},null,{"$f":"IF(F503>0,PRODUCT('Labor & Overhead Input'!$H$5/'Materials Catalog Input'!F503),\"0\")","v":"0"},"Enter Description","Category"]
[null,599,"Enter New Product",{"v":0,"d":"$0.00"},{"v":0,"d":"$0.00"},null,{"$f":"IF(F504>0,PRODUCT('Labor & Overhead Input'!$H$5/'Materials Catalog Input'!F504),\"0\")","v":"0"},"Enter Description","Category"]
[null,600,"Nr 2 45s PVC  ",{"v":0.528,"d":"$0.53"},{"v":0.6336,"d":"$0.63"},{"v":8,"d":"8.0"},{"$f":"IF(F505>0,PRODUCT('Labor & Overhead Input'!$H$5/'Materials Catalog Input'!F505),\"0\")","v":{"v":3.64625,"d":"$3.65"}},"Knauf/Proto","PVC Fittings"]
[null,601,"Nr 3 45s PVC ",{"v":0.6528,"d":"$0.65"},{"v":0.7833600000000001,"d":"$0.78"},{"v":8,"d":"8.0"},{"$f":"IF(F506>0,PRODUCT('Labor & Overhead Input'!$H$5/'Materials Catalog Input'!F506),\"0\")","v":{"v":3.64625,"d":"$3.65"}},"Knauf/Proto","PVC Fittings"]
[null,602,"Nr 4 45s PVC ",{"v":0.7295999999999999,"d":"$0.73"},{"v":0.8755199999999999,"d":"$0.88"},{"v":8,"d":"8.0"},{"$f":"IF(F507>0,PRODUCT('Labor & Overhead Input'!$H$5/'Materials Catalog Input'!F507),\"0\")","v":{"v":3.64625,"d":"$3.65"}},"Knauf/Proto","PVC Fittings"]
[null,603,"Nr 5 45s PVC ",{"v":0.8064,"d":"$0.81"},{"v":0.96768,"d":"$0.97"},{"v":8,"d":"8.0"},{"$f":"IF(F508>0,PRODUCT('Labor & Overhead Input'!$H$5/'Materials Catalog Input'!F508),\"0\")","v":{"v":3.64625,"d":"$3.65"}},"Knauf/Proto","PVC Fittings"]
[null,604,"Nr 6 45s PVC ",{"v":0.8735999999999999,"d":"$0.87"},{"v":1.04832,"d":"$1.05"},{"v":8,"d":"8.0"},{"$f":"IF(F509>0,PRODUCT('Labor & Overhead Input'!$H$5/'Materials Catalog Input'!F509),\"0\")","v":{"v":3.64625,"d":"$3.65"}},"Knauf/Proto","PVC Fittings"]
[null,605,"Nr 7 45s PVC ",{"v":0.9216,"d":"$0.92"},{"v":1.10592,"d":"$1.11"},{"v":8,"d":"8.0"},{"$f":"IF(F510>0,PRODUCT('Labor & Overhead Input'!$H$5/'Materials Catalog Input'!F510),\"0\")","v":{"v":3.64625,"d":"$3.65"}},"Knauf/Proto","PVC Fittings"]
[null,606,"Nr 8 45s PVC ",{"v":1.0464,"d":"$1.05"},{"v":1.25568,"d":"$1.26"},{"v":8,"d":"8.0"},{"$f":"IF(F511>0,PRODUCT('Labor & Overhead Input'!$H$5/'Materials Catalog Input'!F511),\"0\")","v":{"v":3.64625,"d":"$3.65"}},"Knauf/Proto","PVC Fittings"]
[null,607,"Nr 9 45s PVC ",{"v":1.1712,"d":"$1.17"},{"v":1.40544,"d":"$1.41"},{"v":8,"d":"8.0"},{"$f":"IF(F512>0,PRODUCT('Labor & Overhead Input'!$H$5/'Materials Catalog Input'!F512),\"0\")","v":{"v":3.64625,"d":"$3.65"}},"Knauf/Proto","PVC Fittings"]
[null,608,"Nr 10 45s PVC ",{"v":1.4784,"d":"$1.48"},{"v":1.7740799999999999,"d":"$1.77"},{"v":8,"d":"8.0"},{"$f":"IF(F513>0,PRODUCT('Labor & Overhead Input'!$H$5/'Materials Catalog Input'!F513),\"0\")","v":{"v":3.64625,"d":"$3.65"}},"Knauf/Proto","PVC Fittings"]
[null,609,"Nr 11 45s PVC ",{"v":1.7855999999999999,"d":"$1.79"},{"v":2.1427199999999997,"d":"$2.14"},{"v":8,"d":"8.0"},{"$f":"IF(F514>0,PRODUCT('Labor & Overhead Input'!$H$5/'Materials Catalog Input'!F514),\"0\")","v":{"v":3.64625,"d":"$3.65"}},"Knauf/Proto","PVC Fittings"]
[null,610,"Nr 12 45s PVC ",{"v":2.0831999999999997,"d":"$2.08"},{"v":2.4998399999999994,"d":"$2.50"},{"v":8,"d":"8.0"},{"$f":"IF(F515>0,PRODUCT('Labor & Overhead Input'!$H$5/'Materials Catalog Input'!F515),\"0\")","v":{"v":3.64625,"d":"$3.65"}},"Knauf/Proto","PVC Fittings"]
[null,611,"Nr 13 45s PVC ",{"v":2.7455999999999996,"d":"$2.75"},{"v":3.2947199999999994,"d":"$3.29"},{"v":8,"d":"8.0"},{"$f":"IF(F516>0,PRODUCT('Labor & Overhead Input'!$H$5/'Materials Catalog Input'!F516),\"0\")","v":{"v":3.64625,"d":"$3.65"}},"Knauf/Proto","PVC Fittings"]
[null,612,"Nr 14 45s PVC ",{"v":4.579199999999999,"d":"$4.58"},{"$f":"D517*(1+$I$3)","v":{"v":5.495039999999999,"d":"$5.50"}},{"v":8,"d":"8.0"},{"$f":"IF(F517>0,PRODUCT('Labor & Overhead Input'!$H$5/'Materials Catalog Input'!F517),\"0\")","v":{"v":3.64625,"d":"$3.65"}},"Knauf/Proto","PVC Fittings"]
[null,613,"Nr 15 45s PVC ",{"v":4.8191999999999995,"d":"$4.82"},{"v":5.783039999999999,"d":"$5.78"},{"v":8,"d":"8.0"},{"$f":"IF(F518>0,PRODUCT('Labor & Overhead Input'!$H$5/'Materials Catalog Input'!F518),\"0\")","v":{"v":3.64625,"d":"$3.65"}},"Knauf/Proto","PVC Fittings"]
[null,614,"Nr 16 45s PVC ",{"v":6.0384,"d":"$6.04"},{"v":7.24608,"d":"$7.25"},{"v":8,"d":"8.0"},{"$f":"IF(F519>0,PRODUCT('Labor & Overhead Input'!$H$5/'Materials Catalog Input'!F519),\"0\")","v":{"v":3.64625,"d":"$3.65"}},"Knauf/Proto","PVC Fittings"]
[null,615,"Nr 17 45s PVC ",{"v":6.336,"d":"$6.34"},{"v":7.6032,"d":"$7.60"},{"v":8,"d":"8.0"},{"$f":"IF(F520>0,PRODUCT('Labor & Overhead Input'!$H$5/'Materials Catalog Input'!F520),\"0\")","v":{"v":3.64625,"d":"$3.65"}},"Knauf/Proto","PVC Fittings"]
[null,616,"Nr 18 45s PVC ",{"v":8.1504,"d":"$8.15"},{"v":9.780479999999999,"d":"$9.78"},{"v":8,"d":"8.0"},{"$f":"IF(F521>0,PRODUCT('Labor & Overhead Input'!$H$5/'Materials Catalog Input'!F521),\"0\")","v":{"v":3.64625,"d":"$3.65"}},"Knauf/Proto","PVC Fittings"]
[null,617,"Nr 19 45s PVC ",{"v":10.886399999999998,"d":"$10.89"},{"v":13.063679999999998,"d":"$13.06"},{"v":8,"d":"8.0"},{"$f":"IF(F522>0,PRODUCT('Labor & Overhead Input'!$H$5/'Materials Catalog Input'!F522),\"0\")","v":{"v":3.64625,"d":"$3.65"}},"Knauf/Proto","PVC Fittings"]
[null,618,"Nr 20 45s PVC ",{"v":14.755199999999999,"d":"$14.76"},{"v":17.706239999999998,"d":"$17.71"},{"v":8,"d":"8.0"},{"$f":"IF(F523>0,PRODUCT('Labor & Overhead Input'!$H$5/'Materials Catalog Input'!F523),\"0\")","v":{"v":3.64625,"d":"$3.65"}},"Knauf/Proto","PVC Fittings"]
[null,619,"Nr 2 90s PVC ",{"v":0.528,"d":"$0.53"},{"v":0.6336,"d":"$0.63"},{"v":8,"d":"8.0"},{"$f":"IF(F524>0,PRODUCT('Labor & Overhead Input'!$H$5/'Materials Catalog Input'!F524),\"0\")","v":{"v":3.64625,"d":"$3.65"}},"Knauf/Proto","PVC Fittings"]
[null,620,"Nr 3 90s PVC ",{"v":0.6528,"d":"$0.65"},{"v":0.7833600000000001,"d":"$0.78"},{"v":8,"d":"8.0"},{"$f":"IF(F525>0,PRODUCT('Labor & Overhead Input'!$H$5/'Materials Catalog Input'!F525),\"0\")","v":{"v":3.64625,"d":"$3.65"}},"Knauf/Proto","PVC Fittings"]
[null,621,"Nr 4 90s PVC ",{"v":0.7295999999999999,"d":"$0.73"},{"v":0.8755199999999999,"d":"$0.88"},{"v":8,"d":"8.0"},{"$f":"IF(F526>0,PRODUCT('Labor & Overhead Input'!$H$5/'Materials Catalog Input'!F526),\"0\")","v":{"v":3.64625,"d":"$3.65"}},"Knauf/Proto","PVC Fittings"]
[null,622,"Nr 5 90s PVC ",{"v":0.8064,"d":"$0.81"},{"v":0.96768,"d":"$0.97"},{"v":8,"d":"8.0"},{"$f":"IF(F527>0,PRODUCT('Labor & Overhead Input'!$H$5/'Materials Catalog Input'!F527),\"0\")","v":{"v":3.64625,"d":"$3.65"}},"Knauf/Proto","PVC Fittings"]
[null,623,"Nr 6 90s PVC ",{"v":0.8735999999999999,"d":"$0.87"},{"v":1.04832,"d":"$1.05"},{"v":8,"d":"8.0"},{"$f":"IF(F528>0,PRODUCT('Labor & Overhead Input'!$H$5/'Materials Catalog Input'!F528),\"0\")","v":{"v":3.64625,"d":"$3.65"}},"Knauf/Proto","PVC Fittings"]
[null,624,"Nr 7 90s PVC ",{"v":0.9216,"d":"$0.92"},{"v":1.10592,"d":"$1.11"},{"v":8,"d":"8.0"},{"$f":"IF(F529>0,PRODUCT('Labor & Overhead Input'!$H$5/'Materials Catalog Input'!F529),\"0\")","v":{"v":3.64625,"d":"$3.65"}},"Knauf/Proto","PVC Fittings"]
[null,625,"Nr 8 90s PVC ",{"v":1.0464,"d":"$1.05"},{"v":1.25568,"d":"$1.26"},{"v":8,"d":"8.0"},{"$f":"IF(F530>0,PRODUCT('Labor & Overhead Input'!$H$5/'Materials Catalog Input'!F530),\"0\")","v":{"v":3.64625,"d":"$3.65"}},"Knauf/Proto","PVC Fittings"]
[null,626,"Nr 9 90s PVC ",{"v":1.1712,"d":"$1.17"},{"v":1.40544,"d":"$1.41"},{"v":8,"d":"8.0"},{"$f":"IF(F531>0,PRODUCT('Labor & Overhead Input'!$H$5/'Materials Catalog Input'!F531),\"0\")","v":{"v":3.64625,"d":"$3.65"}},"Knauf/Proto","PVC Fittings"]
[null,627,"Nr 10 90s PVC ",{"v":1.4784,"d":"$1.48"},{"v":1.7740799999999999,"d":"$1.77"},{"v":8,"d":"8.0"},{"$f":"IF(F532>0,PRODUCT('Labor & Overhead Input'!$H$5/'Materials Catalog Input'!F532),\"0\")","v":{"v":3.64625,"d":"$3.65"}},"Knauf/Proto","PVC Fittings"]
[null,628,"Nr 11 90s PVC ",{"v":1.7855999999999999,"d":"$1.79"},{"v":2.1427199999999997,"d":"$2.14"},{"v":8,"d":"8.0"},{"$f":"IF(F533>0,PRODUCT('Labor & Overhead Input'!$H$5/'Materials Catalog Input'!F533),\"0\")","v":{"v":3.64625,"d":"$3.65"}},"Knauf/Proto","PVC Fittings"]
[null,629,"Nr 12 90s PVC ",{"v":2.0831999999999997,"d":"$2.08"},{"v":2.4998399999999994,"d":"$2.50"},{"v":8,"d":"8.0"},{"$f":"IF(F534>0,PRODUCT('Labor & Overhead Input'!$H$5/'Materials Catalog Input'!F534),\"0\")","v":{"v":3.64625,"d":"$3.65"}},"Knauf/Proto","PVC Fittings"]
[null,630,"Nr 13 90s PVC ",{"v":2.7455999999999996,"d":"$2.75"},{"v":3.2947199999999994,"d":"$3.29"},{"v":8,"d":"8.0"},{"$f":"IF(F535>0,PRODUCT('Labor & Overhead Input'!$H$5/'Materials Catalog Input'!F535),\"0\")","v":{"v":3.64625,"d":"$3.65"}},"Knauf/Proto","PVC Fittings"]
[null,631,"Nr 14 90s PVC ",{"v":4.579199999999999,"d":"$4.58"},{"v":5.495039999999999,"d":"$5.50"},{"v":8,"d":"8.0"},{"$f":"IF(F536>0,PRODUCT('Labor & Overhead Input'!$H$5/'Materials Catalog Input'!F536),\"0\")","v":{"v":3.64625,"d":"$3.65"}},"Knauf/Proto","PVC Fittings"]
[null,632,"Nr 15 90s PVC ",{"v":4.8191999999999995,"d":"$4.82"},{"v":5.783039999999999,"d":"$5.78"},{"v":8,"d":"8.0"},{"$f":"IF(F537>0,PRODUCT('Labor & Overhead Input'!$H$5/'Materials Catalog Input'!F537),\"0\")","v":{"v":3.64625,"d":"$3.65"}},"Knauf/Proto","PVC Fittings"]
[null,633,"Nr 16 90s PVC ",{"v":6.0384,"d":"$6.04"},{"v":7.24608,"d":"$7.25"},{"v":8,"d":"8.0"},{"$f":"IF(F538>0,PRODUCT('Labor & Overhead Input'!$H$5/'Materials Catalog Input'!F538),\"0\")","v":{"v":3.64625,"d":"$3.65"}},"Knauf/Proto","PVC Fittings"]
[null,634,"Nr 17 90s PVC ",{"v":6.336,"d":"$6.34"},{"v":7.6032,"d":"$7.60"},{"v":8,"d":"8.0"},{"$f":"IF(F539>0,PRODUCT('Labor & Overhead Input'!$H$5/'Materials Catalog Input'!F539),\"0\")","v":{"v":3.64625,"d":"$3.65"}},"Knauf/Proto","PVC Fittings"]
[null,635,"Nr 18 90s PVC ",{"v":8.1504,"d":"$8.15"},{"v":9.780479999999999,"d":"$9.78"},{"v":8,"d":"8.0"},{"$f":"IF(F540>0,PRODUCT('Labor & Overhead Input'!$H$5/'Materials Catalog Input'!F540),\"0\")","v":{"v":3.64625,"d":"$3.65"}},"Knauf/Proto","PVC Fittings"]
[null,636,"Nr 19 90s PVC ",{"v":10.886399999999998,"d":"$10.89"},{"v":13.063679999999998,"d":"$13.06"},{"v":8,"d":"8.0"},{"$f":"IF(F541>0,PRODUCT('Labor & Overhead Input'!$H$5/'Materials Catalog Input'!F541),\"0\")","v":{"v":3.64625,"d":"$3.65"}},"Knauf/Proto","PVC Fittings"]
[null,637,"Nr 20 90s PVC ",{"v":14.755199999999999,"d":"$14.76"},{"v":17.706239999999998,"d":"$17.71"},{"v":8,"d":"8.0"},{"$f":"IF(F542>0,PRODUCT('Labor & Overhead Input'!$H$5/'Materials Catalog Input'!F542),\"0\")","v":{"v":3.64625,"d":"$3.65"}},"Knauf/Proto","PVC Fittings"]
[null,638,"Enter New Product",{"v":0,"d":"$0.00"},{"v":0,"d":"$0.00"},null,{"$f":"IF(F543>0,PRODUCT('Labor & Overhead Input'!$H$5/'Materials Catalog Input'!F543),\"0\")","v":"0"},"Enter Description","Category"]
[null,639,"Enter New Product",{"v":0,"d":"$0.00"},{"v":0,"d":"$0.00"},null,{"$f":"IF(F544>0,PRODUCT('Labor & Overhead Input'!$H$5/'Materials Catalog Input'!F544),\"0\")","v":"0"},"Enter Description","Category"]
[null,640,"Enter New Product",{"v":0,"d":"$0.00"},{"v":0,"d":"$0.00"},null,{"$f":"IF(F545>0,PRODUCT('Labor & Overhead Input'!$H$5/'Materials Catalog Input'!F545),\"0\")","v":"0"},"Enter Description","Category"]
[null,641,"Enter New Product",{"v":0,"d":"$0.00"},{"v":0,"d":"$0.00"},null,{"$f":"IF(F546>0,PRODUCT('Labor & Overhead Input'!$H$5/'Materials Catalog Input'!F546),\"0\")","v":"0"},"Enter Description","Category"]
[null,642,"Enter New Product",{"v":0,"d":"$0.00"},{"v":0,"d":"$0.00"},null,{"$f":"IF(F547>0,PRODUCT('Labor & Overhead Input'!$H$5/'Materials Catalog Input'!F547),\"0\")","v":"0"},"Enter Description","Category"]
[null,643,"Enter New Product",{"v":0,"d":"$0.00"},{"v":0,"d":"$0.00"},null,{"$f":"IF(F548>0,PRODUCT('Labor & Overhead Input'!$H$5/'Materials Catalog Input'!F548),\"0\")","v":"0"},"Enter Description","Category"]
[null,644,"Enter New Product",{"v":0,"d":"$0.00"},{"v":0,"d":"$0.00"},null,{"$f":"IF(F549>0,PRODUCT('Labor & Overhead Input'!$H$5/'Materials Catalog Input'!F549),\"0\")","v":"0"},"Enter Description","Category"]
[null,645,"Enter New Product",{"v":0,"d":"$0.00"},{"v":0,"d":"$0.00"},null,{"$f":"IF(F550>0,PRODUCT('Labor & Overhead Input'!$H$5/'Materials Catalog Input'!F550),\"0\")","v":"0"},"Enter Description","Category"]
[null,646,"Enter New Product",{"v":0,"d":"$0.00"},{"v":0,"d":"$0.00"},null,{"$f":"IF(F551>0,PRODUCT('Labor & Overhead Input'!$H$5/'Materials Catalog Input'!F551),\"0\")","v":"0"},"Enter Description","Category"]
[null,647,"Enter New Product",{"v":0,"d":"$0.00"},{"v":0,"d":"$0.00"},null,{"$f":"IF(F552>0,PRODUCT('Labor & Overhead Input'!$H$5/'Materials Catalog Input'!F552),\"0\")","v":"0"},"Enter Description","Category"]
[null,648,"Enter New Product",{"v":0,"d":"$0.00"},{"v":0,"d":"$0.00"},null,{"$f":"IF(F553>0,PRODUCT('Labor & Overhead Input'!$H$5/'Materials Catalog Input'!F553),\"0\")","v":"0"},"Enter Description","Category"]
[null,649,"Enter New Product",{"v":0,"d":"$0.00"},{"v":0,"d":"$0.00"},null,{"$f":"IF(F554>0,PRODUCT('Labor & Overhead Input'!$H$5/'Materials Catalog Input'!F554),\"0\")","v":"0"},"Enter Description","Category"]
[null,650,"Enter New Product",{"v":0,"d":"$0.00"},{"v":0,"d":"$0.00"},null,{"$f":"IF(F555>0,PRODUCT('Labor & Overhead Input'!$H$5/'Materials Catalog Input'!F555),\"0\")","v":"0"},"Enter Description","Category"]
[null,651,"Enter New Product",{"v":0,"d":"$0.00"},{"v":0,"d":"$0.00"},null,{"$f":"IF(F556>0,PRODUCT('Labor & Overhead Input'!$H$5/'Materials Catalog Input'!F556),\"0\")","v":"0"},"Enter Description","Category"]
[null,652,"Enter New Product",{"v":0,"d":"$0.00"},{"v":0,"d":"$0.00"},null,{"$f":"IF(F557>0,PRODUCT('Labor & Overhead Input'!$H$5/'Materials Catalog Input'!F557),\"0\")","v":"0"},"Enter Description","Category"]
[null,653,"Enter New Product",{"v":0,"d":"$0.00"},{"v":0,"d":"$0.00"},null,{"$f":"IF(F558>0,PRODUCT('Labor & Overhead Input'!$H$5/'Materials Catalog Input'!F558),\"0\")","v":"0"},"Enter Description","Category"]
[null,654,"Enter New Product",{"v":0,"d":"$0.00"},{"v":0,"d":"$0.00"},null,{"$f":"IF(F559>0,PRODUCT('Labor & Overhead Input'!$H$5/'Materials Catalog Input'!F559),\"0\")","v":"0"},"Enter Description","Category"]
[null,655,"Enter New Product",{"v":0,"d":"$0.00"},{"v":0,"d":"$0.00"},null,{"$f":"IF(F560>0,PRODUCT('Labor & Overhead Input'!$H$5/'Materials Catalog Input'!F560),\"0\")","v":"0"},"Enter Description","Category"]
[null,656,"Enter New Product",{"v":0,"d":"$0.00"},{"v":0,"d":"$0.00"},null,{"$f":"IF(F561>0,PRODUCT('Labor & Overhead Input'!$H$5/'Materials Catalog Input'!F561),\"0\")","v":"0"},"Enter Description","Category"]
[null,657,"Enter New Product",{"v":0,"d":"$0.00"},{"v":0,"d":"$0.00"},null,{"$f":"IF(F562>0,PRODUCT('Labor & Overhead Input'!$H$5/'Materials Catalog Input'!F562),\"0\")","v":"0"},"Enter Description","Category"]
[null,658,"Enter New Product",{"v":0,"d":"$0.00"},{"v":0,"d":"$0.00"},null,{"$f":"IF(F563>0,PRODUCT('Labor & Overhead Input'!$H$5/'Materials Catalog Input'!F563),\"0\")","v":"0"},"Enter Description","Category"]
[null,659,"Enter New Product",{"v":0,"d":"$0.00"},{"v":0,"d":"$0.00"},null,{"$f":"IF(F564>0,PRODUCT('Labor & Overhead Input'!$H$5/'Materials Catalog Input'!F564),\"0\")","v":"0"},"Enter Description","Category"]
[null,660,"Enter New Product",{"v":0,"d":"$0.00"},{"v":0,"d":"$0.00"},null,{"$f":"IF(F565>0,PRODUCT('Labor & Overhead Input'!$H$5/'Materials Catalog Input'!F565),\"0\")","v":"0"},"Enter Description","Category"]
[null,661,"Enter New Product",{"v":0,"d":"$0.00"},{"v":0,"d":"$0.00"},null,{"$f":"IF(F566>0,PRODUCT('Labor & Overhead Input'!$H$5/'Materials Catalog Input'!F566),\"0\")","v":"0"},"Enter Description","Category"]
[null,662,"Enter New Product",{"v":0,"d":"$0.00"},{"v":0,"d":"$0.00"},null,{"$f":"IF(F567>0,PRODUCT('Labor & Overhead Input'!$H$5/'Materials Catalog Input'!F567),\"0\")","v":"0"},"Enter Description","Category"]
[null,663,"Enter New Product",{"v":0,"d":"$0.00"},{"v":0,"d":"$0.00"},null,{"$f":"IF(F568>0,PRODUCT('Labor & Overhead Input'!$H$5/'Materials Catalog Input'!F568),\"0\")","v":"0"},"Enter Description","Category"]
[null,664,"Enter New Product",{"v":0,"d":"$0.00"},{"v":0,"d":"$0.00"},null,{"$f":"IF(F569>0,PRODUCT('Labor & Overhead Input'!$H$5/'Materials Catalog Input'!F569),\"0\")","v":"0"},"Enter Description","Category"]
[null,665,"Enter New Product",{"v":0,"d":"$0.00"},{"v":0,"d":"$0.00"},null,{"$f":"IF(F570>0,PRODUCT('Labor & Overhead Input'!$H$5/'Materials Catalog Input'!F570),\"0\")","v":"0"},"Enter Description","Category"]
[null,666,"Enter New Product",{"v":0,"d":"$0.00"},{"v":0,"d":"$0.00"},null,{"$f":"IF(F571>0,PRODUCT('Labor & Overhead Input'!$H$5/'Materials Catalog Input'!F571),\"0\")","v":"0"},"Enter Description","Category"]
[null,667,"Enter New Product",{"v":0,"d":"$0.00"},{"v":0,"d":"$0.00"},null,{"$f":"IF(F572>0,PRODUCT('Labor & Overhead Input'!$H$5/'Materials Catalog Input'!F572),\"0\")","v":"0"},"Enter Description","Category"]
[null,668,"Enter New Product",{"v":0,"d":"$0.00"},{"v":0,"d":"$0.00"},null,{"$f":"IF(F573>0,PRODUCT('Labor & Overhead Input'!$H$5/'Materials Catalog Input'!F573),\"0\")","v":"0"},"Enter Description","Category"]
[null,669,"Enter New Product",{"v":0,"d":"$0.00"},{"v":0,"d":"$0.00"},null,{"$f":"IF(F574>0,PRODUCT('Labor & Overhead Input'!$H$5/'Materials Catalog Input'!F574),\"0\")","v":"0"},"Enter Description","Category"]
[null,670,"Enter New Product",{"v":0,"d":"$0.00"},{"v":0,"d":"$0.00"},null,{"$f":"IF(F575>0,PRODUCT('Labor & Overhead Input'!$H$5/'Materials Catalog Input'!F575),\"0\")","v":"0"},"Enter Description","Category"]
[null,671,"Enter New Product",{"v":0,"d":"$0.00"},{"v":0,"d":"$0.00"},null,{"$f":"IF(F576>0,PRODUCT('Labor & Overhead Input'!$H$5/'Materials Catalog Input'!F576),\"0\")","v":"0"},"Enter Description","Category"]
[null,672,"Enter New Product",{"v":0,"d":"$0.00"},{"v":0,"d":"$0.00"},null,{"$f":"IF(F577>0,PRODUCT('Labor & Overhead Input'!$H$5/'Materials Catalog Input'!F577),\"0\")","v":"0"},"Enter Description","Category"]
[null,673,"Enter New Product",{"v":0,"d":"$0.00"},{"v":0,"d":"$0.00"},null,{"$f":"IF(F578>0,PRODUCT('Labor & Overhead Input'!$H$5/'Materials Catalog Input'!F578),\"0\")","v":"0"},"Enter Description","Category"]
[null,674,"Enter New Product",{"v":0,"d":"$0.00"},{"v":0,"d":"$0.00"},null,{"$f":"IF(F579>0,PRODUCT('Labor & Overhead Input'!$H$5/'Materials Catalog Input'!F579),\"0\")","v":"0"},"Enter Description","Category"]
[null,675,"Enter New Product",{"v":0,"d":"$0.00"},{"v":0,"d":"$0.00"},null,{"$f":"IF(F580>0,PRODUCT('Labor & Overhead Input'!$H$5/'Materials Catalog Input'!F580),\"0\")","v":"0"},"Enter Description","Category"]
[null,676,"Enter New Product",{"v":0,"d":"$0.00"},{"$f":"D581*(1+$I$3)","v":{"v":0,"d":"$0.00"}},null,{"$f":"IF(F581>0,PRODUCT('Labor & Overhead Input'!$H$5/'Materials Catalog Input'!F581),\"0\")","v":"0"},"Enter Description","Category"]
[null,677,"Enter New Product",{"v":0,"d":"$0.00"},{"v":0,"d":"$0.00"},null,{"$f":"IF(F582>0,PRODUCT('Labor & Overhead Input'!$H$5/'Materials Catalog Input'!F582),\"0\")","v":"0"},"Enter Description","Category"]
[null,678,"Enter New Product",{"v":0,"d":"$0.00"},{"v":0,"d":"$0.00"},null,{"$f":"IF(F583>0,PRODUCT('Labor & Overhead Input'!$H$5/'Materials Catalog Input'!F583),\"0\")","v":"0"},"Enter Description","Category"]
[null,679,"Enter New Product",{"v":0,"d":"$0.00"},{"v":0,"d":"$0.00"},null,{"$f":"IF(F584>0,PRODUCT('Labor & Overhead Input'!$H$5/'Materials Catalog Input'!F584),\"0\")","v":"0"},"Enter Description","Category"]
[null,680,"Enter New Product",{"v":0,"d":"$0.00"},{"v":0,"d":"$0.00"},null,{"$f":"IF(F585>0,PRODUCT('Labor & Overhead Input'!$H$5/'Materials Catalog Input'!F585),\"0\")","v":"0"},"Enter Description","Category"]
[null,681,"Enter New Product",{"v":0,"d":"$0.00"},{"v":0,"d":"$0.00"},null,{"$f":"IF(F586>0,PRODUCT('Labor & Overhead Input'!$H$5/'Materials Catalog Input'!F586),\"0\")","v":"0"},"Enter Description","Category"]
[null,682,"Enter New Product",{"v":0,"d":"$0.00"},{"v":0,"d":"$0.00"},null,{"$f":"IF(F587>0,PRODUCT('Labor & Overhead Input'!$H$5/'Materials Catalog Input'!F587),\"0\")","v":"0"},"Enter Description","Category"]
[null,683,"Enter New Product",{"v":0,"d":"$0.00"},{"v":0,"d":"$0.00"},null,{"$f":"IF(F588>0,PRODUCT('Labor & Overhead Input'!$H$5/'Materials Catalog Input'!F588),\"0\")","v":"0"},"Enter Description","Category"]
[null,684,"Enter New Product",{"v":0,"d":"$0.00"},{"v":0,"d":"$0.00"},null,{"$f":"IF(F589>0,PRODUCT('Labor & Overhead Input'!$H$5/'Materials Catalog Input'!F589),\"0\")","v":"0"},"Enter Description","Category"]
[null,685,"Enter New Product",{"v":0,"d":"$0.00"},{"v":0,"d":"$0.00"},null,{"$f":"IF(F590>0,PRODUCT('Labor & Overhead Input'!$H$5/'Materials Catalog Input'!F590),\"0\")","v":"0"},"Enter Description","Category"]
[null,686,"Enter New Product",{"v":0,"d":"$0.00"},{"v":0,"d":"$0.00"},null,{"$f":"IF(F591>0,PRODUCT('Labor & Overhead Input'!$H$5/'Materials Catalog Input'!F591),\"0\")","v":"0"},"Enter Description","Category"]
[null,687,"Enter New Product",{"v":0,"d":"$0.00"},{"v":0,"d":"$0.00"},null,{"$f":"IF(F592>0,PRODUCT('Labor & Overhead Input'!$H$5/'Materials Catalog Input'!F592),\"0\")","v":"0"},"Enter Description","Category"]
[null,688,"Enter New Product",{"v":0,"d":"$0.00"},{"v":0,"d":"$0.00"},null,{"$f":"IF(F593>0,PRODUCT('Labor & Overhead Input'!$H$5/'Materials Catalog Input'!F593),\"0\")","v":"0"},"Enter Description","Category"]
[null,689,"Enter New Product",{"v":0,"d":"$0.00"},{"v":0,"d":"$0.00"},null,{"$f":"IF(F594>0,PRODUCT('Labor & Overhead Input'!$H$5/'Materials Catalog Input'!F594),\"0\")","v":"0"},"Enter Description","Category"]
[null,690,"Enter New Product",{"v":0,"d":"$0.00"},{"v":0,"d":"$0.00"},null,{"$f":"IF(F595>0,PRODUCT('Labor & Overhead Input'!$H$5/'Materials Catalog Input'!F595),\"0\")","v":"0"},"Enter Description","Category"]
[null,691,"Enter New Product",{"v":0,"d":"$0.00"},{"v":0,"d":"$0.00"},null,{"$f":"IF(F596>0,PRODUCT('Labor & Overhead Input'!$H$5/'Materials Catalog Input'!F596),\"0\")","v":"0"},"Enter Description","Category"]
[null,692,"Enter New Product",{"v":0,"d":"$0.00"},{"v":0,"d":"$0.00"},null,{"$f":"IF(F597>0,PRODUCT('Labor & Overhead Input'!$H$5/'Materials Catalog Input'!F597),\"0\")","v":"0"},"Enter Description","Category"]
[null,693,"Enter New Product",{"v":0,"d":"$0.00"},{"v":0,"d":"$0.00"},null,{"$f":"IF(F598>0,PRODUCT('Labor & Overhead Input'!$H$5/'Materials Catalog Input'!F598),\"0\")","v":"0"},"Enter Description","Category"]
[null,694,"Enter New Product",{"v":0,"d":"$0.00"},{"v":0,"d":"$0.00"},null,{"$f":"IF(F599>0,PRODUCT('Labor & Overhead Input'!$H$5/'Materials Catalog Input'!F599),\"0\")","v":"0"},"Enter Description","Category"]
[null,695,"Enter New Product",{"v":0,"d":"$0.00"},{"v":0,"d":"$0.00"},null,{"$f":"IF(F600>0,PRODUCT('Labor & Overhead Input'!$H$5/'Materials Catalog Input'!F600),\"0\")","v":"0"},"Enter Description","Category"]
[null,696,"Enter New Product",{"v":0,"d":"$0.00"},{"v":0,"d":"$0.00"},null,{"$f":"IF(F601>0,PRODUCT('Labor & Overhead Input'!$H$5/'Materials Catalog Input'!F601),\"0\")","v":"0"},"Enter Description","Category"]
[null,697,"Enter New Product",{"v":0,"d":"$0.00"},{"v":0,"d":"$0.00"},null,{"$f":"IF(F602>0,PRODUCT('Labor & Overhead Input'!$H$5/'Materials Catalog Input'!F602),\"0\")","v":"0"},"Enter Description","Category"]
[null,698,"Enter New Product",{"v":0,"d":"$0.00"},{"v":0,"d":"$0.00"},null,{"$f":"IF(F603>0,PRODUCT('Labor & Overhead Input'!$H$5/'Materials Catalog Input'!F603),\"0\")","v":"0"},"Enter Description","Category"]
[null,699,"Enter New Product",{"v":0,"d":"$0.00"},{"v":0,"d":"$0.00"},null,{"$f":"IF(F604>0,PRODUCT('Labor & Overhead Input'!$H$5/'Materials Catalog Input'!F604),\"0\")","v":"0"},"Enter Description","Category"]
[null,700,"Enter New Product",{"v":0,"d":"$0.00"},{"v":0,"d":"$0.00"},null,{"$f":"IF(F605>0,PRODUCT('Labor & Overhead Input'!$H$5/'Materials Catalog Input'!F605),\"0\")","v":"0"},"Enter Description","Category"]
[null,701,"Enter New Product",{"v":0,"d":"$0.00"},{"v":0,"d":"$0.00"},null,{"$f":"IF(F606>0,PRODUCT('Labor & Overhead Input'!$H$5/'Materials Catalog Input'!F606),\"0\")","v":"0"},"Enter Description","Category"]
[null,702,"Enter New Product",{"v":0,"d":"$0.00"},{"v":0,"d":"$0.00"},null,{"$f":"IF(F607>0,PRODUCT('Labor & Overhead Input'!$H$5/'Materials Catalog Input'!F607),\"0\")","v":"0"},"Enter Description","Category"]
[null,703,"Enter New Product",{"v":0,"d":"$0.00"},{"v":0,"d":"$0.00"},null,{"$f":"IF(F608>0,PRODUCT('Labor & Overhead Input'!$H$5/'Materials Catalog Input'!F608),\"0\")","v":"0"},"Enter Description","Category"]
[null,704,"Enter New Product",{"v":0,"d":"$0.00"},{"v":0,"d":"$0.00"},null,{"$f":"IF(F609>0,PRODUCT('Labor & Overhead Input'!$H$5/'Materials Catalog Input'!F609),\"0\")","v":"0"},"Enter Description","Category"]
[null,705,"Enter New Product",{"v":0,"d":"$0.00"},{"v":0,"d":"$0.00"},null,{"$f":"IF(F610>0,PRODUCT('Labor & Overhead Input'!$H$5/'Materials Catalog Input'!F610),\"0\")","v":"0"},"Enter Description","Category"]
[null,706,"Enter New Product",{"v":0,"d":"$0.00"},{"v":0,"d":"$0.00"},null,{"$f":"IF(F611>0,PRODUCT('Labor & Overhead Input'!$H$5/'Materials Catalog Input'!F611),\"0\")","v":"0"},"Enter Description","Category"]
[null,707,"Enter New Product",{"v":0,"d":"$0.00"},{"v":0,"d":"$0.00"},null,{"$f":"IF(F612>0,PRODUCT('Labor & Overhead Input'!$H$5/'Materials Catalog Input'!F612),\"0\")","v":"0"},"Enter Description","Category"]
[null,708,"Enter New Product",{"v":0,"d":"$0.00"},{"v":0,"d":"$0.00"},null,{"$f":"IF(F613>0,PRODUCT('Labor & Overhead Input'!$H$5/'Materials Catalog Input'!F613),\"0\")","v":"0"},"Enter Description","Category"]
[null,709,"Enter New Product",{"v":0,"d":"$0.00"},{"v":0,"d":"$0.00"},null,{"$f":"IF(F614>0,PRODUCT('Labor & Overhead Input'!$H$5/'Materials Catalog Input'!F614),\"0\")","v":"0"},"Enter Description","Category"]
[null,710,"Enter New Product",{"v":0,"d":"$0.00"},{"v":0,"d":"$0.00"},null,{"$f":"IF(F615>0,PRODUCT('Labor & Overhead Input'!$H$5/'Materials Catalog Input'!F615),\"0\")","v":"0"},"Enter Description","Category"]
[null,711,"Enter New Product",{"v":0,"d":"$0.00"},{"v":0,"d":"$0.00"},null,{"$f":"IF(F616>0,PRODUCT('Labor & Overhead Input'!$H$5/'Materials Catalog Input'!F616),\"0\")","v":"0"},"Enter Description","Category"]
[null,712,"Enter New Product",{"v":0,"d":"$0.00"},{"v":0,"d":"$0.00"},null,{"$f":"IF(F617>0,PRODUCT('Labor & Overhead Input'!$H$5/'Materials Catalog Input'!F617),\"0\")","v":"0"},"Enter Description","Category"]
[null,713,"Enter New Product",{"v":0,"d":"$0.00"},{"v":0,"d":"$0.00"},null,{"$f":"IF(F618>0,PRODUCT('Labor & Overhead Input'!$H$5/'Materials Catalog Input'!F618),\"0\")","v":"0"},"Enter Description","Category"]
[null,714,"Enter New Product",{"v":0,"d":"$0.00"},{"v":0,"d":"$0.00"},null,{"$f":"IF(F619>0,PRODUCT('Labor & Overhead Input'!$H$5/'Materials Catalog Input'!F619),\"0\")","v":"0"},"Enter Description","Category"]
[null,715,"Enter New Product",{"v":0,"d":"$0.00"},{"v":0,"d":"$0.00"},null,{"$f":"IF(F620>0,PRODUCT('Labor & Overhead Input'!$H$5/'Materials Catalog Input'!F620),\"0\")","v":"0"},"Enter Description","Category"]
[null,716,"Enter New Product",{"v":0,"d":"$0.00"},{"v":0,"d":"$0.00"},null,{"$f":"IF(F621>0,PRODUCT('Labor & Overhead Input'!$H$5/'Materials Catalog Input'!F621),\"0\")","v":"0"},"Enter Description","Category"]
[null,717,"Enter New Product",{"v":0,"d":"$0.00"},{"v":0,"d":"$0.00"},null,{"$f":"IF(F622>0,PRODUCT('Labor & Overhead Input'!$H$5/'Materials Catalog Input'!F622),\"0\")","v":"0"},"Enter Description","Category"]
[null,718,"Enter New Product",{"v":0,"d":"$0.00"},{"v":0,"d":"$0.00"},null,{"$f":"IF(F623>0,PRODUCT('Labor & Overhead Input'!$H$5/'Materials Catalog Input'!F623),\"0\")","v":"0"},"Enter Description","Category"]
[null,719,"Enter New Product",{"v":0,"d":"$0.00"},{"v":0,"d":"$0.00"},null,{"$f":"IF(F624>0,PRODUCT('Labor & Overhead Input'!$H$5/'Materials Catalog Input'!F624),\"0\")","v":"0"},"Enter Description","Category"]
[null,720,"Enter New Product",{"v":0,"d":"$0.00"},{"v":0,"d":"$0.00"},null,{"$f":"IF(F625>0,PRODUCT('Labor & Overhead Input'!$H$5/'Materials Catalog Input'!F625),\"0\")","v":"0"},"Enter Description","Category"]
[null,721,"Enter New Product",{"v":0,"d":"$0.00"},{"v":0,"d":"$0.00"},null,{"$f":"IF(F626>0,PRODUCT('Labor & Overhead Input'!$H$5/'Materials Catalog Input'!F626),\"0\")","v":"0"},"Enter Description","Category"]
[null,722,"Enter New Product",{"v":0,"d":"$0.00"},{"v":0,"d":"$0.00"},null,{"$f":"IF(F627>0,PRODUCT('Labor & Overhead Input'!$H$5/'Materials Catalog Input'!F627),\"0\")","v":"0"},"Enter Description","Category"]
[null,723,"Enter New Product",{"v":0,"d":"$0.00"},{"v":0,"d":"$0.00"},null,{"$f":"IF(F628>0,PRODUCT('Labor & Overhead Input'!$H$5/'Materials Catalog Input'!F628),\"0\")","v":"0"},"Enter Description","Category"]
[null,724,"Enter New Product",{"v":0,"d":"$0.00"},{"v":0,"d":"$0.00"},null,{"$f":"IF(F629>0,PRODUCT('Labor & Overhead Input'!$H$5/'Materials Catalog Input'!F629),\"0\")","v":"0"},"Enter Description","Category"]
[null,725,"Enter New Product",{"v":0,"d":"$0.00"},{"v":0,"d":"$0.00"},null,{"$f":"IF(F630>0,PRODUCT('Labor & Overhead Input'!$H$5/'Materials Catalog Input'!F630),\"0\")","v":"0"},"Enter Description","Category"]
[null,726,"Enter New Product",{"v":0,"d":"$0.00"},{"v":0,"d":"$0.00"},null,{"$f":"IF(F631>0,PRODUCT('Labor & Overhead Input'!$H$5/'Materials Catalog Input'!F631),\"0\")","v":"0"},"Enter Description","Category"]
[null,727,"Enter New Product",{"v":0,"d":"$0.00"},{"v":0,"d":"$0.00"},null,{"$f":"IF(F632>0,PRODUCT('Labor & Overhead Input'!$H$5/'Materials Catalog Input'!F632),\"0\")","v":"0"},"Enter Description","Category"]
[null,728,"Enter New Product",{"v":0,"d":"$0.00"},{"v":0,"d":"$0.00"},null,{"$f":"IF(F633>0,PRODUCT('Labor & Overhead Input'!$H$5/'Materials Catalog Input'!F633),\"0\")","v":"0"},"Enter Description","Category"]
[null,729,"Enter New Product",{"v":0,"d":"$0.00"},{"v":0,"d":"$0.00"},null,{"$f":"IF(F634>0,PRODUCT('Labor & Overhead Input'!$H$5/'Materials Catalog Input'!F634),\"0\")","v":"0"},"Enter Description","Category"]
[null,730,"Enter New Product",{"v":0,"d":"$0.00"},{"v":0,"d":"$0.00"},null,{"$f":"IF(F635>0,PRODUCT('Labor & Overhead Input'!$H$5/'Materials Catalog Input'!F635),\"0\")","v":"0"},"Enter Description","Category"]
[null,731,"Enter New Product",{"v":0,"d":"$0.00"},{"v":0,"d":"$0.00"},null,{"$f":"IF(F636>0,PRODUCT('Labor & Overhead Input'!$H$5/'Materials Catalog Input'!F636),\"0\")","v":"0"},"Enter Description","Category"]
[null,732,"Enter New Product",{"v":0,"d":"$0.00"},{"v":0,"d":"$0.00"},null,{"$f":"IF(F637>0,PRODUCT('Labor & Overhead Input'!$H$5/'Materials Catalog Input'!F637),\"0\")","v":"0"},"Enter Description","Category"]
[null,733,"Enter New Product",{"v":0,"d":"$0.00"},{"v":0,"d":"$0.00"},null,{"$f":"IF(F638>0,PRODUCT('Labor & Overhead Input'!$H$5/'Materials Catalog Input'!F638),\"0\")","v":"0"},"Enter Description","Category"]
[null,734,"Enter New Product",{"v":0,"d":"$0.00"},{"v":0,"d":"$0.00"},null,{"$f":"IF(F639>0,PRODUCT('Labor & Overhead Input'!$H$5/'Materials Catalog Input'!F639),\"0\")","v":"0"},"Enter Description","Category"]
[null,735,"Enter New Product",{"v":0,"d":"$0.00"},{"v":0,"d":"$0.00"},null,{"$f":"IF(F640>0,PRODUCT('Labor & Overhead Input'!$H$5/'Materials Catalog Input'!F640),\"0\")","v":"0"},"Enter Description","Category"]
[null,736,"Enter New Product",{"v":0,"d":"$0.00"},{"v":0,"d":"$0.00"},null,{"$f":"IF(F641>0,PRODUCT('Labor & Overhead Input'!$H$5/'Materials Catalog Input'!F641),\"0\")","v":"0"},"Enter Description","Category"]
[null,737,"Enter New Product",{"v":0,"d":"$0.00"},{"v":0,"d":"$0.00"},null,{"$f":"IF(F642>0,PRODUCT('Labor & Overhead Input'!$H$5/'Materials Catalog Input'!F642),\"0\")","v":"0"},"Enter Description","Category"]
[null,738,"Enter New Product",{"v":0,"d":"$0.00"},{"v":0,"d":"$0.00"},null,{"$f":"IF(F643>0,PRODUCT('Labor & Overhead Input'!$H$5/'Materials Catalog Input'!F643),\"0\")","v":"0"},"Enter Description","Category"]
[null,739,"Enter New Product",{"v":0,"d":"$0.00"},{"v":0,"d":"$0.00"},null,{"$f":"IF(F644>0,PRODUCT('Labor & Overhead Input'!$H$5/'Materials Catalog Input'!F644),\"0\")","v":"0"},"Enter Description","Category"]
[null,740,"Enter New Product",{"v":0,"d":"$0.00"},{"$f":"D645*(1+$I$3)","v":{"v":0,"d":"$0.00"}},null,{"$f":"IF(F645>0,PRODUCT('Labor & Overhead Input'!$H$5/'Materials Catalog Input'!F645),\"0\")","v":"0"},"Enter Description","Category"]
[null,741,"Enter New Product",{"v":0,"d":"$0.00"},{"v":0,"d":"$0.00"},null,{"$f":"IF(F646>0,PRODUCT('Labor & Overhead Input'!$H$5/'Materials Catalog Input'!F646),\"0\")","v":"0"},"Enter Description","Category"]
[null,742,"Enter New Product",{"v":0,"d":"$0.00"},{"v":0,"d":"$0.00"},null,{"$f":"IF(F647>0,PRODUCT('Labor & Overhead Input'!$H$5/'Materials Catalog Input'!F647),\"0\")","v":"0"},"Enter Description","Category"]
[null,743,"Enter New Product",{"v":0,"d":"$0.00"},{"v":0,"d":"$0.00"},null,{"$f":"IF(F648>0,PRODUCT('Labor & Overhead Input'!$H$5/'Materials Catalog Input'!F648),\"0\")","v":"0"},"Enter Description","Category"]
[null,744,"Enter New Product",{"v":0,"d":"$0.00"},{"v":0,"d":"$0.00"},null,{"$f":"IF(F649>0,PRODUCT('Labor & Overhead Input'!$H$5/'Materials Catalog Input'!F649),\"0\")","v":"0"},"Enter Description","Category"]
[null,745,"Enter New Product",{"v":0,"d":"$0.00"},{"v":0,"d":"$0.00"},null,{"$f":"IF(F650>0,PRODUCT('Labor & Overhead Input'!$H$5/'Materials Catalog Input'!F650),\"0\")","v":"0"},"Enter Description","Category"]
[null,746,"Enter New Product",{"v":0,"d":"$0.00"},{"v":0,"d":"$0.00"},null,{"$f":"IF(F651>0,PRODUCT('Labor & Overhead Input'!$H$5/'Materials Catalog Input'!F651),\"0\")","v":"0"},"Enter Description","Category"]
[null,747,"Enter New Product",{"v":0,"d":"$0.00"},{"v":0,"d":"$0.00"},null,{"$f":"IF(F652>0,PRODUCT('Labor & Overhead Input'!$H$5/'Materials Catalog Input'!F652),\"0\")","v":"0"},"Enter Description","Category"]
[null,748,"Enter New Product",{"v":0,"d":"$0.00"},{"v":0,"d":"$0.00"},null,{"$f":"IF(F653>0,PRODUCT('Labor & Overhead Input'!$H$5/'Materials Catalog Input'!F653),\"0\")","v":"0"},"Enter Description","Category"]
[null,749,"Enter New Product",{"v":0,"d":"$0.00"},{"v":0,"d":"$0.00"},null,{"$f":"IF(F654>0,PRODUCT('Labor & Overhead Input'!$H$5/'Materials Catalog Input'!F654),\"0\")","v":"0"},"Enter Description","Category"]
[null,750,"Enter New Product",{"v":0,"d":"$0.00"},{"v":0,"d":"$0.00"},null,{"$f":"IF(F655>0,PRODUCT('Labor & Overhead Input'!$H$5/'Materials Catalog Input'!F655),\"0\")","v":"0"},"Enter Description","Category"]
[null,751,"Enter New Product",{"v":0,"d":"$0.00"},{"v":0,"d":"$0.00"},null,{"$f":"IF(F656>0,PRODUCT('Labor & Overhead Input'!$H$5/'Materials Catalog Input'!F656),\"0\")","v":"0"},"Enter Description","Category"]
[null,752,"Enter New Product",{"v":0,"d":"$0.00"},{"v":0,"d":"$0.00"},null,{"$f":"IF(F657>0,PRODUCT('Labor & Overhead Input'!$H$5/'Materials Catalog Input'!F657),\"0\")","v":"0"},"Enter Description","Category"]
[null,753,"Enter New Product",{"v":0,"d":"$0.00"},{"v":0,"d":"$0.00"},null,{"$f":"IF(F658>0,PRODUCT('Labor & Overhead Input'!$H$5/'Materials Catalog Input'!F658),\"0\")","v":"0"},"Enter Description","Category"]
[null,754,"Enter New Product",{"v":0,"d":"$0.00"},{"v":0,"d":"$0.00"},null,{"$f":"IF(F659>0,PRODUCT('Labor & Overhead Input'!$H$5/'Materials Catalog Input'!F659),\"0\")","v":"0"},"Enter Description","Category"]
[null,755,"Enter New Product",{"v":0,"d":"$0.00"},{"v":0,"d":"$0.00"},null,{"$f":"IF(F660>0,PRODUCT('Labor & Overhead Input'!$H$5/'Materials Catalog Input'!F660),\"0\")","v":"0"},"Enter Description","Category"]
[null,756,"Enter New Product",{"v":0,"d":"$0.00"},{"v":0,"d":"$0.00"},null,{"$f":"IF(F661>0,PRODUCT('Labor & Overhead Input'!$H$5/'Materials Catalog Input'!F661),\"0\")","v":"0"},"Enter Description","Category"]
[null,757,"Enter New Product",{"v":0,"d":"$0.00"},{"v":0,"d":"$0.00"},null,{"$f":"IF(F662>0,PRODUCT('Labor & Overhead Input'!$H$5/'Materials Catalog Input'!F662),\"0\")","v":"0"},"Enter Description","Category"]
[null,758,"Enter New Product",{"v":0,"d":"$0.00"},{"v":0,"d":"$0.00"},null,{"$f":"IF(F663>0,PRODUCT('Labor & Overhead Input'!$H$5/'Materials Catalog Input'!F663),\"0\")","v":"0"},"Enter Description","Category"]
[null,759,"Enter New Product",{"v":0,"d":"$0.00"},{"v":0,"d":"$0.00"},null,{"$f":"IF(F664>0,PRODUCT('Labor & Overhead Input'!$H$5/'Materials Catalog Input'!F664),\"0\")","v":"0"},"Enter Description","Category"]
[null,760,"Enter New Product",{"v":0,"d":"$0.00"},{"v":0,"d":"$0.00"},null,{"$f":"IF(F665>0,PRODUCT('Labor & Overhead Input'!$H$5/'Materials Catalog Input'!F665),\"0\")","v":"0"},"Enter Description","Category"]
[null,761,"Enter New Product",{"v":0,"d":"$0.00"},{"v":0,"d":"$0.00"},null,{"$f":"IF(F666>0,PRODUCT('Labor & Overhead Input'!$H$5/'Materials Catalog Input'!F666),\"0\")","v":"0"},"Enter Description","Category"]
[null,762,"Enter New Product",{"v":0,"d":"$0.00"},{"v":0,"d":"$0.00"},null,{"$f":"IF(F667>0,PRODUCT('Labor & Overhead Input'!$H$5/'Materials Catalog Input'!F667),\"0\")","v":"0"},"Enter Description","Category"]
[null,763,"Enter New Product",{"v":0,"d":"$0.00"},{"v":0,"d":"$0.00"},null,{"$f":"IF(F668>0,PRODUCT('Labor & Overhead Input'!$H$5/'Materials Catalog Input'!F668),\"0\")","v":"0"},"Enter Description","Category"]
[null,764,"Enter New Product",{"v":0,"d":"$0.00"},{"v":0,"d":"$0.00"},null,{"$f":"IF(F669>0,PRODUCT('Labor & Overhead Input'!$H$5/'Materials Catalog Input'!F669),\"0\")","v":"0"},"Enter Description","Category"]
[null,765,"Enter New Product",{"v":0,"d":"$0.00"},{"v":0,"d":"$0.00"},null,{"$f":"IF(F670>0,PRODUCT('Labor & Overhead Input'!$H$5/'Materials Catalog Input'!F670),\"0\")","v":"0"},"Enter Description","Category"]
[null,766,"Enter New Product",{"v":0,"d":"$0.00"},{"v":0,"d":"$0.00"},null,{"$f":"IF(F671>0,PRODUCT('Labor & Overhead Input'!$H$5/'Materials Catalog Input'!F671),\"0\")","v":"0"},"Enter Description","Category"]
[null,767,"Enter New Product",{"v":0,"d":"$0.00"},{"v":0,"d":"$0.00"},null,{"$f":"IF(F672>0,PRODUCT('Labor & Overhead Input'!$H$5/'Materials Catalog Input'!F672),\"0\")","v":"0"},"Enter Description","Category"]
[null,768,"Enter New Product",{"v":0,"d":"$0.00"},{"v":0,"d":"$0.00"},null,{"$f":"IF(F673>0,PRODUCT('Labor & Overhead Input'!$H$5/'Materials Catalog Input'!F673),\"0\")","v":"0"},"Enter Description","Category"]
[null,769,"Enter New Product",{"v":0,"d":"$0.00"},{"v":0,"d":"$0.00"},null,{"$f":"IF(F674>0,PRODUCT('Labor & Overhead Input'!$H$5/'Materials Catalog Input'!F674),\"0\")","v":"0"},"Enter Description","Category"]
[null,770,"Enter New Product",{"v":0,"d":"$0.00"},{"v":0,"d":"$0.00"},null,{"$f":"IF(F675>0,PRODUCT('Labor & Overhead Input'!$H$5/'Materials Catalog Input'!F675),\"0\")","v":"0"},"Enter Description","Category"]
[null,771,"Enter New Product",{"v":0,"d":"$0.00"},{"v":0,"d":"$0.00"},null,{"$f":"IF(F676>0,PRODUCT('Labor & Overhead Input'!$H$5/'Materials Catalog Input'!F676),\"0\")","v":"0"},"Enter Description","Category"]
[null,772,"Enter New Product",{"v":0,"d":"$0.00"},{"v":0,"d":"$0.00"},null,{"$f":"IF(F677>0,PRODUCT('Labor & Overhead Input'!$H$5/'Materials Catalog Input'!F677),\"0\")","v":"0"},"Enter Description","Category"]
[null,773,"Enter New Product",{"v":0,"d":"$0.00"},{"v":0,"d":"$0.00"},null,{"$f":"IF(F678>0,PRODUCT('Labor & Overhead Input'!$H$5/'Materials Catalog Input'!F678),\"0\")","v":"0"},"Enter Description","Category"]
[null,774,"Enter New Product",{"v":0,"d":"$0.00"},{"v":0,"d":"$0.00"},null,{"$f":"IF(F679>0,PRODUCT('Labor & Overhead Input'!$H$5/'Materials Catalog Input'!F679),\"0\")","v":"0"},"Enter Description","Category"]
[null,775,"Enter New Product",{"v":0,"d":"$0.00"},{"v":0,"d":"$0.00"},null,{"$f":"IF(F680>0,PRODUCT('Labor & Overhead Input'!$H$5/'Materials Catalog Input'!F680),\"0\")","v":"0"},"Enter Description","Category"]
[null,776,"Enter New Product",{"v":0,"d":"$0.00"},{"v":0,"d":"$0.00"},null,{"$f":"IF(F681>0,PRODUCT('Labor & Overhead Input'!$H$5/'Materials Catalog Input'!F681),\"0\")","v":"0"},"Enter Description","Category"]
[null,777,"Enter New Product",{"v":0,"d":"$0.00"},{"v":0,"d":"$0.00"},null,{"$f":"IF(F682>0,PRODUCT('Labor & Overhead Input'!$H$5/'Materials Catalog Input'!F682),\"0\")","v":"0"},"Enter Description","Category"]
[null,778,"Enter New Product",{"v":0,"d":"$0.00"},{"v":0,"d":"$0.00"},null,{"$f":"IF(F683>0,PRODUCT('Labor & Overhead Input'!$H$5/'Materials Catalog Input'!F683),\"0\")","v":"0"},"Enter Description","Category"]
[null,779,"Enter New Product",{"v":0,"d":"$0.00"},{"v":0,"d":"$0.00"},null,{"$f":"IF(F684>0,PRODUCT('Labor & Overhead Input'!$H$5/'Materials Catalog Input'!F684),\"0\")","v":"0"},"Enter Description","Category"]
[null,780,"Enter New Product",{"v":0,"d":"$0.00"},{"v":0,"d":"$0.00"},null,{"$f":"IF(F685>0,PRODUCT('Labor & Overhead Input'!$H$5/'Materials Catalog Input'!F685),\"0\")","v":"0"},"Enter Description","Category"]
[null,781,"Enter New Product",{"v":0,"d":"$0.00"},{"v":0,"d":"$0.00"},null,{"$f":"IF(F686>0,PRODUCT('Labor & Overhead Input'!$H$5/'Materials Catalog Input'!F686),\"0\")","v":"0"},"Enter Description","Category"]
[null,782,"Enter New Product",{"v":0,"d":"$0.00"},{"v":0,"d":"$0.00"},null,{"$f":"IF(F687>0,PRODUCT('Labor & Overhead Input'!$H$5/'Materials Catalog Input'!F687),\"0\")","v":"0"},"Enter Description","Category"]
[null,783,"Enter New Product",{"v":0,"d":"$0.00"},{"v":0,"d":"$0.00"},null,{"$f":"IF(F688>0,PRODUCT('Labor & Overhead Input'!$H$5/'Materials Catalog Input'!F688),\"0\")","v":"0"},"Enter Description","Category"]
[null,784,"Enter New Product",{"v":0,"d":"$0.00"},{"v":0,"d":"$0.00"},null,{"$f":"IF(F689>0,PRODUCT('Labor & Overhead Input'!$H$5/'Materials Catalog Input'!F689),\"0\")","v":"0"},"Enter Description","Category"]
[null,785,"Enter New Product",{"v":0,"d":"$0.00"},{"v":0,"d":"$0.00"},null,{"$f":"IF(F690>0,PRODUCT('Labor & Overhead Input'!$H$5/'Materials Catalog Input'!F690),\"0\")","v":"0"},"Enter Description","Category"]
[null,786,"Enter New Product",{"v":0,"d":"$0.00"},{"v":0,"d":"$0.00"},null,{"$f":"IF(F691>0,PRODUCT('Labor & Overhead Input'!$H$5/'Materials Catalog Input'!F691),\"0\")","v":"0"},"Enter Description","Category"]
[null,787,"Enter New Product",{"v":0,"d":"$0.00"},{"v":0,"d":"$0.00"},null,{"$f":"IF(F692>0,PRODUCT('Labor & Overhead Input'!$H$5/'Materials Catalog Input'!F692),\"0\")","v":"0"},"Enter Description","Category"]
[null,788,"Enter New Product",{"v":0,"d":"$0.00"},{"v":0,"d":"$0.00"},null,{"$f":"IF(F693>0,PRODUCT('Labor & Overhead Input'!$H$5/'Materials Catalog Input'!F693),\"0\")","v":"0"},"Enter Description","Category"]
[null,789,"Enter New Product",{"v":0,"d":"$0.00"},{"v":0,"d":"$0.00"},null,{"$f":"IF(F694>0,PRODUCT('Labor & Overhead Input'!$H$5/'Materials Catalog Input'!F694),\"0\")","v":"0"},"Enter Description","Category"]
[null,790,"Enter New Product",{"v":0,"d":"$0.00"},{"v":0,"d":"$0.00"},null,{"$f":"IF(F695>0,PRODUCT('Labor & Overhead Input'!$H$5/'Materials Catalog Input'!F695),\"0\")","v":"0"},"Enter Description","Category"]
[null,791,"Enter New Product",{"v":0,"d":"$0.00"},{"v":0,"d":"$0.00"},null,{"$f":"IF(F696>0,PRODUCT('Labor & Overhead Input'!$H$5/'Materials Catalog Input'!F696),\"0\")","v":"0"},"Enter Description","Category"]
[null,792,"Enter New Product",{"v":0,"d":"$0.00"},{"v":0,"d":"$0.00"},null,{"$f":"IF(F697>0,PRODUCT('Labor & Overhead Input'!$H$5/'Materials Catalog Input'!F697),\"0\")","v":"0"},"Enter Description","Category"]
[null,793,"Enter New Product",{"v":0,"d":"$0.00"},{"v":0,"d":"$0.00"},null,{"$f":"IF(F698>0,PRODUCT('Labor & Overhead Input'!$H$5/'Materials Catalog Input'!F698),\"0\")","v":"0"},"Enter Description","Category"]
[null,794,"Enter New Product",{"v":0,"d":"$0.00"},{"v":0,"d":"$0.00"},null,{"$f":"IF(F699>0,PRODUCT('Labor & Overhead Input'!$H$5/'Materials Catalog Input'!F699),\"0\")","v":"0"},"Enter Description","Category"]
[null,795,"Enter New Product",{"v":0,"d":"$0.00"},{"v":0,"d":"$0.00"},null,{"$f":"IF(F700>0,PRODUCT('Labor & Overhead Input'!$H$5/'Materials Catalog Input'!F700),\"0\")","v":"0"},"Enter Description","Category"]
[null,796,"Enter New Product",{"v":0,"d":"$0.00"},{"v":0,"d":"$0.00"},null,{"$f":"IF(F701>0,PRODUCT('Labor & Overhead Input'!$H$5/'Materials Catalog Input'!F701),\"0\")","v":"0"},"Enter Description","Category"]
[null,797,"Enter New Product",{"v":0,"d":"$0.00"},{"v":0,"d":"$0.00"},null,{"$f":"IF(F702>0,PRODUCT('Labor & Overhead Input'!$H$5/'Materials Catalog Input'!F702),\"0\")","v":"0"},"Enter Description","Category"]
[null,798,"Enter New Product",{"v":0,"d":"$0.00"},{"v":0,"d":"$0.00"},null,{"$f":"IF(F703>0,PRODUCT('Labor & Overhead Input'!$H$5/'Materials Catalog Input'!F703),\"0\")","v":"0"},"Enter Description","Category"]
[null,799,"Enter New Product",{"v":0,"d":"$0.00"},{"v":0,"d":"$0.00"},null,{"$f":"IF(F704>0,PRODUCT('Labor & Overhead Input'!$H$5/'Materials Catalog Input'!F704),\"0\")","v":"0"},"Enter Description","Category"]
[null,800,"Enter New Product",{"v":0,"d":"$0.00"},{"v":0,"d":"$0.00"},null,{"$f":"IF(F705>0,PRODUCT('Labor & Overhead Input'!$H$5/'Materials Catalog Input'!F705),\"0\")","v":"0"},"Enter Description","Category"]
[null,801,"Enter New Product",{"v":0,"d":"$0.00"},{"v":0,"d":"$0.00"},null,{"$f":"IF(F706>0,PRODUCT('Labor & Overhead Input'!$H$5/'Materials Catalog Input'!F706),\"0\")","v":"0"},"Enter Description","Category"]
[null,802,"Enter New Product",{"v":0,"d":"$0.00"},{"v":0,"d":"$0.00"},null,{"$f":"IF(F707>0,PRODUCT('Labor & Overhead Input'!$H$5/'Materials Catalog Input'!F707),\"0\")","v":"0"},"Enter Description","Category"]
[null,803,"Enter New Product",{"v":0,"d":"$0.00"},{"v":0,"d":"$0.00"},null,{"$f":"IF(F708>0,PRODUCT('Labor & Overhead Input'!$H$5/'Materials Catalog Input'!F708),\"0\")","v":"0"},"Enter Description","Category"]
[null,804,"Enter New Product",{"v":0,"d":"$0.00"},{"$f":"D709*(1+$I$3)","v":{"v":0,"d":"$0.00"}},null,{"$f":"IF(F709>0,PRODUCT('Labor & Overhead Input'!$H$5/'Materials Catalog Input'!F709),\"0\")","v":"0"},"Enter Description","Category"]
[null,805,"Enter New Product",{"v":0,"d":"$0.00"},{"v":0,"d":"$0.00"},null,{"$f":"IF(F710>0,PRODUCT('Labor & Overhead Input'!$H$5/'Materials Catalog Input'!F710),\"0\")","v":"0"},"Enter Description","Category"]
[null,806,"Enter New Product",{"v":0,"d":"$0.00"},{"v":0,"d":"$0.00"},null,{"$f":"IF(F711>0,PRODUCT('Labor & Overhead Input'!$H$5/'Materials Catalog Input'!F711),\"0\")","v":"0"},"Enter Description","Category"]
[null,807,"Enter New Product",{"v":0,"d":"$0.00"},{"v":0,"d":"$0.00"},null,{"$f":"IF(F712>0,PRODUCT('Labor & Overhead Input'!$H$5/'Materials Catalog Input'!F712),\"0\")","v":"0"},"Enter Description","Category"]
[null,808,"Enter New Product",{"v":0,"d":"$0.00"},{"v":0,"d":"$0.00"},null,{"$f":"IF(F713>0,PRODUCT('Labor & Overhead Input'!$H$5/'Materials Catalog Input'!F713),\"0\")","v":"0"},"Enter Description","Category"]
[null,809,"Enter New Product",{"v":0,"d":"$0.00"},{"v":0,"d":"$0.00"},null,{"$f":"IF(F714>0,PRODUCT('Labor & Overhead Input'!$H$5/'Materials Catalog Input'!F714),\"0\")","v":"0"},"Enter Description","Category"]
[null,810,"Enter New Product",{"v":0,"d":"$0.00"},{"v":0,"d":"$0.00"},null,{"$f":"IF(F715>0,PRODUCT('Labor & Overhead Input'!$H$5/'Materials Catalog Input'!F715),\"0\")","v":"0"},"Enter Description","Category"]
[null,811,"Enter New Product",{"v":0,"d":"$0.00"},{"v":0,"d":"$0.00"},null,{"$f":"IF(F716>0,PRODUCT('Labor & Overhead Input'!$H$5/'Materials Catalog Input'!F716),\"0\")","v":"0"},"Enter Description","Category"]
[null,812,"Enter New Product",{"v":0,"d":"$0.00"},{"v":0,"d":"$0.00"},null,{"$f":"IF(F717>0,PRODUCT('Labor & Overhead Input'!$H$5/'Materials Catalog Input'!F717),\"0\")","v":"0"},"Enter Description","Category"]
[null,813,"Enter New Product",{"v":0,"d":"$0.00"},{"v":0,"d":"$0.00"},null,{"$f":"IF(F718>0,PRODUCT('Labor & Overhead Input'!$H$5/'Materials Catalog Input'!F718),\"0\")","v":"0"},"Enter Description","Category"]
[null,814,"Enter New Product",{"v":0,"d":"$0.00"},{"v":0,"d":"$0.00"},null,{"$f":"IF(F719>0,PRODUCT('Labor & Overhead Input'!$H$5/'Materials Catalog Input'!F719),\"0\")","v":"0"},"Enter Description","Category"]
[null,815,"Enter New Product",{"v":0,"d":"$0.00"},{"v":0,"d":"$0.00"},null,{"$f":"IF(F720>0,PRODUCT('Labor & Overhead Input'!$H$5/'Materials Catalog Input'!F720),\"0\")","v":"0"},"Enter Description","Category"]
[null,816,"Enter New Product",{"v":0,"d":"$0.00"},{"v":0,"d":"$0.00"},null,{"$f":"IF(F721>0,PRODUCT('Labor & Overhead Input'!$H$5/'Materials Catalog Input'!F721),\"0\")","v":"0"},"Enter Description","Category"]
[null,817,"Enter New Product",{"v":0,"d":"$0.00"},{"v":0,"d":"$0.00"},null,{"$f":"IF(F722>0,PRODUCT('Labor & Overhead Input'!$H$5/'Materials Catalog Input'!F722),\"0\")","v":"0"},"Enter Description","Category"]
[null,818,"Enter New Product",{"v":0,"d":"$0.00"},{"v":0,"d":"$0.00"},null,{"$f":"IF(F723>0,PRODUCT('Labor & Overhead Input'!$H$5/'Materials Catalog Input'!F723),\"0\")","v":"0"},"Enter Description","Category"]
[null,819,"Enter New Product",{"v":0,"d":"$0.00"},{"v":0,"d":"$0.00"},null,{"$f":"IF(F724>0,PRODUCT('Labor & Overhead Input'!$H$5/'Materials Catalog Input'!F724),\"0\")","v":"0"},"Enter Description","Category"]
[null,820,"Enter New Product",{"v":0,"d":"$0.00"},{"v":0,"d":"$0.00"},null,{"$f":"IF(F725>0,PRODUCT('Labor & Overhead Input'!$H$5/'Materials Catalog Input'!F725),\"0\")","v":"0"},"Enter Description","Category"]
[null,821,"Enter New Product",{"v":0,"d":"$0.00"},{"v":0,"d":"$0.00"},null,{"$f":"IF(F726>0,PRODUCT('Labor & Overhead Input'!$H$5/'Materials Catalog Input'!F726),\"0\")","v":"0"},"Enter Description","Category"]
[null,822,"Enter New Product",{"v":0,"d":"$0.00"},{"v":0,"d":"$0.00"},null,{"$f":"IF(F727>0,PRODUCT('Labor & Overhead Input'!$H$5/'Materials Catalog Input'!F727),\"0\")","v":"0"},"Enter Description","Category"]
[null,823,"Enter New Product",{"v":0,"d":"$0.00"},{"v":0,"d":"$0.00"},null,{"$f":"IF(F728>0,PRODUCT('Labor & Overhead Input'!$H$5/'Materials Catalog Input'!F728),\"0\")","v":"0"},"Enter Description","Category"]
[null,824,"Enter New Product",{"v":0,"d":"$0.00"},{"v":0,"d":"$0.00"},null,{"$f":"IF(F729>0,PRODUCT('Labor & Overhead Input'!$H$5/'Materials Catalog Input'!F729),\"0\")","v":"0"},"Enter Description","Category"]
[null,825,"Enter New Product",{"v":0,"d":"$0.00"},{"v":0,"d":"$0.00"},null,{"$f":"IF(F730>0,PRODUCT('Labor & Overhead Input'!$H$5/'Materials Catalog Input'!F730),\"0\")","v":"0"},"Enter Description","Category"]
[null,826,"Enter New Product",{"v":0,"d":"$0.00"},{"v":0,"d":"$0.00"},null,{"$f":"IF(F731>0,PRODUCT('Labor & Overhead Input'!$H$5/'Materials Catalog Input'!F731),\"0\")","v":"0"},"Enter Description","Category"]
[null,827,"Enter New Product",{"v":0,"d":"$0.00"},{"v":0,"d":"$0.00"},null,{"$f":"IF(F732>0,PRODUCT('Labor & Overhead Input'!$H$5/'Materials Catalog Input'!F732),\"0\")","v":"0"},"Enter Description","Category"]
[null,828,"Enter New Product",{"v":0,"d":"$0.00"},{"v":0,"d":"$0.00"},null,{"$f":"IF(F733>0,PRODUCT('Labor & Overhead Input'!$H$5/'Materials Catalog Input'!F733),\"0\")","v":"0"},"Enter Description","Category"]
[null,829,"Enter New Product",{"v":0,"d":"$0.00"},{"v":0,"d":"$0.00"},null,{"$f":"IF(F734>0,PRODUCT('Labor & Overhead Input'!$H$5/'Materials Catalog Input'!F734),\"0\")","v":"0"},"Enter Description","Category"]
[null,830,"Enter New Product",{"v":0,"d":"$0.00"},{"v":0,"d":"$0.00"},null,{"$f":"IF(F735>0,PRODUCT('Labor & Overhead Input'!$H$5/'Materials Catalog Input'!F735),\"0\")","v":"0"},"Enter Description","Category"]
[null,831,"Enter New Product",{"v":0,"d":"$0.00"},{"v":0,"d":"$0.00"},null,{"$f":"IF(F736>0,PRODUCT('Labor & Overhead Input'!$H$5/'Materials Catalog Input'!F736),\"0\")","v":"0"},"Enter Description","Category"]
[null,832,"Enter New Product",{"v":0,"d":"$0.00"},{"v":0,"d":"$0.00"},null,{"$f":"IF(F737>0,PRODUCT('Labor & Overhead Input'!$H$5/'Materials Catalog Input'!F737),\"0\")","v":"0"},"Enter Description","Category"]
[null,833,"Enter New Product",{"v":0,"d":"$0.00"},{"v":0,"d":"$0.00"},null,{"$f":"IF(F738>0,PRODUCT('Labor & Overhead Input'!$H$5/'Materials Catalog Input'!F738),\"0\")","v":"0"},"Enter Description","Category"]
[null,834,"Enter New Product",{"v":0,"d":"$0.00"},{"v":0,"d":"$0.00"},null,{"$f":"IF(F739>0,PRODUCT('Labor & Overhead Input'!$H$5/'Materials Catalog Input'!F739),\"0\")","v":"0"},"Enter Description","Category"]
[null,835,"Enter New Product",{"v":0,"d":"$0.00"},{"v":0,"d":"$0.00"},null,{"$f":"IF(F740>0,PRODUCT('Labor & Overhead Input'!$H$5/'Materials Catalog Input'!F740),\"0\")","v":"0"},"Enter Description","Category"]
[null,836,"Enter New Product",{"v":0,"d":"$0.00"},{"v":0,"d":"$0.00"},null,{"$f":"IF(F741>0,PRODUCT('Labor & Overhead Input'!$H$5/'Materials Catalog Input'!F741),\"0\")","v":"0"},"Enter Description","Category"]
[null,837,"Enter New Product",{"v":0,"d":"$0.00"},{"v":0,"d":"$0.00"},null,{"$f":"IF(F742>0,PRODUCT('Labor & Overhead Input'!$H$5/'Materials Catalog Input'!F742),\"0\")","v":"0"},"Enter Description","Category"]
[null,838,"Enter New Product",{"v":0,"d":"$0.00"},{"v":0,"d":"$0.00"},null,{"$f":"IF(F743>0,PRODUCT('Labor & Overhead Input'!$H$5/'Materials Catalog Input'!F743),\"0\")","v":"0"},"Enter Description","Category"]
[null,839,"Enter New Product",{"v":0,"d":"$0.00"},{"v":0,"d":"$0.00"},null,{"$f":"IF(F744>0,PRODUCT('Labor & Overhead Input'!$H$5/'Materials Catalog Input'!F744),\"0\")","v":"0"},"Enter Description","Category"]
[null,840,"Enter New Product",{"v":0,"d":"$0.00"},{"v":0,"d":"$0.00"},null,{"$f":"IF(F745>0,PRODUCT('Labor & Overhead Input'!$H$5/'Materials Catalog Input'!F745),\"0\")","v":"0"},"Enter Description","Category"]
[null,841,"Enter New Product",{"v":0,"d":"$0.00"},{"v":0,"d":"$0.00"},null,{"$f":"IF(F746>0,PRODUCT('Labor & Overhead Input'!$H$5/'Materials Catalog Input'!F746),\"0\")","v":"0"},"Enter Description","Category"]
[null,842,"Enter New Product",{"v":0,"d":"$0.00"},{"v":0,"d":"$0.00"},null,{"$f":"IF(F747>0,PRODUCT('Labor & Overhead Input'!$H$5/'Materials Catalog Input'!F747),\"0\")","v":"0"},"Enter Description","Category"]
[null,843,"Enter New Product",{"v":0,"d":"$0.00"},{"v":0,"d":"$0.00"},null,{"$f":"IF(F748>0,PRODUCT('Labor & Overhead Input'!$H$5/'Materials Catalog Input'!F748),\"0\")","v":"0"},"Enter Description","Category"]
[null,844,"Enter New Product",{"v":0,"d":"$0.00"},{"v":0,"d":"$0.00"},null,{"$f":"IF(F749>0,PRODUCT('Labor & Overhead Input'!$H$5/'Materials Catalog Input'!F749),\"0\")","v":"0"},"Enter Description","Category"]
[null,845,"Enter New Product",{"v":0,"d":"$0.00"},{"v":0,"d":"$0.00"},null,{"$f":"IF(F750>0,PRODUCT('Labor & Overhead Input'!$H$5/'Materials Catalog Input'!F750),\"0\")","v":"0"},"Enter Description","Category"]
[null,846,"Enter New Product",{"v":0,"d":"$0.00"},{"v":0,"d":"$0.00"},null,{"$f":"IF(F751>0,PRODUCT('Labor & Overhead Input'!$H$5/'Materials Catalog Input'!F751),\"0\")","v":"0"},"Enter Description","Category"]
[null,847,"Enter New Product",{"v":0,"d":"$0.00"},{"v":0,"d":"$0.00"},null,{"$f":"IF(F752>0,PRODUCT('Labor & Overhead Input'!$H$5/'Materials Catalog Input'!F752),\"0\")","v":"0"},"Enter Description","Category"]
[null,848,"Enter New Product",{"v":0,"d":"$0.00"},{"v":0,"d":"$0.00"},null,{"$f":"IF(F753>0,PRODUCT('Labor & Overhead Input'!$H$5/'Materials Catalog Input'!F753),\"0\")","v":"0"},"Enter Description","Category"]
[null,849,"Enter New Product",{"v":0,"d":"$0.00"},{"v":0,"d":"$0.00"},null,{"$f":"IF(F754>0,PRODUCT('Labor & Overhead Input'!$H$5/'Materials Catalog Input'!F754),\"0\")","v":"0"},"Enter Description","Category"]
[null,850,"Enter New Product",{"v":0,"d":"$0.00"},{"v":0,"d":"$0.00"},null,{"$f":"IF(F755>0,PRODUCT('Labor & Overhead Input'!$H$5/'Materials Catalog Input'!F755),\"0\")","v":"0"},"Enter Description","Category"]
[null,851,"Enter New Product",{"v":0,"d":"$0.00"},{"v":0,"d":"$0.00"},null,{"$f":"IF(F756>0,PRODUCT('Labor & Overhead Input'!$H$5/'Materials Catalog Input'!F756),\"0\")","v":"0"},"Enter Description","Category"]
[null,852,"Enter New Product",{"v":0,"d":"$0.00"},{"v":0,"d":"$0.00"},null,{"$f":"IF(F757>0,PRODUCT('Labor & Overhead Input'!$H$5/'Materials Catalog Input'!F757),\"0\")","v":"0"},"Enter Description","Category"]
[null,853,"Enter New Product",{"v":0,"d":"$0.00"},{"v":0,"d":"$0.00"},null,{"$f":"IF(F758>0,PRODUCT('Labor & Overhead Input'!$H$5/'Materials Catalog Input'!F758),\"0\")","v":"0"},"Enter Description","Category"]
[null,854,"Enter New Product",{"v":0,"d":"$0.00"},{"v":0,"d":"$0.00"},null,{"$f":"IF(F759>0,PRODUCT('Labor & Overhead Input'!$H$5/'Materials Catalog Input'!F759),\"0\")","v":"0"},"Enter Description","Category"]
[null,855,"Enter New Product",{"v":0,"d":"$0.00"},{"v":0,"d":"$0.00"},null,{"$f":"IF(F760>0,PRODUCT('Labor & Overhead Input'!$H$5/'Materials Catalog Input'!F760),\"0\")","v":"0"},"Enter Description","Category"]
[null,856,"Enter New Product",{"v":0,"d":"$0.00"},{"v":0,"d":"$0.00"},null,{"$f":"IF(F761>0,PRODUCT('Labor & Overhead Input'!$H$5/'Materials Catalog Input'!F761),\"0\")","v":"0"},"Enter Description","Category"]
[null,857,"Enter New Product",{"v":0,"d":"$0.00"},{"v":0,"d":"$0.00"},null,{"$f":"IF(F762>0,PRODUCT('Labor & Overhead Input'!$H$5/'Materials Catalog Input'!F762),\"0\")","v":"0"},"Enter Description","Category"]
[null,858,"Enter New Product",{"v":0,"d":"$0.00"},{"v":0,"d":"$0.00"},null,{"$f":"IF(F763>0,PRODUCT('Labor & Overhead Input'!$H$5/'Materials Catalog Input'!F763),\"0\")","v":"0"},"Enter Description","Category"]
[null,859,"Enter New Product",{"v":0,"d":"$0.00"},{"v":0,"d":"$0.00"},null,{"$f":"IF(F764>0,PRODUCT('Labor & Overhead Input'!$H$5/'Materials Catalog Input'!F764),\"0\")","v":"0"},"Enter Description","Category"]
[null,860,"Enter New Product",{"v":0,"d":"$0.00"},{"v":0,"d":"$0.00"},null,{"$f":"IF(F765>0,PRODUCT('Labor & Overhead Input'!$H$5/'Materials Catalog Input'!F765),\"0\")","v":"0"},"Enter Description","Category"]
[null,861,"Enter New Product",{"v":0,"d":"$0.00"},{"v":0,"d":"$0.00"},null,{"$f":"IF(F766>0,PRODUCT('Labor & Overhead Input'!$H$5/'Materials Catalog Input'!F766),\"0\")","v":"0"},"Enter Description","Category"]
[null,862,"Enter New Product",{"v":0,"d":"$0.00"},{"v":0,"d":"$0.00"},null,{"$f":"IF(F767>0,PRODUCT('Labor & Overhead Input'!$H$5/'Materials Catalog Input'!F767),\"0\")","v":"0"},"Enter Description","Category"]
[null,863,"Enter New Product",{"v":0,"d":"$0.00"},{"v":0,"d":"$0.00"},null,{"$f":"IF(F768>0,PRODUCT('Labor & Overhead Input'!$H$5/'Materials Catalog Input'!F768),\"0\")","v":"0"},"Enter Description","Category"]
[null,864,"Enter New Product",{"v":0,"d":"$0.00"},{"v":0,"d":"$0.00"},null,{"$f":"IF(F769>0,PRODUCT('Labor & Overhead Input'!$H$5/'Materials Catalog Input'!F769),\"0\")","v":"0"},"Enter Description","Category"]
[null,865,"Enter New Product",{"v":0,"d":"$0.00"},{"v":0,"d":"$0.00"},null,{"$f":"IF(F770>0,PRODUCT('Labor & Overhead Input'!$H$5/'Materials Catalog Input'!F770),\"0\")","v":"0"},"Enter Description","Category"]
[null,866,"Enter New Product",{"v":0,"d":"$0.00"},{"v":0,"d":"$0.00"},null,{"$f":"IF(F771>0,PRODUCT('Labor & Overhead Input'!$H$5/'Materials Catalog Input'!F771),\"0\")","v":"0"},"Enter Description","Category"]
[null,867,"Enter New Product",{"v":0,"d":"$0.00"},{"v":0,"d":"$0.00"},null,{"$f":"IF(F772>0,PRODUCT('Labor & Overhead Input'!$H$5/'Materials Catalog Input'!F772),\"0\")","v":"0"},"Enter Description","Category"]
[null,868,"Enter New Product",{"v":0,"d":"$0.00"},{"$f":"D773*(1+$I$3)","v":{"v":0,"d":"$0.00"}},null,{"$f":"IF(F773>0,PRODUCT('Labor & Overhead Input'!$H$5/'Materials Catalog Input'!F773),\"0\")","v":"0"},"Enter Description","Category"]
[null,869,"Enter New Product",{"v":0,"d":"$0.00"},{"v":0,"d":"$0.00"},null,{"$f":"IF(F774>0,PRODUCT('Labor & Overhead Input'!$H$5/'Materials Catalog Input'!F774),\"0\")","v":"0"},"Enter Description","Category"]
[null,870,"Enter New Product",{"v":0,"d":"$0.00"},{"v":0,"d":"$0.00"},null,{"$f":"IF(F775>0,PRODUCT('Labor & Overhead Input'!$H$5/'Materials Catalog Input'!F775),\"0\")","v":"0"},"Enter Description","Category"]
[null,871,"Enter New Product",{"v":0,"d":"$0.00"},{"v":0,"d":"$0.00"},null,{"$f":"IF(F776>0,PRODUCT('Labor & Overhead Input'!$H$5/'Materials Catalog Input'!F776),\"0\")","v":"0"},"Enter Description","Category"]
[null,872,"Enter New Product",{"v":0,"d":"$0.00"},{"v":0,"d":"$0.00"},null,{"$f":"IF(F777>0,PRODUCT('Labor & Overhead Input'!$H$5/'Materials Catalog Input'!F777),\"0\")","v":"0"},"Enter Description","Category"]
[null,873,"Enter New Product",{"v":0,"d":"$0.00"},{"v":0,"d":"$0.00"},null,{"$f":"IF(F778>0,PRODUCT('Labor & Overhead Input'!$H$5/'Materials Catalog Input'!F778),\"0\")","v":"0"},"Enter Description","Category"]
[null,874,"Enter New Product",{"v":0,"d":"$0.00"},{"v":0,"d":"$0.00"},null,{"$f":"IF(F779>0,PRODUCT('Labor & Overhead Input'!$H$5/'Materials Catalog Input'!F779),\"0\")","v":"0"},"Enter Description","Category"]
[null,875,"Enter New Product",{"v":0,"d":"$0.00"},{"v":0,"d":"$0.00"},null,{"$f":"IF(F780>0,PRODUCT('Labor & Overhead Input'!$H$5/'Materials Catalog Input'!F780),\"0\")","v":"0"},"Enter Description","Category"]
[null,876,"Enter New Product",{"v":0,"d":"$0.00"},{"v":0,"d":"$0.00"},null,{"$f":"IF(F781>0,PRODUCT('Labor & Overhead Input'!$H$5/'Materials Catalog Input'!F781),\"0\")","v":"0"},"Enter Description","Category"]
[null,877,"Enter New Product",{"v":0,"d":"$0.00"},{"v":0,"d":"$0.00"},null,{"$f":"IF(F782>0,PRODUCT('Labor & Overhead Input'!$H$5/'Materials Catalog Input'!F782),\"0\")","v":"0"},"Enter Description","Category"]
[null,878,"Enter New Product",{"v":0,"d":"$0.00"},{"v":0,"d":"$0.00"},null,{"$f":"IF(F783>0,PRODUCT('Labor & Overhead Input'!$H$5/'Materials Catalog Input'!F783),\"0\")","v":"0"},"Enter Description","Category"]
[null,879,"Enter New Product",{"v":0,"d":"$0.00"},{"v":0,"d":"$0.00"},null,{"$f":"IF(F784>0,PRODUCT('Labor & Overhead Input'!$H$5/'Materials Catalog Input'!F784),\"0\")","v":"0"},"Enter Description","Category"]
[null,880,"Enter New Product",{"v":0,"d":"$0.00"},{"v":0,"d":"$0.00"},null,{"$f":"IF(F785>0,PRODUCT('Labor & Overhead Input'!$H$5/'Materials Catalog Input'!F785),\"0\")","v":"0"},"Enter Description","Category"]
[null,881,"Enter New Product",{"v":0,"d":"$0.00"},{"v":0,"d":"$0.00"},null,{"$f":"IF(F786>0,PRODUCT('Labor & Overhead Input'!$H$5/'Materials Catalog Input'!F786),\"0\")","v":"0"},"Enter Description","Category"]
[null,882,"Enter New Product",{"v":0,"d":"$0.00"},{"v":0,"d":"$0.00"},null,{"$f":"IF(F787>0,PRODUCT('Labor & Overhead Input'!$H$5/'Materials Catalog Input'!F787),\"0\")","v":"0"},"Enter Description","Category"]
[null,883,"Enter New Product",{"v":0,"d":"$0.00"},{"v":0,"d":"$0.00"},null,{"$f":"IF(F788>0,PRODUCT('Labor & Overhead Input'!$H$5/'Materials Catalog Input'!F788),\"0\")","v":"0"},"Enter Description","Category"]
[null,884,"Enter New Product",{"v":0,"d":"$0.00"},{"v":0,"d":"$0.00"},null,{"$f":"IF(F789>0,PRODUCT('Labor & Overhead Input'!$H$5/'Materials Catalog Input'!F789),\"0\")","v":"0"},"Enter Description","Category"]
[null,885,"Enter New Product",{"v":0,"d":"$0.00"},{"v":0,"d":"$0.00"},null,{"$f":"IF(F790>0,PRODUCT('Labor & Overhead Input'!$H$5/'Materials Catalog Input'!F790),\"0\")","v":"0"},"Enter Description","Category"]
[null,886,"Enter New Product",{"v":0,"d":"$0.00"},{"v":0,"d":"$0.00"},null,{"$f":"IF(F791>0,PRODUCT('Labor & Overhead Input'!$H$5/'Materials Catalog Input'!F791),\"0\")","v":"0"},"Enter Description","Category"]
[null,887,"Enter New Product",{"v":0,"d":"$0.00"},{"v":0,"d":"$0.00"},null,{"$f":"IF(F792>0,PRODUCT('Labor & Overhead Input'!$H$5/'Materials Catalog Input'!F792),\"0\")","v":"0"},"Enter Description","Category"]
[null,888,"Enter New Product",{"v":0,"d":"$0.00"},{"v":0,"d":"$0.00"},null,{"$f":"IF(F793>0,PRODUCT('Labor & Overhead Input'!$H$5/'Materials Catalog Input'!F793),\"0\")","v":"0"},"Enter Description","Category"]
[null,889,"Enter New Product",{"v":0,"d":"$0.00"},{"v":0,"d":"$0.00"},null,{"$f":"IF(F794>0,PRODUCT('Labor & Overhead Input'!$H$5/'Materials Catalog Input'!F794),\"0\")","v":"0"},"Enter Description","Category"]
[null,890,"Enter New Product",{"v":0,"d":"$0.00"},{"v":0,"d":"$0.00"},null,{"$f":"IF(F795>0,PRODUCT('Labor & Overhead Input'!$H$5/'Materials Catalog Input'!F795),\"0\")","v":"0"},"Enter Description","Category"]
[null,891,"Enter New Product",{"v":0,"d":"$0.00"},{"v":0,"d":"$0.00"},null,{"$f":"IF(F796>0,PRODUCT('Labor & Overhead Input'!$H$5/'Materials Catalog Input'!F796),\"0\")","v":"0"},"Enter Description","Category"]
[null,892,"Enter New Product",{"v":0,"d":"$0.00"},{"v":0,"d":"$0.00"},null,{"$f":"IF(F797>0,PRODUCT('Labor & Overhead Input'!$H$5/'Materials Catalog Input'!F797),\"0\")","v":"0"},"Enter Description","Category"]
[null,893,"Enter New Product",{"v":0,"d":"$0.00"},{"v":0,"d":"$0.00"},null,{"$f":"IF(F798>0,PRODUCT('Labor & Overhead Input'!$H$5/'Materials Catalog Input'!F798),\"0\")","v":"0"},"Enter Description","Category"]
[null,894,"Enter New Product",{"v":0,"d":"$0.00"},{"v":0,"d":"$0.00"},null,{"$f":"IF(F799>0,PRODUCT('Labor & Overhead Input'!$H$5/'Materials Catalog Input'!F799),\"0\")","v":"0"},"Enter Description","Category"]
[null,895,"Enter New Product",{"v":0,"d":"$0.00"},{"v":0,"d":"$0.00"},null,{"$f":"IF(F800>0,PRODUCT('Labor & Overhead Input'!$H$5/'Materials Catalog Input'!F800),\"0\")","v":"0"},"Enter Description","Category"]
[null,896,"Enter New Product",{"v":0,"d":"$0.00"},{"v":0,"d":"$0.00"},null,{"$f":"IF(F801>0,PRODUCT('Labor & Overhead Input'!$H$5/'Materials Catalog Input'!F801),\"0\")","v":"0"},"Enter Description","Category"]
[null,897,"Enter New Product",{"v":0,"d":"$0.00"},{"v":0,"d":"$0.00"},null,{"$f":"IF(F802>0,PRODUCT('Labor & Overhead Input'!$H$5/'Materials Catalog Input'!F802),\"0\")","v":"0"},"Enter Description","Category"]
[null,898,"Enter New Product",{"v":0,"d":"$0.00"},{"v":0,"d":"$0.00"},null,{"$f":"IF(F803>0,PRODUCT('Labor & Overhead Input'!$H$5/'Materials Catalog Input'!F803),\"0\")","v":"0"},"Enter Description","Category"]
[null,899,"Enter New Product",{"v":0,"d":"$0.00"},{"v":0,"d":"$0.00"},null,{"$f":"IF(F804>0,PRODUCT('Labor & Overhead Input'!$H$5/'Materials Catalog Input'!F804),\"0\")","v":"0"},"Enter Description","Category"]
[null,900,"Enter New Product",{"v":0,"d":"$0.00"},{"v":0,"d":"$0.00"},null,{"$f":"IF(F805>0,PRODUCT('Labor & Overhead Input'!$H$5/'Materials Catalog Input'!F805),\"0\")","v":"0"},"Enter Description","Category"]
[null,901,"Enter New Product",{"v":0,"d":"$0.00"},{"v":0,"d":"$0.00"},null,{"$f":"IF(F806>0,PRODUCT('Labor & Overhead Input'!$H$5/'Materials Catalog Input'!F806),\"0\")","v":"0"},"Enter Description","Category"]
[null,902,"Enter New Product",{"v":0,"d":"$0.00"},{"v":0,"d":"$0.00"},null,{"$f":"IF(F807>0,PRODUCT('Labor & Overhead Input'!$H$5/'Materials Catalog Input'!F807),\"0\")","v":"0"},"Enter Description","Category"]
[null,903,"Enter New Product",{"v":0,"d":"$0.00"},{"v":0,"d":"$0.00"},null,{"$f":"IF(F808>0,PRODUCT('Labor & Overhead Input'!$H$5/'Materials Catalog Input'!F808),\"0\")","v":"0"},"Enter Description","Category"]
[null,904,"Enter New Product",{"v":0,"d":"$0.00"},{"v":0,"d":"$0.00"},null,{"$f":"IF(F809>0,PRODUCT('Labor & Overhead Input'!$H$5/'Materials Catalog Input'!F809),\"0\")","v":"0"},"Enter Description","Category"]
[null,905,"Enter New Product",{"v":0,"d":"$0.00"},{"v":0,"d":"$0.00"},null,{"$f":"IF(F810>0,PRODUCT('Labor & Overhead Input'!$H$5/'Materials Catalog Input'!F810),\"0\")","v":"0"},"Enter Description","Category"]
[null,906,"Enter New Product",{"v":0,"d":"$0.00"},{"v":0,"d":"$0.00"},null,{"$f":"IF(F811>0,PRODUCT('Labor & Overhead Input'!$H$5/'Materials Catalog Input'!F811),\"0\")","v":"0"},"Enter Description","Category"]
[null,907,"Enter New Product",{"v":0,"d":"$0.00"},{"v":0,"d":"$0.00"},null,{"$f":"IF(F812>0,PRODUCT('Labor & Overhead Input'!$H$5/'Materials Catalog Input'!F812),\"0\")","v":"0"},"Enter Description","Category"]
[null,908,"Enter New Product",{"v":0,"d":"$0.00"},{"v":0,"d":"$0.00"},null,{"$f":"IF(F813>0,PRODUCT('Labor & Overhead Input'!$H$5/'Materials Catalog Input'!F813),\"0\")","v":"0"},"Enter Description","Category"]
[null,909,"Enter New Product",{"v":0,"d":"$0.00"},{"v":0,"d":"$0.00"},null,{"$f":"IF(F814>0,PRODUCT('Labor & Overhead Input'!$H$5/'Materials Catalog Input'!F814),\"0\")","v":"0"},"Enter Description","Category"]
[null,910,"Enter New Product",{"v":0,"d":"$0.00"},{"v":0,"d":"$0.00"},null,{"$f":"IF(F815>0,PRODUCT('Labor & Overhead Input'!$H$5/'Materials Catalog Input'!F815),\"0\")","v":"0"},"Enter Description","Category"]
[null,911,"Enter New Product",{"v":0,"d":"$0.00"},{"v":0,"d":"$0.00"},null,{"$f":"IF(F816>0,PRODUCT('Labor & Overhead Input'!$H$5/'Materials Catalog Input'!F816),\"0\")","v":"0"},"Enter Description","Category"]
[null,912,"Enter New Product",{"v":0,"d":"$0.00"},{"v":0,"d":"$0.00"},null,{"$f":"IF(F817>0,PRODUCT('Labor & Overhead Input'!$H$5/'Materials Catalog Input'!F817),\"0\")","v":"0"},"Enter Description","Category"]
[null,913,"Enter New Product",{"v":0,"d":"$0.00"},{"v":0,"d":"$0.00"},null,{"$f":"IF(F818>0,PRODUCT('Labor & Overhead Input'!$H$5/'Materials Catalog Input'!F818),\"0\")","v":"0"},"Enter Description","Category"]
[null,914,"Enter New Product",{"v":0,"d":"$0.00"},{"v":0,"d":"$0.00"},null,{"$f":"IF(F819>0,PRODUCT('Labor & Overhead Input'!$H$5/'Materials Catalog Input'!F819),\"0\")","v":"0"},"Enter Description","Category"]
[null,915,"Enter New Product",{"v":0,"d":"$0.00"},{"v":0,"d":"$0.00"},null,{"$f":"IF(F820>0,PRODUCT('Labor & Overhead Input'!$H$5/'Materials Catalog Input'!F820),\"0\")","v":"0"},"Enter Description","Category"]
[null,916,"Enter New Product",{"v":0,"d":"$0.00"},{"v":0,"d":"$0.00"},null,{"$f":"IF(F821>0,PRODUCT('Labor & Overhead Input'!$H$5/'Materials Catalog Input'!F821),\"0\")","v":"0"},"Enter Description","Category"]
[null,917,"Enter New Product",{"v":0,"d":"$0.00"},{"v":0,"d":"$0.00"},null,{"$f":"IF(F822>0,PRODUCT('Labor & Overhead Input'!$H$5/'Materials Catalog Input'!F822),\"0\")","v":"0"},"Enter Description","Category"]
[null,918,"Enter New Product",{"v":0,"d":"$0.00"},{"v":0,"d":"$0.00"},null,{"$f":"IF(F823>0,PRODUCT('Labor & Overhead Input'!$H$5/'Materials Catalog Input'!F823),\"0\")","v":"0"},"Enter Description","Category"]
[null,919,"Enter New Product",{"v":0,"d":"$0.00"},{"v":0,"d":"$0.00"},null,{"$f":"IF(F824>0,PRODUCT('Labor & Overhead Input'!$H$5/'Materials Catalog Input'!F824),\"0\")","v":"0"},"Enter Description","Category"]
[null,920,"Enter New Product",{"v":0,"d":"$0.00"},{"v":0,"d":"$0.00"},null,{"$f":"IF(F825>0,PRODUCT('Labor & Overhead Input'!$H$5/'Materials Catalog Input'!F825),\"0\")","v":"0"},"Enter Description","Category"]
[null,921,"Enter New Product",{"v":0,"d":"$0.00"},{"v":0,"d":"$0.00"},null,{"$f":"IF(F826>0,PRODUCT('Labor & Overhead Input'!$H$5/'Materials Catalog Input'!F826),\"0\")","v":"0"},"Enter Description","Category"]
[null,922,"Enter New Product",{"v":0,"d":"$0.00"},{"v":0,"d":"$0.00"},null,{"$f":"IF(F827>0,PRODUCT('Labor & Overhead Input'!$H$5/'Materials Catalog Input'!F827),\"0\")","v":"0"},"Enter Description","Category"]
[null,923,"Enter New Product",{"v":0,"d":"$0.00"},{"v":0,"d":"$0.00"},null,{"$f":"IF(F828>0,PRODUCT('Labor & Overhead Input'!$H$5/'Materials Catalog Input'!F828),\"0\")","v":"0"},"Enter Description","Category"]
[null,924,"Enter New Product",{"v":0,"d":"$0.00"},{"v":0,"d":"$0.00"},null,{"$f":"IF(F829>0,PRODUCT('Labor & Overhead Input'!$H$5/'Materials Catalog Input'!F829),\"0\")","v":"0"},"Enter Description","Category"]
[null,925,"Enter New Product",{"v":0,"d":"$0.00"},{"v":0,"d":"$0.00"},null,{"$f":"IF(F830>0,PRODUCT('Labor & Overhead Input'!$H$5/'Materials Catalog Input'!F830),\"0\")","v":"0"},"Enter Description","Category"]
[null,926,"Enter New Product",{"v":0,"d":"$0.00"},{"v":0,"d":"$0.00"},null,{"$f":"IF(F831>0,PRODUCT('Labor & Overhead Input'!$H$5/'Materials Catalog Input'!F831),\"0\")","v":"0"},"Enter Description","Category"]
[null,927,"Enter New Product",{"v":0,"d":"$0.00"},{"v":0,"d":"$0.00"},null,{"$f":"IF(F832>0,PRODUCT('Labor & Overhead Input'!$H$5/'Materials Catalog Input'!F832),\"0\")","v":"0"},"Enter Description","Category"]
[null,928,"Enter New Product",{"v":0,"d":"$0.00"},{"v":0,"d":"$0.00"},null,{"$f":"IF(F833>0,PRODUCT('Labor & Overhead Input'!$H$5/'Materials Catalog Input'!F833),\"0\")","v":"0"},"Enter Description","Category"]
[null,929,"Enter New Product",{"v":0,"d":"$0.00"},{"v":0,"d":"$0.00"},null,{"$f":"IF(F834>0,PRODUCT('Labor & Overhead Input'!$H$5/'Materials Catalog Input'!F834),\"0\")","v":"0"},"Enter Description","Category"]
[null,930,"Enter New Product",{"v":0,"d":"$0.00"},{"v":0,"d":"$0.00"},null,{"$f":"IF(F835>0,PRODUCT('Labor & Overhead Input'!$H$5/'Materials Catalog Input'!F835),\"0\")","v":"0"},"Enter Description","Category"]
[null,931,"Enter New Product",{"v":0,"d":"$0.00"},{"v":0,"d":"$0.00"},null,{"$f":"IF(F836>0,PRODUCT('Labor & Overhead Input'!$H$5/'Materials Catalog Input'!F836),\"0\")","v":"0"},"Enter Description","Category"]
[null,932,"Enter New Product",{"v":0,"d":"$0.00"},{"$f":"D837*(1+$I$3)","v":{"v":0,"d":"$0.00"}},null,{"$f":"IF(F837>0,PRODUCT('Labor & Overhead Input'!$H$5/'Materials Catalog Input'!F837),\"0\")","v":"0"},"Enter Description","Category"]
[null,933,"Enter New Product",{"v":0,"d":"$0.00"},{"v":0,"d":"$0.00"},null,{"$f":"IF(F838>0,PRODUCT('Labor & Overhead Input'!$H$5/'Materials Catalog Input'!F838),\"0\")","v":"0"},"Enter Description","Category"]
[null,934,"Enter New Product",{"v":0,"d":"$0.00"},{"v":0,"d":"$0.00"},null,{"$f":"IF(F839>0,PRODUCT('Labor & Overhead Input'!$H$5/'Materials Catalog Input'!F839),\"0\")","v":"0"},"Enter Description","Category"]
[null,935,"Enter New Product",{"v":0,"d":"$0.00"},{"v":0,"d":"$0.00"},null,{"$f":"IF(F840>0,PRODUCT('Labor & Overhead Input'!$H$5/'Materials Catalog Input'!F840),\"0\")","v":"0"},"Enter Description","Category"]
[null,936,"Enter New Product",{"v":0,"d":"$0.00"},{"v":0,"d":"$0.00"},null,{"$f":"IF(F841>0,PRODUCT('Labor & Overhead Input'!$H$5/'Materials Catalog Input'!F841),\"0\")","v":"0"},"Enter Description","Category"]
[null,937,"Enter New Product",{"v":0,"d":"$0.00"},{"v":0,"d":"$0.00"},null,{"$f":"IF(F842>0,PRODUCT('Labor & Overhead Input'!$H$5/'Materials Catalog Input'!F842),\"0\")","v":"0"},"Enter Description","Category"]
[null,938,"Enter New Product",{"v":0,"d":"$0.00"},{"v":0,"d":"$0.00"},null,{"$f":"IF(F843>0,PRODUCT('Labor & Overhead Input'!$H$5/'Materials Catalog Input'!F843),\"0\")","v":"0"},"Enter Description","Category"]
[null,939,"Enter New Product",{"v":0,"d":"$0.00"},{"v":0,"d":"$0.00"},null,{"$f":"IF(F844>0,PRODUCT('Labor & Overhead Input'!$H$5/'Materials Catalog Input'!F844),\"0\")","v":"0"},"Enter Description","Category"]
[null,940,"Enter New Product",{"v":0,"d":"$0.00"},{"v":0,"d":"$0.00"},null,{"$f":"IF(F845>0,PRODUCT('Labor & Overhead Input'!$H$5/'Materials Catalog Input'!F845),\"0\")","v":"0"},"Enter Description","Category"]
[null,941,"Enter New Product",{"v":0,"d":"$0.00"},{"v":0,"d":"$0.00"},null,{"$f":"IF(F846>0,PRODUCT('Labor & Overhead Input'!$H$5/'Materials Catalog Input'!F846),\"0\")","v":"0"},"Enter Description","Category"]
[null,942,"Enter New Product",{"v":0,"d":"$0.00"},{"v":0,"d":"$0.00"},null,{"$f":"IF(F847>0,PRODUCT('Labor & Overhead Input'!$H$5/'Materials Catalog Input'!F847),\"0\")","v":"0"},"Enter Description","Category"]
[null,943,"Enter New Product",{"v":0,"d":"$0.00"},{"v":0,"d":"$0.00"},null,{"$f":"IF(F848>0,PRODUCT('Labor & Overhead Input'!$H$5/'Materials Catalog Input'!F848),\"0\")","v":"0"},"Enter Description","Category"]
[null,944,"Enter New Product",{"v":0,"d":"$0.00"},{"v":0,"d":"$0.00"},null,{"$f":"IF(F849>0,PRODUCT('Labor & Overhead Input'!$H$5/'Materials Catalog Input'!F849),\"0\")","v":"0"},"Enter Description","Category"]
[null,945,"Enter New Product",{"v":0,"d":"$0.00"},{"v":0,"d":"$0.00"},null,{"$f":"IF(F850>0,PRODUCT('Labor & Overhead Input'!$H$5/'Materials Catalog Input'!F850),\"0\")","v":"0"},"Enter Description","Category"]
[null,946,"Enter New Product",{"v":0,"d":"$0.00"},{"v":0,"d":"$0.00"},null,{"$f":"IF(F851>0,PRODUCT('Labor & Overhead Input'!$H$5/'Materials Catalog Input'!F851),\"0\")","v":"0"},"Enter Description","Category"]
[null,947,"Enter New Product",{"v":0,"d":"$0.00"},{"v":0,"d":"$0.00"},null,{"$f":"IF(F852>0,PRODUCT('Labor & Overhead Input'!$H$5/'Materials Catalog Input'!F852),\"0\")","v":"0"},"Enter Description","Category"]
[null,948,"Enter New Product",{"v":0,"d":"$0.00"},{"v":0,"d":"$0.00"},null,{"$f":"IF(F853>0,PRODUCT('Labor & Overhead Input'!$H$5/'Materials Catalog Input'!F853),\"0\")","v":"0"},"Enter Description","Category"]
[null,949,"Enter New Product",{"v":0,"d":"$0.00"},{"v":0,"d":"$0.00"},null,{"$f":"IF(F854>0,PRODUCT('Labor & Overhead Input'!$H$5/'Materials Catalog Input'!F854),\"0\")","v":"0"},"Enter Description","Category"]
[null,950,"Enter New Product",{"v":0,"d":"$0.00"},{"v":0,"d":"$0.00"},null,{"$f":"IF(F855>0,PRODUCT('Labor & Overhead Input'!$H$5/'Materials Catalog Input'!F855),\"0\")","v":"0"},"Enter Description","Category"]
[null,951,"Enter New Product",{"v":0,"d":"$0.00"},{"v":0,"d":"$0.00"},null,{"$f":"IF(F856>0,PRODUCT('Labor & Overhead Input'!$H$5/'Materials Catalog Input'!F856),\"0\")","v":"0"},"Enter Description","Category"]
[null,952,"Enter New Product",{"v":0,"d":"$0.00"},{"v":0,"d":"$0.00"},null,{"$f":"IF(F857>0,PRODUCT('Labor & Overhead Input'!$H$5/'Materials Catalog Input'!F857),\"0\")","v":"0"},"Enter Description","Category"]
[null,953,"Enter New Product",{"v":0,"d":"$0.00"},{"v":0,"d":"$0.00"},null,{"$f":"IF(F858>0,PRODUCT('Labor & Overhead Input'!$H$5/'Materials Catalog Input'!F858),\"0\")","v":"0"},"Enter Description","Category"]
[null,954,"Enter New Product",{"v":0,"d":"$0.00"},{"v":0,"d":"$0.00"},null,{"$f":"IF(F859>0,PRODUCT('Labor & Overhead Input'!$H$5/'Materials Catalog Input'!F859),\"0\")","v":"0"},"Enter Description","Category"]
[null,955,"Enter New Product",{"v":0,"d":"$0.00"},{"v":0,"d":"$0.00"},null,{"$f":"IF(F860>0,PRODUCT('Labor & Overhead Input'!$H$5/'Materials Catalog Input'!F860),\"0\")","v":"0"},"Enter Description","Category"]
[null,956,"Enter New Product",{"v":0,"d":"$0.00"},{"v":0,"d":"$0.00"},null,{"$f":"IF(F861>0,PRODUCT('Labor & Overhead Input'!$H$5/'Materials Catalog Input'!F861),\"0\")","v":"0"},"Enter Description","Category"]
[null,957,"Enter New Product",{"v":0,"d":"$0.00"},{"v":0,"d":"$0.00"},null,{"$f":"IF(F862>0,PRODUCT('Labor & Overhead Input'!$H$5/'Materials Catalog Input'!F862),\"0\")","v":"0"},"Enter Description","Category"]
[null,958,"Enter New Product",{"v":0,"d":"$0.00"},{"v":0,"d":"$0.00"},null,{"$f":"IF(F863>0,PRODUCT('Labor & Overhead Input'!$H$5/'Materials Catalog Input'!F863),\"0\")","v":"0"},"Enter Description","Category"]
[null,959,"Enter New Product",{"v":0,"d":"$0.00"},{"v":0,"d":"$0.00"},null,{"$f":"IF(F864>0,PRODUCT('Labor & Overhead Input'!$H$5/'Materials Catalog Input'!F864),\"0\")","v":"0"},"Enter Description","Category"]
[null,960,"Enter New Product",{"v":0,"d":"$0.00"},{"v":0,"d":"$0.00"},null,{"$f":"IF(F865>0,PRODUCT('Labor & Overhead Input'!$H$5/'Materials Catalog Input'!F865),\"0\")","v":"0"},"Enter Description","Category"]
[null,961,"Enter New Product",{"v":0,"d":"$0.00"},{"v":0,"d":"$0.00"},null,{"$f":"IF(F866>0,PRODUCT('Labor & Overhead Input'!$H$5/'Materials Catalog Input'!F866),\"0\")","v":"0"},"Enter Description","Category"]
[null,962,"Enter New Product",{"v":0,"d":"$0.00"},{"v":0,"d":"$0.00"},null,{"$f":"IF(F867>0,PRODUCT('Labor & Overhead Input'!$H$5/'Materials Catalog Input'!F867),\"0\")","v":"0"},"Enter Description","Category"]
[null,963,"Enter New Product",{"v":0,"d":"$0.00"},{"v":0,"d":"$0.00"},null,{"$f":"IF(F868>0,PRODUCT('Labor & Overhead Input'!$H$5/'Materials Catalog Input'!F868),\"0\")","v":"0"},"Enter Description","Category"]
[null,964,"Enter New Product",{"v":0,"d":"$0.00"},{"v":0,"d":"$0.00"},null,{"$f":"IF(F869>0,PRODUCT('Labor & Overhead Input'!$H$5/'Materials Catalog Input'!F869),\"0\")","v":"0"},"Enter Description","Category"]
[null,965,"Enter New Product",{"v":0,"d":"$0.00"},{"v":0,"d":"$0.00"},null,{"$f":"IF(F870>0,PRODUCT('Labor & Overhead Input'!$H$5/'Materials Catalog Input'!F870),\"0\")","v":"0"},"Enter Description","Category"]
[null,966,"Enter New Product",{"v":0,"d":"$0.00"},{"v":0,"d":"$0.00"},null,{"$f":"IF(F871>0,PRODUCT('Labor & Overhead Input'!$H$5/'Materials Catalog Input'!F871),\"0\")","v":"0"},"Enter Description","Category"]
[null,967,"Enter New Product",{"v":0,"d":"$0.00"},{"v":0,"d":"$0.00"},null,{"$f":"IF(F872>0,PRODUCT('Labor & Overhead Input'!$H$5/'Materials Catalog Input'!F872),\"0\")","v":"0"},"Enter Description","Category"]
[null,968,"Enter New Product",{"v":0,"d":"$0.00"},{"v":0,"d":"$0.00"},null,{"$f":"IF(F873>0,PRODUCT('Labor & Overhead Input'!$H$5/'Materials Catalog Input'!F873),\"0\")","v":"0"},"Enter Description","Category"]
[null,969,"Enter New Product",{"v":0,"d":"$0.00"},{"v":0,"d":"$0.00"},null,{"$f":"IF(F874>0,PRODUCT('Labor & Overhead Input'!$H$5/'Materials Catalog Input'!F874),\"0\")","v":"0"},"Enter Description","Category"]
[null,970,"Enter New Product",{"v":0,"d":"$0.00"},{"v":0,"d":"$0.00"},null,{"$f":"IF(F875>0,PRODUCT('Labor & Overhead Input'!$H$5/'Materials Catalog Input'!F875),\"0\")","v":"0"},"Enter Description","Category"]
[null,971,"Enter New Product",{"v":0,"d":"$0.00"},{"v":0,"d":"$0.00"},null,{"$f":"IF(F876>0,PRODUCT('Labor & Overhead Input'!$H$5/'Materials Catalog Input'!F876),\"0\")","v":"0"},"Enter Description","Category"]
[null,972,"Enter New Product",{"v":0,"d":"$0.00"},{"v":0,"d":"$0.00"},null,{"$f":"IF(F877>0,PRODUCT('Labor & Overhead Input'!$H$5/'Materials Catalog Input'!F877),\"0\")","v":"0"},"Enter Description","Category"]
[null,973,"Enter New Product",{"v":0,"d":"$0.00"},{"v":0,"d":"$0.00"},null,{"$f":"IF(F878>0,PRODUCT('Labor & Overhead Input'!$H$5/'Materials Catalog Input'!F878),\"0\")","v":"0"},"Enter Description","Category"]
[null,974,"Enter New Product",{"v":0,"d":"$0.00"},{"v":0,"d":"$0.00"},null,{"$f":"IF(F879>0,PRODUCT('Labor & Overhead Input'!$H$5/'Materials Catalog Input'!F879),\"0\")","v":"0"},"Enter Description","Category"]
[null,975,"Enter New Product",{"v":0,"d":"$0.00"},{"v":0,"d":"$0.00"},null,{"$f":"IF(F880>0,PRODUCT('Labor & Overhead Input'!$H$5/'Materials Catalog Input'!F880),\"0\")","v":"0"},"Enter Description","Category"]
[null,976,"Enter New Product",{"v":0,"d":"$0.00"},{"v":0,"d":"$0.00"},null,{"$f":"IF(F881>0,PRODUCT('Labor & Overhead Input'!$H$5/'Materials Catalog Input'!F881),\"0\")","v":"0"},"Enter Description","Category"]
[null,977,"Enter New Product",{"v":0,"d":"$0.00"},{"v":0,"d":"$0.00"},null,{"$f":"IF(F882>0,PRODUCT('Labor & Overhead Input'!$H$5/'Materials Catalog Input'!F882),\"0\")","v":"0"},"Enter Description","Category"]
[null,978,"Enter New Product",{"v":0,"d":"$0.00"},{"v":0,"d":"$0.00"},null,{"$f":"IF(F883>0,PRODUCT('Labor & Overhead Input'!$H$5/'Materials Catalog Input'!F883),\"0\")","v":"0"},"Enter Description","Category"]
[null,979,"Enter New Product",{"v":0,"d":"$0.00"},{"v":0,"d":"$0.00"},null,{"$f":"IF(F884>0,PRODUCT('Labor & Overhead Input'!$H$5/'Materials Catalog Input'!F884),\"0\")","v":"0"},"Enter Description","Category"]
[null,980,"Enter New Product",{"v":0,"d":"$0.00"},{"v":0,"d":"$0.00"},null,{"$f":"IF(F885>0,PRODUCT('Labor & Overhead Input'!$H$5/'Materials Catalog Input'!F885),\"0\")","v":"0"},"Enter Description","Category"]
[null,981,"Enter New Product",{"v":0,"d":"$0.00"},{"v":0,"d":"$0.00"},null,{"$f":"IF(F886>0,PRODUCT('Labor & Overhead Input'!$H$5/'Materials Catalog Input'!F886),\"0\")","v":"0"},"Enter Description","Category"]
[null,982,"Enter New Product",{"v":0,"d":"$0.00"},{"v":0,"d":"$0.00"},null,{"$f":"IF(F887>0,PRODUCT('Labor & Overhead Input'!$H$5/'Materials Catalog Input'!F887),\"0\")","v":"0"},"Enter Description","Category"]
[null,983,"Enter New Product",{"v":0,"d":"$0.00"},{"v":0,"d":"$0.00"},null,{"$f":"IF(F888>0,PRODUCT('Labor & Overhead Input'!$H$5/'Materials Catalog Input'!F888),\"0\")","v":"0"},"Enter Description","Category"]
[null,984,"Enter New Product",{"v":0,"d":"$0.00"},{"v":0,"d":"$0.00"},null,{"$f":"IF(F889>0,PRODUCT('Labor & Overhead Input'!$H$5/'Materials Catalog Input'!F889),\"0\")","v":"0"},"Enter Description","Category"]
[null,985,"Enter New Product",{"v":0,"d":"$0.00"},{"v":0,"d":"$0.00"},null,{"$f":"IF(F890>0,PRODUCT('Labor & Overhead Input'!$H$5/'Materials Catalog Input'!F890),\"0\")","v":"0"},"Enter Description","Category"]
[null,986,"Enter New Product",{"v":0,"d":"$0.00"},{"v":0,"d":"$0.00"},null,{"$f":"IF(F891>0,PRODUCT('Labor & Overhead Input'!$H$5/'Materials Catalog Input'!F891),\"0\")","v":"0"},"Enter Description","Category"]
[null,987,"Enter New Product",{"v":0,"d":"$0.00"},{"v":0,"d":"$0.00"},null,{"$f":"IF(F892>0,PRODUCT('Labor & Overhead Input'!$H$5/'Materials Catalog Input'!F892),\"0\")","v":"0"},"Enter Description","Category"]
[null,988,"Enter New Product",{"v":0,"d":"$0.00"},{"v":0,"d":"$0.00"},null,{"$f":"IF(F893>0,PRODUCT('Labor & Overhead Input'!$H$5/'Materials Catalog Input'!F893),\"0\")","v":"0"},"Enter Description","Category"]
[null,989,"Enter New Product",{"v":0,"d":"$0.00"},{"v":0,"d":"$0.00"},null,{"$f":"IF(F894>0,PRODUCT('Labor & Overhead Input'!$H$5/'Materials Catalog Input'!F894),\"0\")","v":"0"},"Enter Description","Category"]
[null,990,"Enter New Product",{"v":0,"d":"$0.00"},{"v":0,"d":"$0.00"},null,{"$f":"IF(F895>0,PRODUCT('Labor & Overhead Input'!$H$5/'Materials Catalog Input'!F895),\"0\")","v":"0"},"Enter Description","Category"]
[null,991,"Enter New Product",{"v":0,"d":"$0.00"},{"v":0,"d":"$0.00"},null,{"$f":"IF(F896>0,PRODUCT('Labor & Overhead Input'!$H$5/'Materials Catalog Input'!F896),\"0\")","v":"0"},"Enter Description","Category"]
[null,992,"Enter New Product",{"v":0,"d":"$0.00"},{"v":0,"d":"$0.00"},null,{"$f":"IF(F897>0,PRODUCT('Labor & Overhead Input'!$H$5/'Materials Catalog Input'!F897),\"0\")","v":"0"},"Enter Description","Category"]
[null,993,"Enter New Product",{"v":0,"d":"$0.00"},{"v":0,"d":"$0.00"},null,{"$f":"IF(F898>0,PRODUCT('Labor & Overhead Input'!$H$5/'Materials Catalog Input'!F898),\"0\")","v":"0"},"Enter Description","Category"]
[null,994,"Enter New Product",{"v":0,"d":"$0.00"},{"v":0,"d":"$0.00"},null,{"$f":"IF(F899>0,PRODUCT('Labor & Overhead Input'!$H$5/'Materials Catalog Input'!F899),\"0\")","v":"0"},"Enter Description","Category"]
[null,995,"Enter New Product",{"v":0,"d":"$0.00"},{"v":0,"d":"$0.00"},null,{"$f":"IF(F900>0,PRODUCT('Labor & Overhead Input'!$H$5/'Materials Catalog Input'!F900),\"0\")","v":"0"},"Enter Description","Category"]
[null,996,"Enter New Product",{"v":0,"d":"$0.00"},{"$f":"D901*(1+$I$3)","v":{"v":0,"d":"$0.00"}},null,{"$f":"IF(F901>0,PRODUCT('Labor & Overhead Input'!$H$5/'Materials Catalog Input'!F901),\"0\")","v":"0"},"Enter Description","Category"]
[null,997,"Enter New Product",{"v":0,"d":"$0.00"},{"$f":"D902*(1+$I$3)","v":{"v":0,"d":"$0.00"}},null,{"$f":"IF(F902>0,PRODUCT('Labor & Overhead Input'!$H$5/'Materials Catalog Input'!F902),\"0\")","v":"0"},"Enter Description","Category"]
[null,998,"Enter New Product",{"v":0,"d":"$0.00"},{"$f":"D903*(1+$I$3)","v":{"v":0,"d":"$0.00"}},null,{"$f":"IF(F903>0,PRODUCT('Labor & Overhead Input'!$H$5/'Materials Catalog Input'!F903),\"0\")","v":"0"},"Enter Description","Category"]
[null,999,"Enter New Product",{"v":0,"d":"$0.00"},{"$f":"D904*(1+$I$3)","v":{"v":0,"d":"$0.00"}},null,{"$f":"IF(F904>0,PRODUCT('Labor & Overhead Input'!$H$5/'Materials Catalog Input'!F904),\"0\")","v":"0"},"Enter Description","Category"]